| Back to Multiple platform build/check report for BioC 3.11 |
|
This page was generated on 2020-01-16 13:49:02 -0500 (Thu, 16 Jan 2020).
| Package 1192/1818 | Hostname | OS / Arch | INSTALL | BUILD | CHECK | BUILD BIN | ||||||
| openPrimeR 1.9.1 Matthias Döring
| malbec2 | Linux (Ubuntu 18.04.3 LTS) / x86_64 | OK | OK | OK | |||||||
| tokay2 | Windows Server 2012 R2 Standard / x64 | OK | OK | OK | OK | |||||||
| celaya2 | OS X 10.11.6 El Capitan / x86_64 | OK | OK | [ OK ] | OK |
| Package: openPrimeR |
| Version: 1.9.1 |
| Command: /Library/Frameworks/R.framework/Versions/Current/Resources/bin/R CMD check --install=check:openPrimeR.install-out.txt --library=/Library/Frameworks/R.framework/Versions/Current/Resources/library --no-vignettes --timings openPrimeR_1.9.1.tar.gz |
| StartedAt: 2020-01-16 07:09:28 -0500 (Thu, 16 Jan 2020) |
| EndedAt: 2020-01-16 07:19:55 -0500 (Thu, 16 Jan 2020) |
| EllapsedTime: 626.9 seconds |
| RetCode: 0 |
| Status: OK |
| CheckDir: openPrimeR.Rcheck |
| Warnings: 0 |
##############################################################################
##############################################################################
###
### Running command:
###
### /Library/Frameworks/R.framework/Versions/Current/Resources/bin/R CMD check --install=check:openPrimeR.install-out.txt --library=/Library/Frameworks/R.framework/Versions/Current/Resources/library --no-vignettes --timings openPrimeR_1.9.1.tar.gz
###
##############################################################################
##############################################################################
* using log directory ‘/Users/biocbuild/bbs-3.11-bioc/meat/openPrimeR.Rcheck’
* using R Under development (unstable) (2019-12-14 r77572)
* using platform: x86_64-apple-darwin15.6.0 (64-bit)
* using session charset: UTF-8
* using option ‘--no-vignettes’
* checking for file ‘openPrimeR/DESCRIPTION’ ... OK
* this is package ‘openPrimeR’ version ‘1.9.1’
* package encoding: UTF-8
* checking package namespace information ... OK
* checking package dependencies ... OK
* checking if this is a source package ... OK
* checking if there is a namespace ... OK
* checking for hidden files and directories ... NOTE
Found the following hidden files and directories:
.travis.yml
These were most likely included in error. See section ‘Package
structure’ in the ‘Writing R Extensions’ manual.
* checking for portable file names ... OK
* checking for sufficient/correct file permissions ... OK
* checking whether package ‘openPrimeR’ can be installed ... OK
* checking installed package size ... NOTE
installed size is 12.1Mb
sub-directories of 1Mb or more:
R 1.3Mb
extdata 10.2Mb
* checking package directory ... OK
* checking ‘build’ directory ... OK
* checking DESCRIPTION meta-information ... OK
* checking top-level files ... OK
* checking for left-over files ... OK
* checking index information ... OK
* checking package subdirectories ... OK
* checking R files for non-ASCII characters ... OK
* checking R files for syntax errors ... OK
* checking whether the package can be loaded ... OK
* checking whether the package can be loaded with stated dependencies ... OK
* checking whether the package can be unloaded cleanly ... OK
* checking whether the namespace can be loaded with stated dependencies ... OK
* checking whether the namespace can be unloaded cleanly ... OK
* checking dependencies in R code ... NOTE
Namespace in Imports field not imported from: ‘tinytex’
All declared Imports should be used.
* checking S3 generic/method consistency ... OK
* checking replacement functions ... OK
* checking foreign function calls ... OK
* checking R code for possible problems ... OK
* checking Rd files ... OK
* checking Rd metadata ... OK
* checking Rd cross-references ... OK
* checking for missing documentation entries ... OK
* checking for code/documentation mismatches ... OK
* checking Rd \usage sections ... OK
* checking Rd contents ... OK
* checking for unstated dependencies in examples ... OK
* checking contents of ‘data’ directory ... OK
* checking data for non-ASCII characters ... OK
* checking data for ASCII and uncompressed saves ... OK
* checking R/sysdata.rda ... OK
* checking files in ‘vignettes’ ... OK
* checking examples ... OK
Examples with CPU (user + system) or elapsed time > 5s
user system elapsed
Output 65.477 71.000 91.376
PrimerDesign 45.881 20.700 62.471
Plots 27.179 20.679 39.897
PrimerEval 26.242 18.567 31.791
Settings 2.307 2.588 5.628
* checking for unstated dependencies in ‘tests’ ... OK
* checking tests ...
Running ‘testthat.R’
OK
* checking for unstated dependencies in vignettes ... OK
* checking package vignettes in ‘inst/doc’ ... OK
* checking running R code from vignettes ... SKIPPED
* checking re-building of vignette outputs ... SKIPPED
* checking PDF version of manual ... OK
* DONE
Status: 3 NOTEs
See
‘/Users/biocbuild/bbs-3.11-bioc/meat/openPrimeR.Rcheck/00check.log’
for details.
openPrimeR.Rcheck/00install.out
############################################################################## ############################################################################## ### ### Running command: ### ### /Library/Frameworks/R.framework/Versions/Current/Resources/bin/R CMD INSTALL openPrimeR ### ############################################################################## ############################################################################## * installing to library ‘/Library/Frameworks/R.framework/Versions/4.0/Resources/library’ * installing *source* package ‘openPrimeR’ ... ** using staged installation ** R ** data ** inst ** byte-compile and prepare package for lazy loading ** help *** installing help indices ** building package indices ** installing vignettes ** testing if installed package can be loaded from temporary location The number of cores for was set to '2' by 'parallel_setup()'. ** testing if installed package can be loaded from final location The number of cores for was set to '2' by 'parallel_setup()'. ** testing if installed package keeps a record of temporary installation path * DONE (openPrimeR)
openPrimeR.Rcheck/tests/testthat.Rout
R Under development (unstable) (2019-12-14 r77572) -- "Unsuffered Consequences"
Copyright (C) 2019 The R Foundation for Statistical Computing
Platform: x86_64-apple-darwin15.6.0 (64-bit)
R is free software and comes with ABSOLUTELY NO WARRANTY.
You are welcome to redistribute it under certain conditions.
Type 'license()' or 'licence()' for distribution details.
R is a collaborative project with many contributors.
Type 'contributors()' for more information and
'citation()' on how to cite R or R packages in publications.
Type 'demo()' for some demos, 'help()' for on-line help, or
'help.start()' for an HTML browser interface to help.
Type 'q()' to quit R.
> require(testthat)
Loading required package: testthat
> require(openPrimeR)
Loading required package: openPrimeR
There are missing/non-functioning external tools.
To use the full potential of openPrimeR, please make sure
that the required versions of the speciied tools are
installed and that they are functional:
o MELTING (http://www.ebi.ac.uk/biomodels/tools/melting/)
o OligoArrayAux (http://unafold.rna.albany.edu/OligoArrayAux.php)
o MAFFT (http://mafft.cbrc.jp/alignment/software/)
The number of cores for was set to '2' by 'parallel_setup()'.
> #test_package("openPrimeR")
> test_check("openPrimeR")
══ testthat results ═══════════════════════════════════════════════════════════
[ OK: 1474 | SKIPPED: 7 | WARNINGS: 1 | FAILED: 0 ]
>
> proc.time()
user system elapsed
114.648 48.429 134.033
openPrimeR.Rcheck/openPrimeR-Ex.timings
| name | user | system | elapsed | |
| AnalysisStats | 4.112 | 0.192 | 4.419 | |
| Data | 1.364 | 0.136 | 1.583 | |
| Input | 2.696 | 0.224 | 3.093 | |
| Output | 65.477 | 71.000 | 91.376 | |
| Plots | 27.179 | 20.679 | 39.897 | |
| PrimerDesign | 45.881 | 20.700 | 62.471 | |
| PrimerEval | 26.242 | 18.567 | 31.791 | |
| Primers-method | 0.045 | 0.056 | 0.100 | |
| Scoring | 0.121 | 0.033 | 0.153 | |
| Settings | 2.307 | 2.588 | 5.628 | |
| Templates-method | 0.052 | 0.034 | 0.087 | |
| TemplatesFunctions | 0.624 | 0.188 | 0.819 | |
| runTutorial | 0.000 | 0.001 | 0.001 | |