| Back to Multiple platform build/check report for BioC 3.11 | 
  | 
This page was generated on 2020-10-17 11:57:19 -0400 (Sat, 17 Oct 2020).
| TO THE DEVELOPERS/MAINTAINERS OF THE openPrimeR PACKAGE: Please make sure to use the following settings in order to reproduce any error or warning you see on this page. | 
| Package 1237/1905 | Hostname | OS / Arch | INSTALL | BUILD | CHECK | BUILD BIN | ||||||
| openPrimeR 1.10.4 Matthias Döring 
  | malbec2 | Linux (Ubuntu 18.04.4 LTS) / x86_64 | OK | OK | OK | |||||||
| tokay2 | Windows Server 2012 R2 Standard / x64 | OK | OK | OK | [ OK ] | |||||||
| machv2 | macOS 10.14.6 Mojave / x86_64 | OK | OK | OK | OK | 
| Package: openPrimeR | 
| Version: 1.10.4 | 
| Command: rm -rf openPrimeR.buildbin-libdir && mkdir openPrimeR.buildbin-libdir && C:\Users\biocbuild\bbs-3.11-bioc\R\bin\R.exe CMD INSTALL --merge-multiarch --build --library=openPrimeR.buildbin-libdir openPrimeR_1.10.4.tar.gz | 
| StartedAt: 2020-10-17 11:11:35 -0400 (Sat, 17 Oct 2020) | 
| EndedAt: 2020-10-17 11:12:22 -0400 (Sat, 17 Oct 2020) | 
| EllapsedTime: 46.8 seconds | 
| RetCode: 0 | 
| Status: OK | 
| PackageFile: openPrimeR_1.10.4.zip | 
| PackageFileSize: 2.751 MiB | 
##############################################################################
##############################################################################
###
### Running command:
###
###   rm -rf openPrimeR.buildbin-libdir && mkdir openPrimeR.buildbin-libdir && C:\Users\biocbuild\bbs-3.11-bioc\R\bin\R.exe CMD INSTALL --merge-multiarch --build --library=openPrimeR.buildbin-libdir openPrimeR_1.10.4.tar.gz
###
##############################################################################
##############################################################################
install for i386
* installing *source* package 'openPrimeR' ...
** using staged installation
** R
** data
** inst
** byte-compile and prepare package for lazy loading
** help
*** installing help indices
  converting help for package 'openPrimeR'
    finding HTML links ... done
    AnalysisStats                           html  
    Data                                    html  
    Input                                   html  
    Output                                  html  
    Plots                                   html  
    PrimerDesign                            html  
    PrimerEval                              html  
    Primers-method                          html  
    Scoring                                 html  
    Settings                                html  
    Templates-method                        html  
    TemplatesFunctions                      html  
    check_cvg_constraints                   html  
    create_report-Primers-Templates-method
                                            html  
    create_report-list-list-method          html  
    filterLimits-methods                    html  
    filters-methods                         html  
    get_cvg_stats-Primers-method            html  
    get_cvg_stats-list-method               html  
    openPrimeR-package                      html  
    plot_constraint-Primers-method          html  
    plot_constraint-list-method             html  
    plot_constraint_deviation-Primers-method
                                            html  
    plot_constraint_deviation-list-method   html  
    plot_constraint_fulfillment-Primers-method
                                            html  
    plot_constraint_fulfillment-list-method
                                            html  
    plot_cvg_constraints-Primers-method     html  
    plot_cvg_constraints-list-method        html  
    plot_primer_binding_regions-Primers-Templates-method
                                            html  
    plot_primer_binding_regions-list-list-method
                                            html  
    plot_primer_cvg-Primers-Templates-method
                                            html  
    plot_primer_cvg-list-list-method        html  
    plot_template_cvg-Primers-Templates-method
                                            html  
    plot_template_cvg-list-list-method      html  
    runTutorial                             html  
** building package indices
** installing vignettes
** testing if installed package can be loaded from temporary location
Melting not available
ViennaRNA not available
OligoArrayAux not available
** testing if installed package can be loaded from final location
Melting not available
ViennaRNA not available
OligoArrayAux not available
** testing if installed package keeps a record of temporary installation path
install for x64
* installing *source* package 'openPrimeR' ...
** testing if installed package can be loaded
Melting not available
ViennaRNA not available
OligoArrayAux not available
* MD5 sums
packaged installation of 'openPrimeR' as openPrimeR_1.10.4.zip
* DONE (openPrimeR)