| Back to Multiple platform build/check report for BioC 3.11 | 
  | 
This page was generated on 2020-01-16 13:36:25 -0500 (Thu, 16 Jan 2020).
| Package 922/1818 | Hostname | OS / Arch | INSTALL | BUILD | CHECK | BUILD BIN | ||||||
| lpNet 2.19.0 Lars Kaderali 
  | malbec2 | Linux (Ubuntu 18.04.3 LTS) / x86_64 | OK | OK | WARNINGS | |||||||
| tokay2 | Windows Server 2012 R2 Standard / x64 | OK | OK | WARNINGS | OK | |||||||
| celaya2 | OS X 10.11.6 El Capitan / x86_64 | OK | [ OK ] | WARNINGS | OK | 
| Package: lpNet | 
| Version: 2.19.0 | 
| Command: /Library/Frameworks/R.framework/Versions/Current/Resources/bin/R CMD build --keep-empty-dirs --no-resave-data lpNet | 
| StartedAt: 2020-01-15 21:05:43 -0500 (Wed, 15 Jan 2020) | 
| EndedAt: 2020-01-15 21:07:35 -0500 (Wed, 15 Jan 2020) | 
| EllapsedTime: 112.0 seconds | 
| RetCode: 0 | 
| Status: OK | 
| PackageFile: lpNet_2.19.0.tar.gz | 
| PackageFileSize: 205.1 KiB | 
##############################################################################
##############################################################################
###
### Running command:
###
###   /Library/Frameworks/R.framework/Versions/Current/Resources/bin/R CMD build --keep-empty-dirs --no-resave-data lpNet
###
##############################################################################
##############################################################################
* checking for file ‘lpNet/DESCRIPTION’ ... OK
* preparing ‘lpNet’:
* checking DESCRIPTION meta-information ... OK
* installing the package to build vignettes
* creating vignettes ... OK
Warning: ‘inst/doc’ files
    ‘vignette_lpNet.Rnw’, ‘vignette_lpNet.pdf’, ‘vignette_lpNet.R’
  ignored as vignettes have been rebuilt.
  Run R CMD build with --no-build-vignettes to prevent rebuilding.
* checking for LF line-endings in source and make files and shell scripts
* checking for empty or unneeded directories
* building ‘lpNet_2.19.0.tar.gz’