| Back to Multiple platform build/check report for BioC 3.11 | 
  | 
This page was generated on 2020-10-17 11:56:58 -0400 (Sat, 17 Oct 2020).
| TO THE DEVELOPERS/MAINTAINERS OF THE lpNet PACKAGE: Please make sure to use the following settings in order to reproduce any error or warning you see on this page. | 
| Package 958/1905 | Hostname | OS / Arch | INSTALL | BUILD | CHECK | BUILD BIN | ||||||
| lpNet 2.20.0 Lars Kaderali 
  | malbec2 | Linux (Ubuntu 18.04.4 LTS) / x86_64 | OK | OK | WARNINGS | |||||||
| tokay2 | Windows Server 2012 R2 Standard / x64 | OK | OK | WARNINGS | [ OK ] | |||||||
| machv2 | macOS 10.14.6 Mojave / x86_64 | OK | OK | WARNINGS | OK | 
| Package: lpNet | 
| Version: 2.20.0 | 
| Command: rm -rf lpNet.buildbin-libdir && mkdir lpNet.buildbin-libdir && C:\Users\biocbuild\bbs-3.11-bioc\R\bin\R.exe CMD INSTALL --merge-multiarch --build --library=lpNet.buildbin-libdir lpNet_2.20.0.tar.gz | 
| StartedAt: 2020-10-17 10:53:59 -0400 (Sat, 17 Oct 2020) | 
| EndedAt: 2020-10-17 10:54:46 -0400 (Sat, 17 Oct 2020) | 
| EllapsedTime: 47.1 seconds | 
| RetCode: 0 | 
| Status: OK | 
| PackageFile: lpNet_2.20.0.zip | 
| PackageFileSize: 328.7 KiB | 
##############################################################################
##############################################################################
###
### Running command:
###
###   rm -rf lpNet.buildbin-libdir && mkdir lpNet.buildbin-libdir && C:\Users\biocbuild\bbs-3.11-bioc\R\bin\R.exe CMD INSTALL --merge-multiarch --build --library=lpNet.buildbin-libdir lpNet_2.20.0.tar.gz
###
##############################################################################
##############################################################################
install for i386
* installing *source* package 'lpNet' ...
** using staged installation
** R
** inst
** byte-compile and prepare package for lazy loading
Warning message:
Package 'nem' is deprecated and will be removed from Bioconductor
  version 3.12 
** help
*** installing help indices
  converting help for package 'lpNet'
    finding HTML links ... done
    CV                                      html  
    calcActivation                          html  
    calcPrediction                          html  
    calcRangeLambda                         html  
    doILP                                   html  
    generateTimeSeriesNetStates             html  
    getAdja                                 html  
    getBaseline                             html  
    getEdgeAnnot                            html  
    getObsMat                               html  
    getSampleAdja                           html  
    lpNet-package                           html  
    summarizeRepl                           html  
** building package indices
** installing vignettes
** testing if installed package can be loaded from temporary location
Warning: Package 'nem' is deprecated and will be removed from Bioconductor
  version 3.12
** testing if installed package can be loaded from final location
Warning: Package 'nem' is deprecated and will be removed from Bioconductor
  version 3.12
** testing if installed package keeps a record of temporary installation path
install for x64
* installing *source* package 'lpNet' ...
** testing if installed package can be loaded
Warning: Package 'nem' is deprecated and will be removed from Bioconductor
  version 3.12
* MD5 sums
packaged installation of 'lpNet' as lpNet_2.20.0.zip
* DONE (lpNet)