| Back to Multiple platform build/check report for BioC 3.11 |
|
This page was generated on 2020-01-16 13:51:07 -0500 (Thu, 16 Jan 2020).
| Package 828/1818 | Hostname | OS / Arch | INSTALL | BUILD | CHECK | BUILD BIN | ||||||
| igvR 1.7.8 Paul Shannon
| malbec2 | Linux (Ubuntu 18.04.3 LTS) / x86_64 | OK | OK | WARNINGS | |||||||
| tokay2 | Windows Server 2012 R2 Standard / x64 | OK | OK | WARNINGS | OK | |||||||
| celaya2 | OS X 10.11.6 El Capitan / x86_64 | [ OK ] | OK | WARNINGS | OK |
| Package: igvR |
| Version: 1.7.8 |
| Command: /Library/Frameworks/R.framework/Versions/Current/Resources/bin/R CMD INSTALL igvR |
| StartedAt: 2020-01-15 19:34:47 -0500 (Wed, 15 Jan 2020) |
| EndedAt: 2020-01-15 19:36:12 -0500 (Wed, 15 Jan 2020) |
| EllapsedTime: 85.9 seconds |
| RetCode: 0 |
| Status: OK |
##############################################################################
##############################################################################
###
### Running command:
###
### /Library/Frameworks/R.framework/Versions/Current/Resources/bin/R CMD INSTALL igvR
###
##############################################################################
##############################################################################
* installing to library ‘/Library/Frameworks/R.framework/Versions/4.0/Resources/library’
* installing *source* package ‘igvR’ ...
** using staged installation
** R
** inst
** byte-compile and prepare package for lazy loading
See system.file("LICENSE", package="MotifDb") for use restrictions.
** help
*** installing help indices
** building package indices
** installing vignettes
** testing if installed package can be loaded from temporary location
See system.file("LICENSE", package="MotifDb") for use restrictions.
** testing if installed package can be loaded from final location
See system.file("LICENSE", package="MotifDb") for use restrictions.
** testing if installed package keeps a record of temporary installation path
* DONE (igvR)