| Back to Multiple platform build/check report for BioC 3.11 | 
  | 
This page was generated on 2020-10-17 11:56:35 -0400 (Sat, 17 Oct 2020).
| TO THE DEVELOPERS/MAINTAINERS OF THE flowPlots PACKAGE: Please make sure to use the following settings in order to reproduce any error or warning you see on this page. | 
| Package 621/1905 | Hostname | OS / Arch | INSTALL | BUILD | CHECK | BUILD BIN | ||||||
| flowPlots 1.36.0 N. Hawkins 
  | malbec2 | Linux (Ubuntu 18.04.4 LTS) / x86_64 | OK | OK | OK | |||||||
| tokay2 | Windows Server 2012 R2 Standard / x64 | OK | OK | OK | [ OK ] | |||||||
| machv2 | macOS 10.14.6 Mojave / x86_64 | OK | OK | OK | OK | 
| Package: flowPlots | 
| Version: 1.36.0 | 
| Command: rm -rf flowPlots.buildbin-libdir && mkdir flowPlots.buildbin-libdir && C:\Users\biocbuild\bbs-3.11-bioc\R\bin\R.exe CMD INSTALL --merge-multiarch --build --library=flowPlots.buildbin-libdir flowPlots_1.36.0.tar.gz | 
| StartedAt: 2020-10-17 10:31:44 -0400 (Sat, 17 Oct 2020) | 
| EndedAt: 2020-10-17 10:32:41 -0400 (Sat, 17 Oct 2020) | 
| EllapsedTime: 56.5 seconds | 
| RetCode: 0 | 
| Status: OK | 
| PackageFile: flowPlots_1.36.0.zip | 
| PackageFileSize: 749.4 KiB | 
##############################################################################
##############################################################################
###
### Running command:
###
###   rm -rf flowPlots.buildbin-libdir && mkdir flowPlots.buildbin-libdir && C:\Users\biocbuild\bbs-3.11-bioc\R\bin\R.exe CMD INSTALL --merge-multiarch --build --library=flowPlots.buildbin-libdir flowPlots_1.36.0.tar.gz
###
##############################################################################
##############################################################################
install for i386
* installing *source* package 'flowPlots' ...
** using staged installation
** R
** data
*** moving datasets to lazyload DB
** inst
** byte-compile and prepare package for lazy loading
** help
*** installing help indices
  converting help for package 'flowPlots'
    finding HTML links ... done
    GroupListBoxplot                        html  
    StackedData-class                       html  
    adultsNeonates                          html  
    computeMarginalData-methods             html  
    computeMarkers-methods                  html  
    computePFDData-methods                  html  
    computePFDGroupStatsList                html  
    computePFDPartsData-methods             html  
    computeProfileData-methods              html  
    legendPFDStatsGroupNames                html  
    makeBarplotData                         html  
    makeDataList                            html  
    makeTernaryData                         html  
    marginalDF                              html  
    marginalData-methods                    html  
    markerMatrix                            html  
    markers-methods                         html  
    pfdDF                                   html  
    pfdData-methods                         html  
    pfdPartsData-methods                    html  
    pfdPartsList                            html  
    profileDF                               html  
    profileData-methods                     html  
    readStackedData-methods                 html  
    stackedData-methods                     html  
** building package indices
** installing vignettes
** testing if installed package can be loaded from temporary location
** testing if installed package can be loaded from final location
** testing if installed package keeps a record of temporary installation path
install for x64
* installing *source* package 'flowPlots' ...
** testing if installed package can be loaded
* MD5 sums
packaged installation of 'flowPlots' as flowPlots_1.36.0.zip
* DONE (flowPlots)