| Back to Multiple platform build/check report for BioC 3.11 | 
  | 
This page was generated on 2020-10-17 11:54:45 -0400 (Sat, 17 Oct 2020).
| TO THE DEVELOPERS/MAINTAINERS OF THE flowPlots PACKAGE: Please make sure to use the following settings in order to reproduce any error or warning you see on this page. | 
| Package 621/1905 | Hostname | OS / Arch | INSTALL | BUILD | CHECK | BUILD BIN | ||||||
| flowPlots 1.36.0 N. Hawkins 
  | malbec2 | Linux (Ubuntu 18.04.4 LTS) / x86_64 | OK | [ OK ] | OK | |||||||
| tokay2 | Windows Server 2012 R2 Standard / x64 | OK | OK | OK | OK | |||||||
| machv2 | macOS 10.14.6 Mojave / x86_64 | OK | OK | OK | OK | 
| Package: flowPlots | 
| Version: 1.36.0 | 
| Command: /home/biocbuild/bbs-3.11-bioc/R/bin/R CMD build --keep-empty-dirs --no-resave-data flowPlots | 
| StartedAt: 2020-10-16 19:13:45 -0400 (Fri, 16 Oct 2020) | 
| EndedAt: 2020-10-16 19:13:59 -0400 (Fri, 16 Oct 2020) | 
| EllapsedTime: 13.7 seconds | 
| RetCode: 0 | 
| Status: OK | 
| PackageFile: flowPlots_1.36.0.tar.gz | 
| PackageFileSize: 513.4 KiB | 
############################################################################## ############################################################################## ### ### Running command: ### ### /home/biocbuild/bbs-3.11-bioc/R/bin/R CMD build --keep-empty-dirs --no-resave-data flowPlots ### ############################################################################## ############################################################################## * checking for file ‘flowPlots/DESCRIPTION’ ... OK * preparing ‘flowPlots’: * checking DESCRIPTION meta-information ... OK * checking whether ‘INDEX’ is up-to-date ... NO * use ‘--force’ to remove the existing ‘INDEX’ * installing the package to build vignettes * creating vignettes ... OK * checking for LF line-endings in source and make files and shell scripts * checking for empty or unneeded directories * building ‘flowPlots_1.36.0.tar.gz’