| Back to Multiple platform build/check report for BioC 3.11 |
|
This page was generated on 2020-10-17 11:56:24 -0400 (Sat, 17 Oct 2020).
| TO THE DEVELOPERS/MAINTAINERS OF THE cydar PACKAGE: Please make sure to use the following settings in order to reproduce any error or warning you see on this page. |
| Package 410/1905 | Hostname | OS / Arch | INSTALL | BUILD | CHECK | BUILD BIN | ||||||
| cydar 1.12.0 Aaron Lun
| malbec2 | Linux (Ubuntu 18.04.4 LTS) / x86_64 | OK | OK | OK | |||||||
| tokay2 | Windows Server 2012 R2 Standard / x64 | [ OK ] | OK | WARNINGS | OK | |||||||
| machv2 | macOS 10.14.6 Mojave / x86_64 | OK | OK | ERROR | OK |
| Package: cydar |
| Version: 1.12.0 |
| Command: C:\cygwin\bin\curl.exe -O https://malbec2.bioconductor.org/BBS/3.11/bioc/src/contrib/cydar_1.12.0.tar.gz && rm -rf cydar.buildbin-libdir && mkdir cydar.buildbin-libdir && C:\Users\biocbuild\bbs-3.11-bioc\R\bin\R.exe CMD INSTALL --merge-multiarch --build --library=cydar.buildbin-libdir cydar_1.12.0.tar.gz && C:\Users\biocbuild\bbs-3.11-bioc\R\bin\R.exe CMD INSTALL cydar_1.12.0.zip && rm cydar_1.12.0.tar.gz cydar_1.12.0.zip |
| StartedAt: 2020-10-16 18:31:44 -0400 (Fri, 16 Oct 2020) |
| EndedAt: 2020-10-16 18:33:39 -0400 (Fri, 16 Oct 2020) |
| EllapsedTime: 115.0 seconds |
| RetCode: 0 |
| Status: OK |
##############################################################################
##############################################################################
###
### Running command:
###
### C:\cygwin\bin\curl.exe -O https://malbec2.bioconductor.org/BBS/3.11/bioc/src/contrib/cydar_1.12.0.tar.gz && rm -rf cydar.buildbin-libdir && mkdir cydar.buildbin-libdir && C:\Users\biocbuild\bbs-3.11-bioc\R\bin\R.exe CMD INSTALL --merge-multiarch --build --library=cydar.buildbin-libdir cydar_1.12.0.tar.gz && C:\Users\biocbuild\bbs-3.11-bioc\R\bin\R.exe CMD INSTALL cydar_1.12.0.zip && rm cydar_1.12.0.tar.gz cydar_1.12.0.zip
###
##############################################################################
##############################################################################
% Total % Received % Xferd Average Speed Time Time Time Current
Dload Upload Total Spent Left Speed
0 0 0 0 0 0 0 0 --:--:-- --:--:-- --:--:-- 0
100 62843 100 62843 0 0 1018k 0 --:--:-- --:--:-- --:--:-- 1157k
install for i386
* installing *source* package 'cydar' ...
** using staged installation
** libs
"C:/rtools40/mingw32/bin/"g++ -std=gnu++11 -I"C:/Users/BIOCBU~1/BBS-3~1.11-/R/include" -DNDEBUG -I'C:/Users/biocbuild/bbs-3.11-bioc/R/library/Rcpp/include' -I"C:/extsoft/include" -O2 -Wall -mfpmath=sse -msse2 -mstackrealign -c RcppExports.cpp -o RcppExports.o
"C:/rtools40/mingw32/bin/"g++ -std=gnu++11 -I"C:/Users/BIOCBU~1/BBS-3~1.11-/R/include" -DNDEBUG -I'C:/Users/biocbuild/bbs-3.11-bioc/R/library/Rcpp/include' -I"C:/extsoft/include" -O2 -Wall -mfpmath=sse -msse2 -mstackrealign -c compute_density.cpp -o compute_density.o
compute_density.cpp: In function 'Rcpp::NumericVector compute_density(Rcpp::List, double)':
compute_density.cpp:7:23: warning: comparison of integer expressions of different signedness: 'size_t' {aka 'unsigned int'} and 'R_xlen_t' {aka 'int'} [-Wsign-compare]
for (size_t i=0; i<distances.size(); ++i) {
~^~~~~~~~~~~~~~~~~
"C:/rtools40/mingw32/bin/"g++ -std=gnu++11 -I"C:/Users/BIOCBU~1/BBS-3~1.11-/R/include" -DNDEBUG -I'C:/Users/biocbuild/bbs-3.11-bioc/R/library/Rcpp/include' -I"C:/extsoft/include" -O2 -Wall -mfpmath=sse -msse2 -mstackrealign -c count_cells.cpp -o count_cells.o
"C:/rtools40/mingw32/bin/"g++ -std=gnu++11 -I"C:/Users/BIOCBU~1/BBS-3~1.11-/R/include" -DNDEBUG -I'C:/Users/biocbuild/bbs-3.11-bioc/R/library/Rcpp/include' -I"C:/extsoft/include" -O2 -Wall -mfpmath=sse -msse2 -mstackrealign -c drop_redundant.cpp -o drop_redundant.o
"C:/rtools40/mingw32/bin/"g++ -std=gnu++11 -I"C:/Users/BIOCBU~1/BBS-3~1.11-/R/include" -DNDEBUG -I'C:/Users/biocbuild/bbs-3.11-bioc/R/library/Rcpp/include' -I"C:/extsoft/include" -O2 -Wall -mfpmath=sse -msse2 -mstackrealign -c median_int_by_sample.cpp -o median_int_by_sample.o
median_int_by_sample.cpp: In function 'Rcpp::List median_int_by_sample(Rcpp::NumericMatrix, Rcpp::List, Rcpp::NumericVector, int)':
median_int_by_sample.cpp:22:25: warning: comparison of integer expressions of different signedness: 'R_xlen_t' {aka 'int'} and 'const size_t' {aka 'const unsigned int'} [-Wsign-compare]
if (sample_id.size()!=ncells) {
~~~~~~~~~~~~~~~~^~~~~~~~
median_int_by_sample.cpp:42:39: warning: comparison of integer expressions of different signedness: 'int' and 'const size_t' {aka 'const unsigned int'} [-Wsign-compare]
if (curdex <= 0 || curdex > ncells) {
~~~~~~~^~~~~~~~
"C:/rtools40/mingw32/bin/"g++ -std=gnu++11 -I"C:/Users/BIOCBU~1/BBS-3~1.11-/R/include" -DNDEBUG -I'C:/Users/biocbuild/bbs-3.11-bioc/R/library/Rcpp/include' -I"C:/extsoft/include" -O2 -Wall -mfpmath=sse -msse2 -mstackrealign -c weighted_median_int.cpp -o weighted_median_int.o
weighted_median_int.cpp: In function 'SEXPREC* weighted_median_int(Rcpp::NumericMatrix, Rcpp::List, Rcpp::NumericVector, Rcpp::NumericVector)':
weighted_median_int.cpp:16:25: warning: comparison of integer expressions of different signedness: 'R_xlen_t' {aka 'int'} and 'const size_t' {aka 'const unsigned int'} [-Wsign-compare]
if (sample_id.size()!=ncells) {
~~~~~~~~~~~~~~~~^~~~~~~~
weighted_median_int.cpp:42:35: warning: comparison of integer expressions of different signedness: 'size_t' {aka 'unsigned int'} and 'R_xlen_t' {aka 'int'} [-Wsign-compare]
for (size_t icx=0; icx<curass.size(); ++icx) {
~~~^~~~~~~~~~~~~~
C:/rtools40/mingw32/bin/g++ -shared -s -static-libgcc -o cydar.dll tmp.def RcppExports.o compute_density.o count_cells.o drop_redundant.o median_int_by_sample.o weighted_median_int.o -LC:/extsoft/lib/i386 -LC:/extsoft/lib -LC:/Users/BIOCBU~1/BBS-3~1.11-/R/bin/i386 -lR
installing to C:/Users/biocbuild/bbs-3.11-bioc/meat/cydar.buildbin-libdir/00LOCK-cydar/00new/cydar/libs/i386
** R
** inst
** byte-compile and prepare package for lazy loading
** help
*** installing help indices
converting help for package 'cydar'
finding HTML links ... done
CyData html
finding level-2 HTML links ... done
countCells html
createColorBar html
dnaGate html
expandRadius html
findFirstSphere html
intensityRanges html
interpretSpheres html
labelSpheres html
medIntensities html
multiIntHist html
neighborDistances html
normalizeBatch html
Rd warning: C:/Users/biocbuild/bbs-3.11-bioc/tmpdir/RtmpmKQBbo/R.INSTALL22a434726f5e/cydar/man/normalizeBatch.Rd:137: file link 'normalization' in package 'flowCore' does not exist and so has been treated as a topic
outlierGate html
Rd warning: C:/Users/biocbuild/bbs-3.11-bioc/tmpdir/RtmpmKQBbo/R.INSTALL22a434726f5e/cydar/man/outlierGate.Rd:38: file link 'rectangleGate' in package 'flowCore' does not exist and so has been treated as a topic
pickBestMarkers html
plotSphereIntensity html
plotSphereLogFC html
poolCells html
Rd warning: C:/Users/biocbuild/bbs-3.11-bioc/tmpdir/RtmpmKQBbo/R.INSTALL22a434726f5e/cydar/man/poolCells.Rd:26: file link 'estimateLogicle' in package 'flowCore' does not exist and so has been treated as a topic
Rd warning: C:/Users/biocbuild/bbs-3.11-bioc/tmpdir/RtmpmKQBbo/R.INSTALL22a434726f5e/cydar/man/poolCells.Rd:36: file link 'flowFrame' in package 'flowCore' does not exist and so has been treated as a topic
Rd warning: C:/Users/biocbuild/bbs-3.11-bioc/tmpdir/RtmpmKQBbo/R.INSTALL22a434726f5e/cydar/man/poolCells.Rd:38: file link 'estimateLogicle' in package 'flowCore' does not exist and so has been treated as a topic
prepareCellData html
spatialFDR html
** building package indices
** installing vignettes
** testing if installed package can be loaded from temporary location
** testing if installed package can be loaded from final location
** testing if installed package keeps a record of temporary installation path
install for x64
* installing *source* package 'cydar' ...
** libs
"C:/rtools40/mingw64/bin/"g++ -std=gnu++11 -I"C:/Users/BIOCBU~1/BBS-3~1.11-/R/include" -DNDEBUG -I'C:/Users/biocbuild/bbs-3.11-bioc/R/library/Rcpp/include' -I"C:/extsoft/include" -O2 -Wall -mfpmath=sse -msse2 -mstackrealign -c RcppExports.cpp -o RcppExports.o
"C:/rtools40/mingw64/bin/"g++ -std=gnu++11 -I"C:/Users/BIOCBU~1/BBS-3~1.11-/R/include" -DNDEBUG -I'C:/Users/biocbuild/bbs-3.11-bioc/R/library/Rcpp/include' -I"C:/extsoft/include" -O2 -Wall -mfpmath=sse -msse2 -mstackrealign -c compute_density.cpp -o compute_density.o
compute_density.cpp: In function 'Rcpp::NumericVector compute_density(Rcpp::List, double)':
compute_density.cpp:7:23: warning: comparison of integer expressions of different signedness: 'size_t' {aka 'long long unsigned int'} and 'R_xlen_t' {aka 'long long int'} [-Wsign-compare]
for (size_t i=0; i<distances.size(); ++i) {
~^~~~~~~~~~~~~~~~~
"C:/rtools40/mingw64/bin/"g++ -std=gnu++11 -I"C:/Users/BIOCBU~1/BBS-3~1.11-/R/include" -DNDEBUG -I'C:/Users/biocbuild/bbs-3.11-bioc/R/library/Rcpp/include' -I"C:/extsoft/include" -O2 -Wall -mfpmath=sse -msse2 -mstackrealign -c count_cells.cpp -o count_cells.o
"C:/rtools40/mingw64/bin/"g++ -std=gnu++11 -I"C:/Users/BIOCBU~1/BBS-3~1.11-/R/include" -DNDEBUG -I'C:/Users/biocbuild/bbs-3.11-bioc/R/library/Rcpp/include' -I"C:/extsoft/include" -O2 -Wall -mfpmath=sse -msse2 -mstackrealign -c drop_redundant.cpp -o drop_redundant.o
"C:/rtools40/mingw64/bin/"g++ -std=gnu++11 -I"C:/Users/BIOCBU~1/BBS-3~1.11-/R/include" -DNDEBUG -I'C:/Users/biocbuild/bbs-3.11-bioc/R/library/Rcpp/include' -I"C:/extsoft/include" -O2 -Wall -mfpmath=sse -msse2 -mstackrealign -c median_int_by_sample.cpp -o median_int_by_sample.o
median_int_by_sample.cpp: In function 'Rcpp::List median_int_by_sample(Rcpp::NumericMatrix, Rcpp::List, Rcpp::NumericVector, int)':
median_int_by_sample.cpp:22:25: warning: comparison of integer expressions of different signedness: 'R_xlen_t' {aka 'long long int'} and 'const size_t' {aka 'const long long unsigned int'} [-Wsign-compare]
if (sample_id.size()!=ncells) {
~~~~~~~~~~~~~~~~^~~~~~~~
median_int_by_sample.cpp:42:39: warning: comparison of integer expressions of different signedness: 'int' and 'const size_t' {aka 'const long long unsigned int'} [-Wsign-compare]
if (curdex <= 0 || curdex > ncells) {
~~~~~~~^~~~~~~~
"C:/rtools40/mingw64/bin/"g++ -std=gnu++11 -I"C:/Users/BIOCBU~1/BBS-3~1.11-/R/include" -DNDEBUG -I'C:/Users/biocbuild/bbs-3.11-bioc/R/library/Rcpp/include' -I"C:/extsoft/include" -O2 -Wall -mfpmath=sse -msse2 -mstackrealign -c weighted_median_int.cpp -o weighted_median_int.o
weighted_median_int.cpp: In function 'SEXPREC* weighted_median_int(Rcpp::NumericMatrix, Rcpp::List, Rcpp::NumericVector, Rcpp::NumericVector)':
weighted_median_int.cpp:16:25: warning: comparison of integer expressions of different signedness: 'R_xlen_t' {aka 'long long int'} and 'const size_t' {aka 'const long long unsigned int'} [-Wsign-compare]
if (sample_id.size()!=ncells) {
~~~~~~~~~~~~~~~~^~~~~~~~
weighted_median_int.cpp:42:35: warning: comparison of integer expressions of different signedness: 'size_t' {aka 'long long unsigned int'} and 'R_xlen_t' {aka 'long long int'} [-Wsign-compare]
for (size_t icx=0; icx<curass.size(); ++icx) {
~~~^~~~~~~~~~~~~~
C:/rtools40/mingw64/bin/g++ -shared -s -static-libgcc -o cydar.dll tmp.def RcppExports.o compute_density.o count_cells.o drop_redundant.o median_int_by_sample.o weighted_median_int.o -LC:/extsoft/lib/x64 -LC:/extsoft/lib -LC:/Users/BIOCBU~1/BBS-3~1.11-/R/bin/x64 -lR
installing to C:/Users/biocbuild/bbs-3.11-bioc/meat/cydar.buildbin-libdir/cydar/libs/x64
** testing if installed package can be loaded
* MD5 sums
packaged installation of 'cydar' as cydar_1.12.0.zip
* DONE (cydar)
* installing to library 'C:/Users/biocbuild/bbs-3.11-bioc/R/library'
package 'cydar' successfully unpacked and MD5 sums checked