| Back to Multiple platform build/check report for BioC 3.11 |
|
This page was generated on 2020-10-17 11:54:38 -0400 (Sat, 17 Oct 2020).
| TO THE DEVELOPERS/MAINTAINERS OF THE cydar PACKAGE: Please make sure to use the following settings in order to reproduce any error or warning you see on this page. |
| Package 410/1905 | Hostname | OS / Arch | INSTALL | BUILD | CHECK | BUILD BIN | ||||||
| cydar 1.12.0 Aaron Lun
| malbec2 | Linux (Ubuntu 18.04.4 LTS) / x86_64 | [ OK ] | OK | OK | |||||||
| tokay2 | Windows Server 2012 R2 Standard / x64 | OK | OK | WARNINGS | OK | |||||||
| machv2 | macOS 10.14.6 Mojave / x86_64 | OK | OK | ERROR | OK |
| Package: cydar |
| Version: 1.12.0 |
| Command: /home/biocbuild/bbs-3.11-bioc/R/bin/R CMD INSTALL cydar |
| StartedAt: 2020-10-16 16:47:07 -0400 (Fri, 16 Oct 2020) |
| EndedAt: 2020-10-16 16:48:04 -0400 (Fri, 16 Oct 2020) |
| EllapsedTime: 56.6 seconds |
| RetCode: 0 |
| Status: OK |
##############################################################################
##############################################################################
###
### Running command:
###
### /home/biocbuild/bbs-3.11-bioc/R/bin/R CMD INSTALL cydar
###
##############################################################################
##############################################################################
* installing to library ‘/home/biocbuild/bbs-3.11-bioc/R/library’
* installing *source* package ‘cydar’ ...
** using staged installation
** libs
g++ -std=gnu++11 -I"/home/biocbuild/bbs-3.11-bioc/R/include" -DNDEBUG -I'/home/biocbuild/bbs-3.11-bioc/R/library/Rcpp/include' -I/usr/local/include -fpic -g -O2 -Wall -c RcppExports.cpp -o RcppExports.o
g++ -std=gnu++11 -I"/home/biocbuild/bbs-3.11-bioc/R/include" -DNDEBUG -I'/home/biocbuild/bbs-3.11-bioc/R/library/Rcpp/include' -I/usr/local/include -fpic -g -O2 -Wall -c compute_density.cpp -o compute_density.o
compute_density.cpp: In function ‘Rcpp::NumericVector compute_density(Rcpp::List, double)’:
compute_density.cpp:7:23: warning: comparison between signed and unsigned integer expressions [-Wsign-compare]
for (size_t i=0; i<distances.size(); ++i) {
~^~~~~~~~~~~~~~~~~
g++ -std=gnu++11 -I"/home/biocbuild/bbs-3.11-bioc/R/include" -DNDEBUG -I'/home/biocbuild/bbs-3.11-bioc/R/library/Rcpp/include' -I/usr/local/include -fpic -g -O2 -Wall -c count_cells.cpp -o count_cells.o
g++ -std=gnu++11 -I"/home/biocbuild/bbs-3.11-bioc/R/include" -DNDEBUG -I'/home/biocbuild/bbs-3.11-bioc/R/library/Rcpp/include' -I/usr/local/include -fpic -g -O2 -Wall -c drop_redundant.cpp -o drop_redundant.o
g++ -std=gnu++11 -I"/home/biocbuild/bbs-3.11-bioc/R/include" -DNDEBUG -I'/home/biocbuild/bbs-3.11-bioc/R/library/Rcpp/include' -I/usr/local/include -fpic -g -O2 -Wall -c median_int_by_sample.cpp -o median_int_by_sample.o
median_int_by_sample.cpp: In function ‘Rcpp::List median_int_by_sample(Rcpp::NumericMatrix, Rcpp::List, Rcpp::NumericVector, int)’:
median_int_by_sample.cpp:22:25: warning: comparison between signed and unsigned integer expressions [-Wsign-compare]
if (sample_id.size()!=ncells) {
~~~~~~~~~~~~~~~~^~~~~~~~
median_int_by_sample.cpp:42:39: warning: comparison between signed and unsigned integer expressions [-Wsign-compare]
if (curdex <= 0 || curdex > ncells) {
~~~~~~~^~~~~~~~
g++ -std=gnu++11 -I"/home/biocbuild/bbs-3.11-bioc/R/include" -DNDEBUG -I'/home/biocbuild/bbs-3.11-bioc/R/library/Rcpp/include' -I/usr/local/include -fpic -g -O2 -Wall -c weighted_median_int.cpp -o weighted_median_int.o
weighted_median_int.cpp: In function ‘SEXPREC* weighted_median_int(Rcpp::NumericMatrix, Rcpp::List, Rcpp::NumericVector, Rcpp::NumericVector)’:
weighted_median_int.cpp:16:25: warning: comparison between signed and unsigned integer expressions [-Wsign-compare]
if (sample_id.size()!=ncells) {
~~~~~~~~~~~~~~~~^~~~~~~~
weighted_median_int.cpp:42:35: warning: comparison between signed and unsigned integer expressions [-Wsign-compare]
for (size_t icx=0; icx<curass.size(); ++icx) {
~~~^~~~~~~~~~~~~~
g++ -std=gnu++11 -shared -L/home/biocbuild/bbs-3.11-bioc/R/lib -L/usr/local/lib -o cydar.so RcppExports.o compute_density.o count_cells.o drop_redundant.o median_int_by_sample.o weighted_median_int.o -L/home/biocbuild/bbs-3.11-bioc/R/lib -lR
installing to /home/biocbuild/bbs-3.11-bioc/R/library/00LOCK-cydar/00new/cydar/libs
** R
** inst
** byte-compile and prepare package for lazy loading
** help
*** installing help indices
** building package indices
** installing vignettes
** testing if installed package can be loaded from temporary location
** checking absolute paths in shared objects and dynamic libraries
** testing if installed package can be loaded from final location
** testing if installed package keeps a record of temporary installation path
* DONE (cydar)