| Back to Multiple platform build/check report for BioC 3.11 |
|
This page was generated on 2020-10-17 11:56:07 -0400 (Sat, 17 Oct 2020).
| TO THE DEVELOPERS/MAINTAINERS OF THE attract PACKAGE: Please make sure to use the following settings in order to reproduce any error or warning you see on this page. |
| Package 98/1905 | Hostname | OS / Arch | INSTALL | BUILD | CHECK | BUILD BIN | ||||||
| attract 1.40.0 Samuel Zimmerman
| malbec2 | Linux (Ubuntu 18.04.4 LTS) / x86_64 | OK | OK | OK | |||||||
| tokay2 | Windows Server 2012 R2 Standard / x64 | [ OK ] | OK | OK | OK | |||||||
| machv2 | macOS 10.14.6 Mojave / x86_64 | OK | OK | OK | OK |
| Package: attract |
| Version: 1.40.0 |
| Command: C:\cygwin\bin\curl.exe -O https://malbec2.bioconductor.org/BBS/3.11/bioc/src/contrib/attract_1.40.0.tar.gz && rm -rf attract.buildbin-libdir && mkdir attract.buildbin-libdir && C:\Users\biocbuild\bbs-3.11-bioc\R\bin\R.exe CMD INSTALL --merge-multiarch --build --library=attract.buildbin-libdir attract_1.40.0.tar.gz && C:\Users\biocbuild\bbs-3.11-bioc\R\bin\R.exe CMD INSTALL attract_1.40.0.zip && rm attract_1.40.0.tar.gz attract_1.40.0.zip |
| StartedAt: 2020-10-16 18:16:03 -0400 (Fri, 16 Oct 2020) |
| EndedAt: 2020-10-16 18:17:23 -0400 (Fri, 16 Oct 2020) |
| EllapsedTime: 79.4 seconds |
| RetCode: 0 |
| Status: OK |
##############################################################################
##############################################################################
###
### Running command:
###
### C:\cygwin\bin\curl.exe -O https://malbec2.bioconductor.org/BBS/3.11/bioc/src/contrib/attract_1.40.0.tar.gz && rm -rf attract.buildbin-libdir && mkdir attract.buildbin-libdir && C:\Users\biocbuild\bbs-3.11-bioc\R\bin\R.exe CMD INSTALL --merge-multiarch --build --library=attract.buildbin-libdir attract_1.40.0.tar.gz && C:\Users\biocbuild\bbs-3.11-bioc\R\bin\R.exe CMD INSTALL attract_1.40.0.zip && rm attract_1.40.0.tar.gz attract_1.40.0.zip
###
##############################################################################
##############################################################################
% Total % Received % Xferd Average Speed Time Time Time Current
Dload Upload Total Spent Left Speed
0 0 0 0 0 0 0 0 --:--:-- --:--:-- --:--:-- 0
100 4203k 100 4203k 0 0 26.4M 0 --:--:-- --:--:-- --:--:-- 27.5M
install for i386
* installing *source* package 'attract' ...
** using staged installation
** R
** data
** inst
** byte-compile and prepare package for lazy loading
** help
*** installing help indices
converting help for package 'attract'
finding HTML links ... done
AttractorModuleSet-class html
SynExpressionSet-class html
attract-package html
buildCorMatrix html
buildCustomIncidenceMatrix html
buildKeggIncidenceMatrix html
calcFuncSynexprs html
calcInform html
calcModfstat html
calcRss html
exprs.dat html
filterDataSet html
findAttractors html
findCorrPartners html
findOnepwaySynexprs html
findSynexprs html
flagPwayExists html
getCustomGenes html
getPwayGenes html
loring.eset html
plotsynexprs html
removeFlatGenes html
samp.info html
subset.loring.eset html
** building package indices
** installing vignettes
** testing if installed package can be loaded from temporary location
** testing if installed package can be loaded from final location
** testing if installed package keeps a record of temporary installation path
install for x64
* installing *source* package 'attract' ...
** testing if installed package can be loaded
* MD5 sums
packaged installation of 'attract' as attract_1.40.0.zip
* DONE (attract)
* installing to library 'C:/Users/biocbuild/bbs-3.11-bioc/R/library'
package 'attract' successfully unpacked and MD5 sums checked