| Back to Multiple platform build/check report for BioC 3.11 | 
  | 
This page was generated on 2020-10-17 11:55:42 -0400 (Sat, 17 Oct 2020).
| TO THE DEVELOPERS/MAINTAINERS OF THE Sconify PACKAGE: Please make sure to use the following settings in order to reproduce any error or warning you see on this page. | 
| Package 1604/1905 | Hostname | OS / Arch | INSTALL | BUILD | CHECK | BUILD BIN | ||||||
| Sconify 1.8.0 Tyler J Burns 
  | malbec2 | Linux (Ubuntu 18.04.4 LTS) / x86_64 | OK | OK | [ OK ] | |||||||
| tokay2 | Windows Server 2012 R2 Standard / x64 | OK | OK | OK | OK | |||||||
| machv2 | macOS 10.14.6 Mojave / x86_64 | OK | OK | OK | OK | 
| Package: Sconify | 
| Version: 1.8.0 | 
| Command: /home/biocbuild/bbs-3.11-bioc/R/bin/R CMD check --install=check:Sconify.install-out.txt --library=/home/biocbuild/bbs-3.11-bioc/R/library --no-vignettes --timings Sconify_1.8.0.tar.gz | 
| StartedAt: 2020-10-17 05:15:30 -0400 (Sat, 17 Oct 2020) | 
| EndedAt: 2020-10-17 05:17:27 -0400 (Sat, 17 Oct 2020) | 
| EllapsedTime: 117.2 seconds | 
| RetCode: 0 | 
| Status: OK | 
| CheckDir: Sconify.Rcheck | 
| Warnings: 0 | 
##############################################################################
##############################################################################
###
### Running command:
###
###   /home/biocbuild/bbs-3.11-bioc/R/bin/R CMD check --install=check:Sconify.install-out.txt --library=/home/biocbuild/bbs-3.11-bioc/R/library --no-vignettes --timings Sconify_1.8.0.tar.gz
###
##############################################################################
##############################################################################
* using log directory ‘/home/biocbuild/bbs-3.11-bioc/meat/Sconify.Rcheck’
* using R version 4.0.3 (2020-10-10)
* using platform: x86_64-pc-linux-gnu (64-bit)
* using session charset: UTF-8
* using option ‘--no-vignettes’
* checking for file ‘Sconify/DESCRIPTION’ ... OK
* checking extension type ... Package
* this is package ‘Sconify’ version ‘1.8.0’
* package encoding: UTF-8
* checking package namespace information ... OK
* checking package dependencies ... OK
* checking if this is a source package ... OK
* checking if there is a namespace ... OK
* checking for hidden files and directories ... OK
* checking for portable file names ... OK
* checking for sufficient/correct file permissions ... OK
* checking whether package ‘Sconify’ can be installed ... OK
* checking installed package size ... OK
* checking package directory ... OK
* checking ‘build’ directory ... OK
* checking DESCRIPTION meta-information ... OK
* checking top-level files ... OK
* checking for left-over files ... OK
* checking index information ... OK
* checking package subdirectories ... OK
* checking R files for non-ASCII characters ... OK
* checking R files for syntax errors ... OK
* checking whether the package can be loaded ... OK
* checking whether the package can be loaded with stated dependencies ... OK
* checking whether the package can be unloaded cleanly ... OK
* checking whether the namespace can be loaded with stated dependencies ... OK
* checking whether the namespace can be unloaded cleanly ... OK
* checking dependencies in R code ... OK
* checking S3 generic/method consistency ... OK
* checking replacement functions ... OK
* checking foreign function calls ... OK
* checking R code for possible problems ... OK
* checking Rd files ... OK
* checking Rd metadata ... OK
* checking Rd cross-references ... OK
* checking for missing documentation entries ... OK
* checking for code/documentation mismatches ... OK
* checking Rd \usage sections ... OK
* checking Rd contents ... OK
* checking for unstated dependencies in examples ... OK
* checking contents of ‘data’ directory ... OK
* checking data for non-ASCII characters ... OK
* checking data for ASCII and uncompressed saves ... OK
* checking files in ‘vignettes’ ... OK
* checking examples ... OK
Examples with CPU (user + system) or elapsed time > 5s
              user system elapsed
SconeValues 20.367  0.007  20.535
* checking for unstated dependencies in ‘tests’ ... OK
* checking tests ...
  Running ‘testthat.R’
 OK
* checking for unstated dependencies in vignettes ... OK
* checking package vignettes in ‘inst/doc’ ... OK
* checking running R code from vignettes ... SKIPPED
* checking re-building of vignette outputs ... SKIPPED
* checking PDF version of manual ... OK
* DONE
Status: OK
Sconify.Rcheck/00install.out
############################################################################## ############################################################################## ### ### Running command: ### ### /home/biocbuild/bbs-3.11-bioc/R/bin/R CMD INSTALL Sconify ### ############################################################################## ############################################################################## * installing to library ‘/home/biocbuild/bbs-3.11-bioc/R/library’ * installing *source* package ‘Sconify’ ... ** using staged installation ** R ** data *** moving datasets to lazyload DB ** inst ** byte-compile and prepare package for lazy loading Note: wrong number of arguments to '/' Note: wrong number of arguments to 'asinh' ** help *** installing help indices ** building package indices ** installing vignettes ** testing if installed package can be loaded from temporary location ** testing if installed package can be loaded from final location ** testing if installed package keeps a record of temporary installation path * DONE (Sconify)
Sconify.Rcheck/tests/testthat.Rout
R version 4.0.3 (2020-10-10) -- "Bunny-Wunnies Freak Out"
Copyright (C) 2020 The R Foundation for Statistical Computing
Platform: x86_64-pc-linux-gnu (64-bit)
R is free software and comes with ABSOLUTELY NO WARRANTY.
You are welcome to redistribute it under certain conditions.
Type 'license()' or 'licence()' for distribution details.
R is a collaborative project with many contributors.
Type 'contributors()' for more information and
'citation()' on how to cite R or R packages in publications.
Type 'demo()' for some demos, 'help()' for on-line help, or
'help.start()' for an HTML browser interface to help.
Type 'q()' to quit R.
> library(testthat)
> library(Sconify)
> 
> test_check("Sconify")
Read the 100 x 27 data matrix successfully!
OpenMP is working. 1 threads.
Using no_dims = 2, perplexity = 30.000000, and theta = 0.500000
Computing input similarities...
Building tree...
Done in 0.01 seconds (sparsity = 0.967000)!
Learning embedding...
Iteration 50: error is 50.450908 (50 iterations in 0.02 seconds)
Iteration 100: error is 52.226126 (50 iterations in 0.01 seconds)
Iteration 150: error is 51.994608 (50 iterations in 0.01 seconds)
Iteration 200: error is 55.419718 (50 iterations in 0.01 seconds)
Iteration 250: error is 54.478089 (50 iterations in 0.01 seconds)
Iteration 300: error is 1.558192 (50 iterations in 0.01 seconds)
Iteration 350: error is 1.001039 (50 iterations in 0.01 seconds)
Iteration 400: error is 0.568351 (50 iterations in 0.01 seconds)
Iteration 450: error is 0.306848 (50 iterations in 0.02 seconds)
Iteration 500: error is 0.281902 (50 iterations in 0.02 seconds)
Iteration 550: error is 0.276760 (50 iterations in 0.02 seconds)
Iteration 600: error is 0.271587 (50 iterations in 0.02 seconds)
Iteration 650: error is 0.261778 (50 iterations in 0.02 seconds)
Iteration 700: error is 0.231801 (50 iterations in 0.01 seconds)
Iteration 750: error is 0.204161 (50 iterations in 0.01 seconds)
Iteration 800: error is 0.198261 (50 iterations in 0.01 seconds)
Iteration 850: error is 0.196145 (50 iterations in 0.01 seconds)
Iteration 900: error is 0.195617 (50 iterations in 0.01 seconds)
Iteration 950: error is 0.198392 (50 iterations in 0.01 seconds)
Iteration 1000: error is 0.196548 (50 iterations in 0.01 seconds)
Fitting performed in 0.26 seconds.
Read the 1000 x 27 data matrix successfully!
OpenMP is working. 1 threads.
Using no_dims = 2, perplexity = 30.000000, and theta = 0.500000
Computing input similarities...
Building tree...
Done in 0.22 seconds (sparsity = 0.129120)!
Learning embedding...
Iteration 50: error is 64.888127 (50 iterations in 0.26 seconds)
Iteration 100: error is 60.775705 (50 iterations in 0.31 seconds)
Iteration 150: error is 60.357436 (50 iterations in 0.30 seconds)
Iteration 200: error is 60.214118 (50 iterations in 0.26 seconds)
Iteration 250: error is 60.151160 (50 iterations in 0.28 seconds)
Iteration 300: error is 1.339388 (50 iterations in 0.16 seconds)
Iteration 350: error is 1.226715 (50 iterations in 0.14 seconds)
Iteration 400: error is 1.192325 (50 iterations in 0.14 seconds)
Iteration 450: error is 1.181091 (50 iterations in 0.14 seconds)
Iteration 500: error is 1.173062 (50 iterations in 0.14 seconds)
Iteration 550: error is 1.167273 (50 iterations in 0.23 seconds)
Iteration 600: error is 1.164458 (50 iterations in 0.23 seconds)
Iteration 650: error is 1.160402 (50 iterations in 0.23 seconds)
Iteration 700: error is 1.157813 (50 iterations in 0.23 seconds)
Iteration 750: error is 1.154476 (50 iterations in 0.22 seconds)
Iteration 800: error is 1.152214 (50 iterations in 0.22 seconds)
Iteration 850: error is 1.150261 (50 iterations in 0.22 seconds)
Iteration 900: error is 1.147171 (50 iterations in 0.22 seconds)
Iteration 950: error is 1.145926 (50 iterations in 0.23 seconds)
Iteration 1000: error is 1.143859 (50 iterations in 0.23 seconds)
Fitting performed in 4.38 seconds.
══ testthat results  ═══════════════════════════════════════════════════════════
[ OK: 72 | SKIPPED: 0 | WARNINGS: 3 | FAILED: 0 ]
> 
> proc.time()
   user  system elapsed 
 24.269   0.175  24.525 
Sconify.Rcheck/Sconify-Ex.timings
| name | user | system | elapsed | |
| FcsToTibble | 0.240 | 0.004 | 0.245 | |
| Fnn | 0.377 | 0.264 | 0.641 | |
| GetKnnDe | 0.09 | 0.00 | 0.09 | |
| GetMarkerNames | 0.025 | 0.000 | 0.025 | |
| ImputeTesting | 3.851 | 0.000 | 3.851 | |
| MakeHist | 0.218 | 0.003 | 0.222 | |
| MakeKnnList | 0.242 | 0.000 | 0.241 | |
| MeaningOfLife | 0.000 | 0.001 | 0.000 | |
| ParseMarkers | 0.059 | 0.007 | 0.081 | |
| PostProcessing | 0.073 | 0.000 | 0.073 | |
| ProcessMultipleFiles | 0.099 | 0.004 | 0.109 | |
| QuantNormalizeElements | 0.114 | 0.000 | 0.115 | |
| SconeValues | 20.367 | 0.007 | 20.535 | |
| SplitFile | 0.073 | 0.000 | 0.073 | |
| StringToNumbers | 0 | 0 | 0 | |
| SubsampleAndTsne | 1.656 | 0.004 | 1.660 | |
| TsneVis | 0.152 | 0.000 | 0.152 | |