| Back to Multiple platform build/check report for BioC 3.11 |
|
This page was generated on 2020-10-17 11:57:43 -0400 (Sat, 17 Oct 2020).
| TO THE DEVELOPERS/MAINTAINERS OF THE RTNsurvival PACKAGE: Please make sure to use the following settings in order to reproduce any error or warning you see on this page. |
| Package 1552/1905 | Hostname | OS / Arch | INSTALL | BUILD | CHECK | BUILD BIN | ||||||
| RTNsurvival 1.12.2 Clarice Groeneveld
| malbec2 | Linux (Ubuntu 18.04.4 LTS) / x86_64 | OK | OK | OK | |||||||
| tokay2 | Windows Server 2012 R2 Standard / x64 | OK | OK | OK | [ OK ] | |||||||
| machv2 | macOS 10.14.6 Mojave / x86_64 | OK | OK | OK | OK |
| Package: RTNsurvival |
| Version: 1.12.2 |
| Command: rm -rf RTNsurvival.buildbin-libdir && mkdir RTNsurvival.buildbin-libdir && C:\Users\biocbuild\bbs-3.11-bioc\R\bin\R.exe CMD INSTALL --merge-multiarch --build --library=RTNsurvival.buildbin-libdir RTNsurvival_1.12.2.tar.gz |
| StartedAt: 2020-10-17 11:33:14 -0400 (Sat, 17 Oct 2020) |
| EndedAt: 2020-10-17 11:33:57 -0400 (Sat, 17 Oct 2020) |
| EllapsedTime: 43.0 seconds |
| RetCode: 0 |
| Status: OK |
| PackageFile: RTNsurvival_1.12.2.zip |
| PackageFileSize: 1.003 MiB |
##############################################################################
##############################################################################
###
### Running command:
###
### rm -rf RTNsurvival.buildbin-libdir && mkdir RTNsurvival.buildbin-libdir && C:\Users\biocbuild\bbs-3.11-bioc\R\bin\R.exe CMD INSTALL --merge-multiarch --build --library=RTNsurvival.buildbin-libdir RTNsurvival_1.12.2.tar.gz
###
##############################################################################
##############################################################################
install for i386
* installing *source* package 'RTNsurvival' ...
** using staged installation
** R
** data
*** moving datasets to lazyload DB
** inst
** byte-compile and prepare package for lazy loading
** help
*** installing help indices
converting help for package 'RTNsurvival'
finding HTML links ... done
RTNsurvival-package html
TNS-class html
finding level-2 HTML links ... done
TNS.data html
hclust_semisupervised html
tni2tnsPreprocess-methods html
tnsAREA3-methods html
tnsCox-methods html
tnsCoxInteraction-methods html
tnsGSEA2-methods html
tnsGet-methods html
tnsInteraction-methods html
tnsKM-methods html
tnsKmInteraction-methods html
tnsPlotCovariates-methods html
tnsPlotCox-methods html
tnsPlotCoxInteraction-methods html
tnsPlotGSEA2-methods html
tnsPlotKM-methods html
tnsPlotKmInteraction-methods html
tnsPlotSRE-methods html
tnsSRD-methods html
tnsSRE-methods html
tnsStratification html
** building package indices
** installing vignettes
** testing if installed package can be loaded from temporary location
** testing if installed package can be loaded from final location
** testing if installed package keeps a record of temporary installation path
install for x64
* installing *source* package 'RTNsurvival' ...
** testing if installed package can be loaded
* MD5 sums
packaged installation of 'RTNsurvival' as RTNsurvival_1.12.2.zip
* DONE (RTNsurvival)