| Back to Multiple platform build/check report for BioC 3.11 |
|
This page was generated on 2020-10-17 11:55:39 -0400 (Sat, 17 Oct 2020).
| TO THE DEVELOPERS/MAINTAINERS OF THE RTNsurvival PACKAGE: Please make sure to use the following settings in order to reproduce any error or warning you see on this page. |
| Package 1552/1905 | Hostname | OS / Arch | INSTALL | BUILD | CHECK | BUILD BIN | ||||||
| RTNsurvival 1.12.2 Clarice Groeneveld
| malbec2 | Linux (Ubuntu 18.04.4 LTS) / x86_64 | OK | OK | [ OK ] | |||||||
| tokay2 | Windows Server 2012 R2 Standard / x64 | OK | OK | OK | OK | |||||||
| machv2 | macOS 10.14.6 Mojave / x86_64 | OK | OK | OK | OK |
| Package: RTNsurvival |
| Version: 1.12.2 |
| Command: /home/biocbuild/bbs-3.11-bioc/R/bin/R CMD check --install=check:RTNsurvival.install-out.txt --library=/home/biocbuild/bbs-3.11-bioc/R/library --no-vignettes --timings RTNsurvival_1.12.2.tar.gz |
| StartedAt: 2020-10-17 05:03:52 -0400 (Sat, 17 Oct 2020) |
| EndedAt: 2020-10-17 05:07:39 -0400 (Sat, 17 Oct 2020) |
| EllapsedTime: 226.5 seconds |
| RetCode: 0 |
| Status: OK |
| CheckDir: RTNsurvival.Rcheck |
| Warnings: 0 |
############################################################################## ############################################################################## ### ### Running command: ### ### /home/biocbuild/bbs-3.11-bioc/R/bin/R CMD check --install=check:RTNsurvival.install-out.txt --library=/home/biocbuild/bbs-3.11-bioc/R/library --no-vignettes --timings RTNsurvival_1.12.2.tar.gz ### ############################################################################## ############################################################################## * using log directory ‘/home/biocbuild/bbs-3.11-bioc/meat/RTNsurvival.Rcheck’ * using R version 4.0.3 (2020-10-10) * using platform: x86_64-pc-linux-gnu (64-bit) * using session charset: UTF-8 * using option ‘--no-vignettes’ * checking for file ‘RTNsurvival/DESCRIPTION’ ... OK * checking extension type ... Package * this is package ‘RTNsurvival’ version ‘1.12.2’ * package encoding: UTF-8 * checking package namespace information ... OK * checking package dependencies ... OK * checking if this is a source package ... OK * checking if there is a namespace ... OK * checking for hidden files and directories ... OK * checking for portable file names ... OK * checking for sufficient/correct file permissions ... OK * checking whether package ‘RTNsurvival’ can be installed ... OK * checking installed package size ... OK * checking package directory ... OK * checking ‘build’ directory ... OK * checking DESCRIPTION meta-information ... OK * checking top-level files ... OK * checking for left-over files ... OK * checking index information ... OK * checking package subdirectories ... OK * checking R files for non-ASCII characters ... OK * checking R files for syntax errors ... OK * checking whether the package can be loaded ... OK * checking whether the package can be loaded with stated dependencies ... OK * checking whether the package can be unloaded cleanly ... OK * checking whether the namespace can be loaded with stated dependencies ... OK * checking whether the namespace can be unloaded cleanly ... OK * checking dependencies in R code ... OK * checking S3 generic/method consistency ... OK * checking replacement functions ... OK * checking foreign function calls ... OK * checking R code for possible problems ... OK * checking Rd files ... OK * checking Rd metadata ... OK * checking Rd cross-references ... OK * checking for missing documentation entries ... OK * checking for code/documentation mismatches ... OK * checking Rd \usage sections ... OK * checking Rd contents ... OK * checking for unstated dependencies in examples ... OK * checking contents of ‘data’ directory ... OK * checking data for non-ASCII characters ... OK * checking data for ASCII and uncompressed saves ... OK * checking files in ‘vignettes’ ... OK * checking examples ... OK * checking for unstated dependencies in ‘tests’ ... OK * checking tests ... Running ‘runTests.R’ OK * checking for unstated dependencies in vignettes ... OK * checking package vignettes in ‘inst/doc’ ... OK * checking running R code from vignettes ... SKIPPED * checking re-building of vignette outputs ... SKIPPED * checking PDF version of manual ... OK * DONE Status: OK
RTNsurvival.Rcheck/00install.out
############################################################################## ############################################################################## ### ### Running command: ### ### /home/biocbuild/bbs-3.11-bioc/R/bin/R CMD INSTALL RTNsurvival ### ############################################################################## ############################################################################## * installing to library ‘/home/biocbuild/bbs-3.11-bioc/R/library’ * installing *source* package ‘RTNsurvival’ ... ** using staged installation ** R ** data *** moving datasets to lazyload DB ** inst ** byte-compile and prepare package for lazy loading ** help *** installing help indices ** building package indices ** installing vignettes ** testing if installed package can be loaded from temporary location ** testing if installed package can be loaded from final location ** testing if installed package keeps a record of temporary installation path * DONE (RTNsurvival)
RTNsurvival.Rcheck/tests/runTests.Rout
R version 4.0.3 (2020-10-10) -- "Bunny-Wunnies Freak Out"
Copyright (C) 2020 The R Foundation for Statistical Computing
Platform: x86_64-pc-linux-gnu (64-bit)
R is free software and comes with ABSOLUTELY NO WARRANTY.
You are welcome to redistribute it under certain conditions.
Type 'license()' or 'licence()' for distribution details.
R is a collaborative project with many contributors.
Type 'contributors()' for more information and
'citation()' on how to cite R or R packages in publications.
Type 'demo()' for some demos, 'help()' for on-line help, or
'help.start()' for an HTML browser interface to help.
Type 'q()' to quit R.
> BiocGenerics:::testPackage("RTNsurvival")
RUNIT TEST PROTOCOL -- Sat Oct 17 05:07:35 2020
***********************************************
Number of test functions: 1
Number of errors: 0
Number of failures: 0
1 Test Suite :
RTNsurvival RUnit Tests - 1 test function, 0 errors, 0 failures
Number of test functions: 1
Number of errors: 0
Number of failures: 0
>
> proc.time()
user system elapsed
10.057 0.360 10.420
RTNsurvival.Rcheck/RTNsurvival-Ex.timings
| name | user | system | elapsed | |
| TNS.data | 0.002 | 0.000 | 0.003 | |
| hclust_semisupervised | 0.070 | 0.000 | 0.069 | |
| tni2tnsPreprocess-methods | 0.338 | 0.004 | 0.342 | |
| tnsAREA3-methods | 1.338 | 0.072 | 1.411 | |
| tnsCox-methods | 1.508 | 0.008 | 1.517 | |
| tnsCoxInteraction-methods | 1.429 | 0.016 | 1.445 | |
| tnsGSEA2-methods | 0.941 | 0.012 | 0.952 | |
| tnsGet-methods | 1.452 | 0.008 | 1.460 | |
| tnsInteraction-methods | 1.169 | 0.004 | 1.173 | |
| tnsKM-methods | 0.990 | 0.016 | 1.006 | |
| tnsKmInteraction-methods | 0.928 | 0.004 | 0.932 | |
| tnsPlotCovariates-methods | 3.208 | 0.024 | 3.232 | |
| tnsPlotCox-methods | 1.630 | 0.012 | 1.642 | |
| tnsPlotCoxInteraction-methods | 0.962 | 0.004 | 0.966 | |
| tnsPlotGSEA2-methods | 4.063 | 0.072 | 4.135 | |
| tnsPlotKM-methods | 1.545 | 0.024 | 1.569 | |
| tnsPlotKmInteraction-methods | 0.930 | 0.004 | 0.934 | |
| tnsPlotSRE-methods | 1.017 | 0.016 | 1.033 | |
| tnsSRD-methods | 0.953 | 0.000 | 0.953 | |
| tnsSRE-methods | 0.954 | 0.016 | 0.970 | |
| tnsStratification | 0 | 0 | 0 | |