| Back to Multiple platform build/check report for BioC 3.11 |
|
This page was generated on 2020-01-16 13:49:09 -0500 (Thu, 16 Jan 2020).
| Package 1102/1818 | Hostname | OS / Arch | INSTALL | BUILD | CHECK | BUILD BIN | ||||||
| MSstatsQC 2.5.0 Eralp Dogu
| malbec2 | Linux (Ubuntu 18.04.3 LTS) / x86_64 | OK | OK | OK | |||||||
| tokay2 | Windows Server 2012 R2 Standard / x64 | OK | OK | OK | OK | |||||||
| celaya2 | OS X 10.11.6 El Capitan / x86_64 | OK | OK | [ OK ] | OK |
| Package: MSstatsQC |
| Version: 2.5.0 |
| Command: /Library/Frameworks/R.framework/Versions/Current/Resources/bin/R CMD check --install=check:MSstatsQC.install-out.txt --library=/Library/Frameworks/R.framework/Versions/Current/Resources/library --no-vignettes --timings MSstatsQC_2.5.0.tar.gz |
| StartedAt: 2020-01-16 06:46:39 -0500 (Thu, 16 Jan 2020) |
| EndedAt: 2020-01-16 06:51:42 -0500 (Thu, 16 Jan 2020) |
| EllapsedTime: 302.7 seconds |
| RetCode: 0 |
| Status: OK |
| CheckDir: MSstatsQC.Rcheck |
| Warnings: 0 |
##############################################################################
##############################################################################
###
### Running command:
###
### /Library/Frameworks/R.framework/Versions/Current/Resources/bin/R CMD check --install=check:MSstatsQC.install-out.txt --library=/Library/Frameworks/R.framework/Versions/Current/Resources/library --no-vignettes --timings MSstatsQC_2.5.0.tar.gz
###
##############################################################################
##############################################################################
* using log directory ‘/Users/biocbuild/bbs-3.11-bioc/meat/MSstatsQC.Rcheck’
* using R Under development (unstable) (2019-12-14 r77572)
* using platform: x86_64-apple-darwin15.6.0 (64-bit)
* using session charset: UTF-8
* using option ‘--no-vignettes’
* checking for file ‘MSstatsQC/DESCRIPTION’ ... OK
* checking extension type ... Package
* this is package ‘MSstatsQC’ version ‘2.5.0’
* checking package namespace information ... OK
* checking package dependencies ... OK
* checking if this is a source package ... OK
* checking if there is a namespace ... OK
* checking for hidden files and directories ... OK
* checking for portable file names ... OK
* checking for sufficient/correct file permissions ... OK
* checking whether package ‘MSstatsQC’ can be installed ... OK
* checking installed package size ... OK
* checking package directory ... OK
* checking ‘build’ directory ... OK
* checking DESCRIPTION meta-information ... OK
* checking top-level files ... OK
* checking for left-over files ... OK
* checking index information ... OK
* checking package subdirectories ... OK
* checking R files for non-ASCII characters ... OK
* checking R files for syntax errors ... OK
* checking whether the package can be loaded ... OK
* checking whether the package can be loaded with stated dependencies ... OK
* checking whether the package can be unloaded cleanly ... OK
* checking whether the namespace can be loaded with stated dependencies ... OK
* checking whether the namespace can be unloaded cleanly ... OK
* checking dependencies in R code ... OK
* checking S3 generic/method consistency ... OK
* checking replacement functions ... OK
* checking foreign function calls ... OK
* checking R code for possible problems ... NOTE
MissingDataMap: no visible binding for global variable ‘AcquiredTime’
MissingDataMap: no visible binding for global variable ‘Precursor’
Undefined global functions or variables:
AcquiredTime Precursor
* checking Rd files ... OK
* checking Rd metadata ... OK
* checking Rd cross-references ... OK
* checking for missing documentation entries ... OK
* checking for code/documentation mismatches ... OK
* checking Rd \usage sections ... OK
* checking Rd contents ... OK
* checking for unstated dependencies in examples ... OK
* checking contents of ‘data’ directory ... OK
* checking data for non-ASCII characters ... OK
* checking data for ASCII and uncompressed saves ... OK
* checking files in ‘vignettes’ ... OK
* checking examples ... OK
Examples with CPU (user + system) or elapsed time > 5s
user system elapsed
CUSUMChart 6.366 2.996 2.903
ChangePointEstimator 5.655 2.614 2.174
RadarPlot 7.104 0.068 8.812
RiverPlot 5.565 0.045 5.798
XmRChart 4.058 1.021 2.178
* checking for unstated dependencies in ‘tests’ ... OK
* checking tests ...
Running ‘testthat.R’
OK
* checking for unstated dependencies in vignettes ... OK
* checking package vignettes in ‘inst/doc’ ... OK
* checking running R code from vignettes ... SKIPPED
* checking re-building of vignette outputs ... SKIPPED
* checking PDF version of manual ... OK
* DONE
Status: 1 NOTE
See
‘/Users/biocbuild/bbs-3.11-bioc/meat/MSstatsQC.Rcheck/00check.log’
for details.
MSstatsQC.Rcheck/00install.out
############################################################################## ############################################################################## ### ### Running command: ### ### /Library/Frameworks/R.framework/Versions/Current/Resources/bin/R CMD INSTALL MSstatsQC ### ############################################################################## ############################################################################## * installing to library ‘/Library/Frameworks/R.framework/Versions/4.0/Resources/library’ * installing *source* package ‘MSstatsQC’ ... ** using staged installation ** R ** data *** moving datasets to lazyload DB ** byte-compile and prepare package for lazy loading ** help *** installing help indices ** building package indices ** installing vignettes ** testing if installed package can be loaded from temporary location ** testing if installed package can be loaded from final location ** testing if installed package keeps a record of temporary installation path * DONE (MSstatsQC)
MSstatsQC.Rcheck/tests/testthat.Rout
R Under development (unstable) (2019-12-14 r77572) -- "Unsuffered Consequences"
Copyright (C) 2019 The R Foundation for Statistical Computing
Platform: x86_64-apple-darwin15.6.0 (64-bit)
R is free software and comes with ABSOLUTELY NO WARRANTY.
You are welcome to redistribute it under certain conditions.
Type 'license()' or 'licence()' for distribution details.
R is a collaborative project with many contributors.
Type 'contributors()' for more information and
'citation()' on how to cite R or R packages in publications.
Type 'demo()' for some demos, 'help()' for on-line help, or
'help.start()' for an HTML browser interface to help.
Type 'q()' to quit R.
> library(testthat)
> library(MSstatsQC)
>
> test_check("MSstatsQC")
══ testthat results ═══════════════════════════════════════════════════════════
[ OK: 15 | SKIPPED: 0 | WARNINGS: 0 | FAILED: 0 ]
>
> proc.time()
user system elapsed
13.785 1.313 15.040
MSstatsQC.Rcheck/MSstatsQC-Ex.timings
| name | user | system | elapsed | |
| CUSUMChart | 6.366 | 2.996 | 2.903 | |
| ChangePointEstimator | 5.655 | 2.614 | 2.174 | |
| DataProcess | 0.032 | 0.002 | 0.032 | |
| DecisionMap | 3.896 | 0.088 | 4.328 | |
| MissingDataMap | 0 | 0 | 0 | |
| RadarPlot | 7.104 | 0.068 | 8.812 | |
| RemoveMissing | 0.001 | 0.000 | 0.000 | |
| RiverPlot | 5.565 | 0.045 | 5.798 | |
| XmRChart | 4.058 | 1.021 | 2.178 | |