| Back to Multiple platform build/check report for BioC 3.11 |
|
This page was generated on 2020-10-17 11:57:13 -0400 (Sat, 17 Oct 2020).
| TO THE DEVELOPERS/MAINTAINERS OF THE MSstatsQC PACKAGE: Please make sure to use the following settings in order to reproduce any error or warning you see on this page. |
| Package 1145/1905 | Hostname | OS / Arch | INSTALL | BUILD | CHECK | BUILD BIN | ||||||
| MSstatsQC 2.6.0 Eralp Dogu
| malbec2 | Linux (Ubuntu 18.04.4 LTS) / x86_64 | OK | OK | OK | |||||||
| tokay2 | Windows Server 2012 R2 Standard / x64 | OK | [ OK ] | OK | OK | |||||||
| machv2 | macOS 10.14.6 Mojave / x86_64 | OK | OK | OK | OK |
| Package: MSstatsQC |
| Version: 2.6.0 |
| Command: chmod a+r MSstatsQC -R && C:\Users\biocbuild\bbs-3.11-bioc\R\bin\R.exe CMD build --keep-empty-dirs --no-resave-data MSstatsQC |
| StartedAt: 2020-10-16 23:01:44 -0400 (Fri, 16 Oct 2020) |
| EndedAt: 2020-10-16 23:02:59 -0400 (Fri, 16 Oct 2020) |
| EllapsedTime: 75.7 seconds |
| RetCode: 0 |
| Status: OK |
| PackageFile: MSstatsQC_2.6.0.tar.gz |
| PackageFileSize: 1.287 MiB |
############################################################################## ############################################################################## ### ### Running command: ### ### chmod a+r MSstatsQC -R && C:\Users\biocbuild\bbs-3.11-bioc\R\bin\R.exe CMD build --keep-empty-dirs --no-resave-data MSstatsQC ### ############################################################################## ############################################################################## * checking for file 'MSstatsQC/DESCRIPTION' ... OK * preparing 'MSstatsQC': * checking DESCRIPTION meta-information ... OK * installing the package to build vignettes * creating vignettes ... OK * checking for LF line-endings in source and make files and shell scripts * checking for empty or unneeded directories NB: this package now depends on R (>= 3.5.0) WARNING: Added dependency on R >= 3.5.0 because serialized objects in serialize/load version 3 cannot be read in older versions of R. File(s) containing such objects: 'MSstatsQC/data/S9Site54.RData' * building 'MSstatsQC_2.6.0.tar.gz'