| Back to Multiple platform build/check report for BioC 3.11 |
|
This page was generated on 2020-10-17 11:56:58 -0400 (Sat, 17 Oct 2020).
| TO THE DEVELOPERS/MAINTAINERS OF THE LVSmiRNA PACKAGE: Please make sure to use the following settings in order to reproduce any error or warning you see on this page. |
| Package 962/1905 | Hostname | OS / Arch | INSTALL | BUILD | CHECK | BUILD BIN | ||||||
Stefano Calza
| malbec2 | Linux (Ubuntu 18.04.4 LTS) / x86_64 | OK | ERROR | skipped | |||||||
| tokay2 | Windows Server 2012 R2 Standard / x64 | [ OK ] | ERROR | skipped | skipped | |||||||
| machv2 | macOS 10.14.6 Mojave / x86_64 | OK | ERROR | skipped | skipped |
| Package: LVSmiRNA |
| Version: 1.38.0 |
| Command: C:\cygwin\bin\curl.exe -O https://malbec2.bioconductor.org/BBS/3.11/bioc/src/contrib/LVSmiRNA_1.38.0.tar.gz && rm -rf LVSmiRNA.buildbin-libdir && mkdir LVSmiRNA.buildbin-libdir && C:\Users\biocbuild\bbs-3.11-bioc\R\bin\R.exe CMD INSTALL --merge-multiarch --build --library=LVSmiRNA.buildbin-libdir LVSmiRNA_1.38.0.tar.gz && C:\Users\biocbuild\bbs-3.11-bioc\R\bin\R.exe CMD INSTALL LVSmiRNA_1.38.0.zip && rm LVSmiRNA_1.38.0.tar.gz LVSmiRNA_1.38.0.zip |
| StartedAt: 2020-10-16 17:18:49 -0400 (Fri, 16 Oct 2020) |
| EndedAt: 2020-10-16 17:19:41 -0400 (Fri, 16 Oct 2020) |
| EllapsedTime: 51.8 seconds |
| RetCode: 0 |
| Status: OK |
##############################################################################
##############################################################################
###
### Running command:
###
### C:\cygwin\bin\curl.exe -O https://malbec2.bioconductor.org/BBS/3.11/bioc/src/contrib/LVSmiRNA_1.38.0.tar.gz && rm -rf LVSmiRNA.buildbin-libdir && mkdir LVSmiRNA.buildbin-libdir && C:\Users\biocbuild\bbs-3.11-bioc\R\bin\R.exe CMD INSTALL --merge-multiarch --build --library=LVSmiRNA.buildbin-libdir LVSmiRNA_1.38.0.tar.gz && C:\Users\biocbuild\bbs-3.11-bioc\R\bin\R.exe CMD INSTALL LVSmiRNA_1.38.0.zip && rm LVSmiRNA_1.38.0.tar.gz LVSmiRNA_1.38.0.zip
###
##############################################################################
##############################################################################
% Total % Received % Xferd Average Speed Time Time Time Current
Dload Upload Total Spent Left Speed
0 0 0 0 0 0 0 0 --:--:-- --:--:-- --:--:-- 0
100 317k 100 317k 0 0 1984k 0 --:--:-- --:--:-- --:--:-- 2073k
install for i386
* installing *source* package 'LVSmiRNA' ...
** using staged installation
** libs
"C:/rtools40/mingw32/bin/"gcc -I"C:/Users/biocbuild/bbs-3.11-bioc/R/library/zlibbioc/include" -I"C:/Users/BIOCBU~1/BBS-3~1.11-/R/include" -DNDEBUG -DHAVE_ZLIB -I"C:/extsoft/include" -O2 -Wall -std=gnu99 -mfpmath=sse -msse2 -mstackrealign -c basic_fns.c -o basic_fns.o
basic_fns.c: In function 'lvs_median':
basic_fns.c:146:7: warning: unused variable 'i' [-Wunused-variable]
int i;
^
"C:/rtools40/mingw32/bin/"gcc -I"C:/Users/biocbuild/bbs-3.11-bioc/R/library/zlibbioc/include" -I"C:/Users/BIOCBU~1/BBS-3~1.11-/R/include" -DNDEBUG -DHAVE_ZLIB -I"C:/extsoft/include" -O2 -Wall -std=gnu99 -mfpmath=sse -msse2 -mstackrealign -c init.c -o init.o
"C:/rtools40/mingw32/bin/"gcc -I"C:/Users/biocbuild/bbs-3.11-bioc/R/library/zlibbioc/include" -I"C:/Users/BIOCBU~1/BBS-3~1.11-/R/include" -DNDEBUG -DHAVE_ZLIB -I"C:/extsoft/include" -O2 -Wall -std=gnu99 -mfpmath=sse -msse2 -mstackrealign -c lvs_rlm.c -o lvs_rlm.o
lvs_rlm.c: In function 'gamma_fit':
lvs_rlm.c:175:30: warning: variable 'converged' set but not used [-Wunused-but-set-variable]
int i,j, rows, cols, iter, converged=0;
^~~~~~~~~
lvs_rlm.c: In function 'test_gamma_fit':
lvs_rlm.c:286:30: warning: variable 'converged' set but not used [-Wunused-but-set-variable]
int i,j, rows, cols, iter, converged=0;
^~~~~~~~~
C:/rtools40/mingw32/bin/gcc -shared -s -static-libgcc -o LVSmiRNA.dll tmp.def basic_fns.o init.o lvs_rlm.o -lgfortran -lm -lquadmath -LC:/Users/BIOCBU~1/BBS-3~1.11-/R/bin/i386 -lRlapack -LC:/Users/BIOCBU~1/BBS-3~1.11-/R/bin/i386 -lRblas -LC:/Users/biocbuild/bbs-3.11-bioc/R/library/zlibbioc/libs/i386 -lzlib1bioc -LC:/extsoft/lib/i386 -LC:/extsoft/lib -LC:/Users/BIOCBU~1/BBS-3~1.11-/R/bin/i386 -lR
installing to C:/Users/biocbuild/bbs-3.11-bioc/meat/LVSmiRNA.buildbin-libdir/00LOCK-LVSmiRNA/00new/LVSmiRNA/libs/i386
** R
** data
** inst
** byte-compile and prepare package for lazy loading
No methods found in package 'BiocGenerics' for requests: 'as.vector', 'unlist' when loading 'LVSmiRNA'
** help
*** installing help indices
converting help for package 'LVSmiRNA'
finding HTML links ... done
MIR-spike-in html
RLM html
boxplot-methods html
estVC html
exprs-methods html
exprs_assign-methods html
featureNames-method html
lvs html
plotRA html
finding level-2 HTML links ... done
preproc-methods html
preproc_assign-methods html
probeNames-methods html
read.mir html
rlmFit html
sampleNames-methods html
summarize html
** building package indices
** installing vignettes
** testing if installed package can be loaded from temporary location
No methods found in package 'BiocGenerics' for requests: 'as.vector', 'unlist' when loading 'LVSmiRNA'
Warning: Package 'LVSmiRNA' is deprecated and will be removed from Bioconductor
version 3.12
** testing if installed package can be loaded from final location
No methods found in package 'BiocGenerics' for requests: 'as.vector', 'unlist' when loading 'LVSmiRNA'
Warning: Package 'LVSmiRNA' is deprecated and will be removed from Bioconductor
version 3.12
** testing if installed package keeps a record of temporary installation path
install for x64
* installing *source* package 'LVSmiRNA' ...
** libs
"C:/rtools40/mingw64/bin/"gcc -I"C:/Users/biocbuild/bbs-3.11-bioc/R/library/zlibbioc/include" -I"C:/Users/BIOCBU~1/BBS-3~1.11-/R/include" -DNDEBUG -DHAVE_ZLIB -I"C:/extsoft/include" -O2 -Wall -std=gnu99 -mfpmath=sse -msse2 -mstackrealign -c basic_fns.c -o basic_fns.o
basic_fns.c: In function 'lvs_median':
basic_fns.c:146:7: warning: unused variable 'i' [-Wunused-variable]
int i;
^
"C:/rtools40/mingw64/bin/"gcc -I"C:/Users/biocbuild/bbs-3.11-bioc/R/library/zlibbioc/include" -I"C:/Users/BIOCBU~1/BBS-3~1.11-/R/include" -DNDEBUG -DHAVE_ZLIB -I"C:/extsoft/include" -O2 -Wall -std=gnu99 -mfpmath=sse -msse2 -mstackrealign -c init.c -o init.o
"C:/rtools40/mingw64/bin/"gcc -I"C:/Users/biocbuild/bbs-3.11-bioc/R/library/zlibbioc/include" -I"C:/Users/BIOCBU~1/BBS-3~1.11-/R/include" -DNDEBUG -DHAVE_ZLIB -I"C:/extsoft/include" -O2 -Wall -std=gnu99 -mfpmath=sse -msse2 -mstackrealign -c lvs_rlm.c -o lvs_rlm.o
lvs_rlm.c: In function 'gamma_fit':
lvs_rlm.c:175:30: warning: variable 'converged' set but not used [-Wunused-but-set-variable]
int i,j, rows, cols, iter, converged=0;
^~~~~~~~~
lvs_rlm.c: In function 'test_gamma_fit':
lvs_rlm.c:286:30: warning: variable 'converged' set but not used [-Wunused-but-set-variable]
int i,j, rows, cols, iter, converged=0;
^~~~~~~~~
C:/rtools40/mingw64/bin/gcc -shared -s -static-libgcc -o LVSmiRNA.dll tmp.def basic_fns.o init.o lvs_rlm.o -lgfortran -lm -lquadmath -LC:/Users/BIOCBU~1/BBS-3~1.11-/R/bin/x64 -lRlapack -LC:/Users/BIOCBU~1/BBS-3~1.11-/R/bin/x64 -lRblas -LC:/Users/biocbuild/bbs-3.11-bioc/R/library/zlibbioc/libs/x64 -lzlib1bioc -LC:/extsoft/lib/x64 -LC:/extsoft/lib -LC:/Users/BIOCBU~1/BBS-3~1.11-/R/bin/x64 -lR
installing to C:/Users/biocbuild/bbs-3.11-bioc/meat/LVSmiRNA.buildbin-libdir/LVSmiRNA/libs/x64
** testing if installed package can be loaded
No methods found in package 'BiocGenerics' for requests: 'as.vector', 'unlist' when loading 'LVSmiRNA'
Warning: Package 'LVSmiRNA' is deprecated and will be removed from Bioconductor
version 3.12
* MD5 sums
packaged installation of 'LVSmiRNA' as LVSmiRNA_1.38.0.zip
* DONE (LVSmiRNA)
* installing to library 'C:/Users/biocbuild/bbs-3.11-bioc/R/library'
package 'LVSmiRNA' successfully unpacked and MD5 sums checked