| Back to Multiple platform build/check report for BioC 3.11 |
|
This page was generated on 2020-07-07 13:50:53 -0400 (Tue, 07 Jul 2020).
| TO THE DEVELOPERS/MAINTAINERS OF THE Imetagene PACKAGE: Please make sure to use the following settings in order to reproduce any error or warning you see on this page. |
| Package 867/1905 | Hostname | OS / Arch | INSTALL | BUILD | CHECK | BUILD BIN | ||||||
| Imetagene 1.18.0 Audrey Lemacon
| malbec2 | Linux (Ubuntu 18.04.4 LTS) / x86_64 | OK | OK | OK | |||||||
| tokay2 | Windows Server 2012 R2 Standard / x64 | OK | OK | OK | [ OK ] | |||||||
| machv2 | macOS 10.14.6 Mojave / x86_64 | OK | OK | OK | OK |
| Package: Imetagene |
| Version: 1.18.0 |
| Command: rm -rf Imetagene.buildbin-libdir && mkdir Imetagene.buildbin-libdir && C:\Users\biocbuild\bbs-3.11-bioc\R\bin\R.exe CMD INSTALL --merge-multiarch --build --library=Imetagene.buildbin-libdir Imetagene_1.18.0.tar.gz |
| StartedAt: 2020-07-07 12:16:01 -0400 (Tue, 07 Jul 2020) |
| EndedAt: 2020-07-07 12:17:05 -0400 (Tue, 07 Jul 2020) |
| EllapsedTime: 64.4 seconds |
| RetCode: 0 |
| Status: OK |
| PackageFile: Imetagene_1.18.0.zip |
| PackageFileSize: 1.36 MiB |
##############################################################################
##############################################################################
###
### Running command:
###
### rm -rf Imetagene.buildbin-libdir && mkdir Imetagene.buildbin-libdir && C:\Users\biocbuild\bbs-3.11-bioc\R\bin\R.exe CMD INSTALL --merge-multiarch --build --library=Imetagene.buildbin-libdir Imetagene_1.18.0.tar.gz
###
##############################################################################
##############################################################################
install for i386
* installing *source* package 'Imetagene' ...
** using staged installation
** R
** inst
** byte-compile and prepare package for lazy loading
** help
*** installing help indices
converting help for package 'Imetagene'
finding HTML links ... done
shiny_metagene html
** building package indices
** installing vignettes
** testing if installed package can be loaded from temporary location
** testing if installed package can be loaded from final location
** testing if installed package keeps a record of temporary installation path
install for x64
* installing *source* package 'Imetagene' ...
** testing if installed package can be loaded
* MD5 sums
packaged installation of 'Imetagene' as Imetagene_1.18.0.zip
* DONE (Imetagene)