| Back to Multiple platform build/check report for BioC 3.11 | 
  | 
This page was generated on 2020-10-17 11:54:58 -0400 (Sat, 17 Oct 2020).
| TO THE DEVELOPERS/MAINTAINERS OF THE Imetagene PACKAGE: Please make sure to use the following settings in order to reproduce any error or warning you see on this page. | 
| Package 867/1905 | Hostname | OS / Arch | INSTALL | BUILD | CHECK | BUILD BIN | ||||||
| Imetagene 1.18.0 Audrey Lemacon 
  | malbec2 | Linux (Ubuntu 18.04.4 LTS) / x86_64 | ERROR | [ ERROR ] | skipped | |||||||
| tokay2 | Windows Server 2012 R2 Standard / x64 | ERROR | ERROR | skipped | skipped | |||||||
| machv2 | macOS 10.14.6 Mojave / x86_64 | ERROR | ERROR | skipped | skipped | 
| Package: Imetagene | 
| Version: 1.18.0 | 
| Command: /home/biocbuild/bbs-3.11-bioc/R/bin/R CMD build --keep-empty-dirs --no-resave-data Imetagene | 
| StartedAt: 2020-10-16 19:51:16 -0400 (Fri, 16 Oct 2020) | 
| EndedAt: 2020-10-16 19:51:17 -0400 (Fri, 16 Oct 2020) | 
| EllapsedTime: 1.5 seconds | 
| RetCode: 1 | 
| Status: ERROR | 
| PackageFile: None | 
| PackageFileSize: NA | 
##############################################################################
##############################################################################
###
### Running command:
###
###   /home/biocbuild/bbs-3.11-bioc/R/bin/R CMD build --keep-empty-dirs --no-resave-data Imetagene
###
##############################################################################
##############################################################################
* checking for file ‘Imetagene/DESCRIPTION’ ... OK
* preparing ‘Imetagene’:
* checking DESCRIPTION meta-information ... OK
* installing the package to build vignettes
      -----------------------------------
ERROR: dependency ‘d3heatmap’ is not available for package ‘Imetagene’
* removing ‘/tmp/RtmpKAwU99/Rinst3298332c90b1/Imetagene’
      -----------------------------------
ERROR: package installation failed