| Back to Multiple platform build/check report for BioC 3.11 | 
  | 
This page was generated on 2020-10-17 11:56:40 -0400 (Sat, 17 Oct 2020).
| TO THE DEVELOPERS/MAINTAINERS OF THE GenomicInteractions PACKAGE: Please make sure to use the following settings in order to reproduce any error or warning you see on this page. | 
| Package 710/1905 | Hostname | OS / Arch | INSTALL | BUILD | CHECK | BUILD BIN | ||||||
| GenomicInteractions 1.22.0 Liz Ing-Simmons 
  | malbec2 | Linux (Ubuntu 18.04.4 LTS) / x86_64 | OK | OK | OK | |||||||
| tokay2 | Windows Server 2012 R2 Standard / x64 | OK | [ OK ] | WARNINGS | OK | |||||||
| machv2 | macOS 10.14.6 Mojave / x86_64 | OK | OK | OK | OK | 
| Package: GenomicInteractions | 
| Version: 1.22.0 | 
| Command: chmod a+r GenomicInteractions -R && C:\Users\biocbuild\bbs-3.11-bioc\R\bin\R.exe CMD build --keep-empty-dirs --no-resave-data GenomicInteractions | 
| StartedAt: 2020-10-16 21:55:35 -0400 (Fri, 16 Oct 2020) | 
| EndedAt: 2020-10-16 21:58:44 -0400 (Fri, 16 Oct 2020) | 
| EllapsedTime: 189.2 seconds | 
| RetCode: 0 | 
| Status: OK | 
| PackageFile: GenomicInteractions_1.22.0.tar.gz | 
| PackageFileSize: 3.314 MiB | 
############################################################################## ############################################################################## ### ### Running command: ### ### chmod a+r GenomicInteractions -R && C:\Users\biocbuild\bbs-3.11-bioc\R\bin\R.exe CMD build --keep-empty-dirs --no-resave-data GenomicInteractions ### ############################################################################## ############################################################################## * checking for file 'GenomicInteractions/DESCRIPTION' ... OK * preparing 'GenomicInteractions': * checking DESCRIPTION meta-information ... OK * installing the package to build vignettes * creating vignettes ... OK * checking for LF line-endings in source and make files and shell scripts * checking for empty or unneeded directories * looking to see if a 'data/datalist' file should be added * building 'GenomicInteractions_1.22.0.tar.gz'