| Back to Multiple platform build/check report for BioC 3.11 |
|
This page was generated on 2020-10-17 11:56:39 -0400 (Sat, 17 Oct 2020).
| TO THE DEVELOPERS/MAINTAINERS OF THE GeneticsDesign PACKAGE: Please make sure to use the following settings in order to reproduce any error or warning you see on this page. |
| Package 695/1905 | Hostname | OS / Arch | INSTALL | BUILD | CHECK | BUILD BIN | ||||||
| GeneticsDesign 1.56.0 The R Genetics Project
| malbec2 | Linux (Ubuntu 18.04.4 LTS) / x86_64 | OK | OK | ERROR | |||||||
| tokay2 | Windows Server 2012 R2 Standard / x64 | OK | [ OK ] | ERROR | OK | |||||||
| machv2 | macOS 10.14.6 Mojave / x86_64 | OK | OK | ERROR | OK |
| Package: GeneticsDesign |
| Version: 1.56.0 |
| Command: chmod a+r GeneticsDesign -R && C:\Users\biocbuild\bbs-3.11-bioc\R\bin\R.exe CMD build --keep-empty-dirs --no-resave-data GeneticsDesign |
| StartedAt: 2020-10-16 21:54:02 -0400 (Fri, 16 Oct 2020) |
| EndedAt: 2020-10-16 21:54:27 -0400 (Fri, 16 Oct 2020) |
| EllapsedTime: 24.9 seconds |
| RetCode: 0 |
| Status: OK |
| PackageFile: GeneticsDesign_1.56.0.tar.gz |
| PackageFileSize: 218.9 KiB |
############################################################################## ############################################################################## ### ### Running command: ### ### chmod a+r GeneticsDesign -R && C:\Users\biocbuild\bbs-3.11-bioc\R\bin\R.exe CMD build --keep-empty-dirs --no-resave-data GeneticsDesign ### ############################################################################## ############################################################################## * checking for file 'GeneticsDesign/DESCRIPTION' ... OK * preparing 'GeneticsDesign': * checking DESCRIPTION meta-information ... OK Warning: newline within quoted string at GPC.Rd:38 Warning: C:/Users/biocbuild/bbs-3.11-bioc/tmpdir/RtmpCwiADP/Rbuild18b0192fda8/GeneticsDesign/man/GPC.Rd:40: unexpected section header '\value' Warning: newline within quoted string at GPC.Rd:38 Warning: C:/Users/biocbuild/bbs-3.11-bioc/tmpdir/RtmpCwiADP/Rbuild18b0192fda8/GeneticsDesign/man/GPC.Rd:49: unexpected UNKNOWN '\item' Warning: newline within quoted string at GPC.Rd:38 Warning: C:/Users/biocbuild/bbs-3.11-bioc/tmpdir/RtmpCwiADP/Rbuild18b0192fda8/GeneticsDesign/man/GPC.Rd:51: unexpected UNKNOWN '\item' Warning: newline within quoted string at GPC.Rd:38 Warning: C:/Users/biocbuild/bbs-3.11-bioc/tmpdir/RtmpCwiADP/Rbuild18b0192fda8/GeneticsDesign/man/GPC.Rd:53: unexpected UNKNOWN '\item' * installing the package to build vignettes * creating vignettes ... OK * checking for LF line-endings in source and make files and shell scripts * checking for empty or unneeded directories * building 'GeneticsDesign_1.56.0.tar.gz'