| Back to Multiple platform build/check report for BioC 3.11 |
|
This page was generated on 2020-10-17 11:56:39 -0400 (Sat, 17 Oct 2020).
| TO THE DEVELOPERS/MAINTAINERS OF THE GeneticsDesign PACKAGE: Please make sure to use the following settings in order to reproduce any error or warning you see on this page. |
| Package 695/1905 | Hostname | OS / Arch | INSTALL | BUILD | CHECK | BUILD BIN | ||||||
| GeneticsDesign 1.56.0 The R Genetics Project
| malbec2 | Linux (Ubuntu 18.04.4 LTS) / x86_64 | OK | OK | ERROR | |||||||
| tokay2 | Windows Server 2012 R2 Standard / x64 | OK | OK | ERROR | [ OK ] | |||||||
| machv2 | macOS 10.14.6 Mojave / x86_64 | OK | OK | ERROR | OK |
| Package: GeneticsDesign |
| Version: 1.56.0 |
| Command: rm -rf GeneticsDesign.buildbin-libdir && mkdir GeneticsDesign.buildbin-libdir && C:\Users\biocbuild\bbs-3.11-bioc\R\bin\R.exe CMD INSTALL --merge-multiarch --build --library=GeneticsDesign.buildbin-libdir GeneticsDesign_1.56.0.tar.gz |
| StartedAt: 2020-10-17 10:37:03 -0400 (Sat, 17 Oct 2020) |
| EndedAt: 2020-10-17 10:37:52 -0400 (Sat, 17 Oct 2020) |
| EllapsedTime: 48.5 seconds |
| RetCode: 0 |
| Status: OK |
| PackageFile: GeneticsDesign_1.56.0.zip |
| PackageFileSize: 272.5 KiB |
##############################################################################
##############################################################################
###
### Running command:
###
### rm -rf GeneticsDesign.buildbin-libdir && mkdir GeneticsDesign.buildbin-libdir && C:\Users\biocbuild\bbs-3.11-bioc\R\bin\R.exe CMD INSTALL --merge-multiarch --build --library=GeneticsDesign.buildbin-libdir GeneticsDesign_1.56.0.tar.gz
###
##############################################################################
##############################################################################
install for i386
* installing *source* package 'GeneticsDesign' ...
** using staged installation
** R
** inst
** byte-compile and prepare package for lazy loading
** help
Warning: newline within quoted string at GPC.Rd:38
Warning: C:/Users/biocbuild/bbs-3.11-bioc/tmpdir/RtmpmmmJbP/R.INSTALL273c1952761a/GeneticsDesign/man/GPC.Rd:40: unexpected section header '\value'
Warning: newline within quoted string at GPC.Rd:38
Warning: C:/Users/biocbuild/bbs-3.11-bioc/tmpdir/RtmpmmmJbP/R.INSTALL273c1952761a/GeneticsDesign/man/GPC.Rd:49: unexpected UNKNOWN '\item'
Warning: newline within quoted string at GPC.Rd:38
Warning: C:/Users/biocbuild/bbs-3.11-bioc/tmpdir/RtmpmmmJbP/R.INSTALL273c1952761a/GeneticsDesign/man/GPC.Rd:51: unexpected UNKNOWN '\item'
Warning: newline within quoted string at GPC.Rd:38
Warning: C:/Users/biocbuild/bbs-3.11-bioc/tmpdir/RtmpmmmJbP/R.INSTALL273c1952761a/GeneticsDesign/man/GPC.Rd:53: unexpected UNKNOWN '\item'
Warning: C:/Users/biocbuild/bbs-3.11-bioc/tmpdir/RtmpmmmJbP/R.INSTALL273c1952761a/GeneticsDesign/man/GPC.Rd:49: All text must be in a section
Warning: C:/Users/biocbuild/bbs-3.11-bioc/tmpdir/RtmpmmmJbP/R.INSTALL273c1952761a/GeneticsDesign/man/GPC.Rd:49: All text must be in a section
Warning: C:/Users/biocbuild/bbs-3.11-bioc/tmpdir/RtmpmmmJbP/R.INSTALL273c1952761a/GeneticsDesign/man/GPC.Rd:49: All text must be in a section
Warning: C:/Users/biocbuild/bbs-3.11-bioc/tmpdir/RtmpmmmJbP/R.INSTALL273c1952761a/GeneticsDesign/man/GPC.Rd:49: All text must be in a section
Warning: C:/Users/biocbuild/bbs-3.11-bioc/tmpdir/RtmpmmmJbP/R.INSTALL273c1952761a/GeneticsDesign/man/GPC.Rd:51: All text must be in a section
Warning: C:/Users/biocbuild/bbs-3.11-bioc/tmpdir/RtmpmmmJbP/R.INSTALL273c1952761a/GeneticsDesign/man/GPC.Rd:51: All text must be in a section
Warning: C:/Users/biocbuild/bbs-3.11-bioc/tmpdir/RtmpmmmJbP/R.INSTALL273c1952761a/GeneticsDesign/man/GPC.Rd:51: All text must be in a section
Warning: C:/Users/biocbuild/bbs-3.11-bioc/tmpdir/RtmpmmmJbP/R.INSTALL273c1952761a/GeneticsDesign/man/GPC.Rd:51: All text must be in a section
Warning: C:/Users/biocbuild/bbs-3.11-bioc/tmpdir/RtmpmmmJbP/R.INSTALL273c1952761a/GeneticsDesign/man/GPC.Rd:53: All text must be in a section
Warning: C:/Users/biocbuild/bbs-3.11-bioc/tmpdir/RtmpmmmJbP/R.INSTALL273c1952761a/GeneticsDesign/man/GPC.Rd:53: All text must be in a section
*** installing help indices
converting help for package 'GeneticsDesign'
finding HTML links ... done
GPC html
GeneticPower.Quantitative.Numeric html
depreciated html
gregorius html
power.genotype.conti html
** building package indices
** installing vignettes
** testing if installed package can be loaded from temporary location
** testing if installed package can be loaded from final location
** testing if installed package keeps a record of temporary installation path
install for x64
* installing *source* package 'GeneticsDesign' ...
** testing if installed package can be loaded
* MD5 sums
packaged installation of 'GeneticsDesign' as GeneticsDesign_1.56.0.zip
* DONE (GeneticsDesign)