| Back to Multiple platform build/check report for BioC 3.11 |
|
This page was generated on 2020-10-17 11:56:47 -0400 (Sat, 17 Oct 2020).
| TO THE DEVELOPERS/MAINTAINERS OF THE GSEABenchmarkeR PACKAGE: Please make sure to use the following settings in order to reproduce any error or warning you see on this page. |
| Package 786/1905 | Hostname | OS / Arch | INSTALL | BUILD | CHECK | BUILD BIN | ||||||
| GSEABenchmarkeR 1.8.0 Ludwig Geistlinger
| malbec2 | Linux (Ubuntu 18.04.4 LTS) / x86_64 | OK | OK | OK | |||||||
| tokay2 | Windows Server 2012 R2 Standard / x64 | OK | OK | [ OK ] | OK | |||||||
| machv2 | macOS 10.14.6 Mojave / x86_64 | OK | OK | OK | OK |
| Package: GSEABenchmarkeR |
| Version: 1.8.0 |
| Command: C:\Users\biocbuild\bbs-3.11-bioc\R\bin\R.exe CMD check --force-multiarch --install=check:GSEABenchmarkeR.install-out.txt --library=C:\Users\biocbuild\bbs-3.11-bioc\R\library --no-vignettes --timings GSEABenchmarkeR_1.8.0.tar.gz |
| StartedAt: 2020-10-17 04:47:55 -0400 (Sat, 17 Oct 2020) |
| EndedAt: 2020-10-17 04:55:07 -0400 (Sat, 17 Oct 2020) |
| EllapsedTime: 432.2 seconds |
| RetCode: 0 |
| Status: OK |
| CheckDir: GSEABenchmarkeR.Rcheck |
| Warnings: 0 |
##############################################################################
##############################################################################
###
### Running command:
###
### C:\Users\biocbuild\bbs-3.11-bioc\R\bin\R.exe CMD check --force-multiarch --install=check:GSEABenchmarkeR.install-out.txt --library=C:\Users\biocbuild\bbs-3.11-bioc\R\library --no-vignettes --timings GSEABenchmarkeR_1.8.0.tar.gz
###
##############################################################################
##############################################################################
* using log directory 'C:/Users/biocbuild/bbs-3.11-bioc/meat/GSEABenchmarkeR.Rcheck'
* using R version 4.0.3 (2020-10-10)
* using platform: x86_64-w64-mingw32 (64-bit)
* using session charset: ISO8859-1
* using option '--no-vignettes'
* checking for file 'GSEABenchmarkeR/DESCRIPTION' ... OK
* checking extension type ... Package
* this is package 'GSEABenchmarkeR' version '1.8.0'
* package encoding: UTF-8
* checking package namespace information ... OK
* checking package dependencies ... OK
* checking if this is a source package ... OK
* checking if there is a namespace ... OK
* checking for hidden files and directories ... OK
* checking for portable file names ... OK
* checking whether package 'GSEABenchmarkeR' can be installed ... OK
* checking installed package size ... OK
* checking package directory ... OK
* checking 'build' directory ... OK
* checking DESCRIPTION meta-information ... OK
* checking top-level files ... OK
* checking for left-over files ... OK
* checking index information ... OK
* checking package subdirectories ... OK
* checking R files for non-ASCII characters ... OK
* checking R files for syntax errors ... OK
* loading checks for arch 'i386'
** checking whether the package can be loaded ... OK
** checking whether the package can be loaded with stated dependencies ... OK
** checking whether the package can be unloaded cleanly ... OK
** checking whether the namespace can be loaded with stated dependencies ... OK
** checking whether the namespace can be unloaded cleanly ... OK
* loading checks for arch 'x64'
** checking whether the package can be loaded ... OK
** checking whether the package can be loaded with stated dependencies ... OK
** checking whether the package can be unloaded cleanly ... OK
** checking whether the namespace can be loaded with stated dependencies ... OK
** checking whether the namespace can be unloaded cleanly ... OK
* checking dependencies in R code ... OK
* checking S3 generic/method consistency ... OK
* checking replacement functions ... OK
* checking foreign function calls ... OK
* checking R code for possible problems ... NOTE
evalRelevance: no visible binding for global variable 'REL.SCORE'
Undefined global functions or variables:
REL.SCORE
* checking Rd files ... OK
* checking Rd metadata ... OK
* checking Rd cross-references ... OK
* checking for missing documentation entries ... OK
* checking for code/documentation mismatches ... OK
* checking Rd \usage sections ... OK
* checking Rd contents ... OK
* checking for unstated dependencies in examples ... OK
* checking files in 'vignettes' ... OK
* checking examples ...
** running examples for arch 'i386' ... OK
Examples with CPU (user + system) or elapsed time > 5s
user system elapsed
loadEData 35.58 3.24 48.07
evalTypeIError 22.63 0.32 25.87
runEA 10.66 0.21 10.87
evalRandomGS 8.41 0.41 10.15
** running examples for arch 'x64' ... OK
Examples with CPU (user + system) or elapsed time > 5s
user system elapsed
loadEData 30.53 2.64 33.71
evalTypeIError 23.84 0.28 24.13
runEA 14.14 0.28 14.42
evalRandomGS 5.09 0.21 5.29
* checking for unstated dependencies in vignettes ... OK
* checking package vignettes in 'inst/doc' ... OK
* checking running R code from vignettes ... SKIPPED
* checking re-building of vignette outputs ... SKIPPED
* checking PDF version of manual ... OK
* DONE
Status: 1 NOTE
See
'C:/Users/biocbuild/bbs-3.11-bioc/meat/GSEABenchmarkeR.Rcheck/00check.log'
for details.
GSEABenchmarkeR.Rcheck/00install.out
##############################################################################
##############################################################################
###
### Running command:
###
### C:\cygwin\bin\curl.exe -O https://malbec2.bioconductor.org/BBS/3.11/bioc/src/contrib/GSEABenchmarkeR_1.8.0.tar.gz && rm -rf GSEABenchmarkeR.buildbin-libdir && mkdir GSEABenchmarkeR.buildbin-libdir && C:\Users\biocbuild\bbs-3.11-bioc\R\bin\R.exe CMD INSTALL --merge-multiarch --build --library=GSEABenchmarkeR.buildbin-libdir GSEABenchmarkeR_1.8.0.tar.gz && C:\Users\biocbuild\bbs-3.11-bioc\R\bin\R.exe CMD INSTALL GSEABenchmarkeR_1.8.0.zip && rm GSEABenchmarkeR_1.8.0.tar.gz GSEABenchmarkeR_1.8.0.zip
###
##############################################################################
##############################################################################
% Total % Received % Xferd Average Speed Time Time Time Current
Dload Upload Total Spent Left Speed
0 0 0 0 0 0 0 0 --:--:-- --:--:-- --:--:-- 0
0 0 0 0 0 0 0 0 --:--:-- --:--:-- --:--:-- 0
100 300k 100 300k 0 0 4562k 0 --:--:-- --:--:-- --:--:-- 5014k
install for i386
* installing *source* package 'GSEABenchmarkeR' ...
** using staged installation
** R
** inst
** byte-compile and prepare package for lazy loading
** help
*** installing help indices
converting help for package 'GSEABenchmarkeR'
finding HTML links ... done
bpPlot html
cacheResource html
finding level-2 HTML links ... done
evalNrSigSets html
evalRandomGS html
evalRelevance html
evalTypeIError html
loadEData html
maPreproc html
readDataId2diseaseCodeMap html
readResults html
runDE html
runEA html
** building package indices
** installing vignettes
** testing if installed package can be loaded from temporary location
** testing if installed package can be loaded from final location
** testing if installed package keeps a record of temporary installation path
install for x64
* installing *source* package 'GSEABenchmarkeR' ...
** testing if installed package can be loaded
* MD5 sums
packaged installation of 'GSEABenchmarkeR' as GSEABenchmarkeR_1.8.0.zip
* DONE (GSEABenchmarkeR)
* installing to library 'C:/Users/biocbuild/bbs-3.11-bioc/R/library'
package 'GSEABenchmarkeR' successfully unpacked and MD5 sums checked
|
GSEABenchmarkeR.Rcheck/examples_i386/GSEABenchmarkeR-Ex.timings
|
GSEABenchmarkeR.Rcheck/examples_x64/GSEABenchmarkeR-Ex.timings
|