| Back to Multiple platform build/check report for BioC 3.11 | 
  | 
This page was generated on 2020-10-17 11:56:47 -0400 (Sat, 17 Oct 2020).
| TO THE DEVELOPERS/MAINTAINERS OF THE GSEABenchmarkeR PACKAGE: Please make sure to use the following settings in order to reproduce any error or warning you see on this page. | 
| Package 786/1905 | Hostname | OS / Arch | INSTALL | BUILD | CHECK | BUILD BIN | ||||||
| GSEABenchmarkeR 1.8.0 Ludwig Geistlinger 
  | malbec2 | Linux (Ubuntu 18.04.4 LTS) / x86_64 | OK | OK | OK | |||||||
| tokay2 | Windows Server 2012 R2 Standard / x64 | OK | OK | OK | [ OK ] | |||||||
| machv2 | macOS 10.14.6 Mojave / x86_64 | OK | OK | OK | OK | 
| Package: GSEABenchmarkeR | 
| Version: 1.8.0 | 
| Command: rm -rf GSEABenchmarkeR.buildbin-libdir && mkdir GSEABenchmarkeR.buildbin-libdir && C:\Users\biocbuild\bbs-3.11-bioc\R\bin\R.exe CMD INSTALL --merge-multiarch --build --library=GSEABenchmarkeR.buildbin-libdir GSEABenchmarkeR_1.8.0.tar.gz | 
| StartedAt: 2020-10-17 10:43:04 -0400 (Sat, 17 Oct 2020) | 
| EndedAt: 2020-10-17 10:43:44 -0400 (Sat, 17 Oct 2020) | 
| EllapsedTime: 39.8 seconds | 
| RetCode: 0 | 
| Status: OK | 
| PackageFile: GSEABenchmarkeR_1.8.0.zip | 
| PackageFileSize: 692.3 KiB | 
##############################################################################
##############################################################################
###
### Running command:
###
###   rm -rf GSEABenchmarkeR.buildbin-libdir && mkdir GSEABenchmarkeR.buildbin-libdir && C:\Users\biocbuild\bbs-3.11-bioc\R\bin\R.exe CMD INSTALL --merge-multiarch --build --library=GSEABenchmarkeR.buildbin-libdir GSEABenchmarkeR_1.8.0.tar.gz
###
##############################################################################
##############################################################################
install for i386
* installing *source* package 'GSEABenchmarkeR' ...
** using staged installation
** R
** inst
** byte-compile and prepare package for lazy loading
** help
*** installing help indices
  converting help for package 'GSEABenchmarkeR'
    finding HTML links ... done
    bpPlot                                  html  
    cacheResource                           html  
    finding level-2 HTML links ... done
    evalNrSigSets                           html  
    evalRandomGS                            html  
    evalRelevance                           html  
    evalTypeIError                          html  
    loadEData                               html  
    maPreproc                               html  
    readDataId2diseaseCodeMap               html  
    readResults                             html  
    runDE                                   html  
    runEA                                   html  
** building package indices
** installing vignettes
** testing if installed package can be loaded from temporary location
** testing if installed package can be loaded from final location
** testing if installed package keeps a record of temporary installation path
install for x64
* installing *source* package 'GSEABenchmarkeR' ...
** testing if installed package can be loaded
* MD5 sums
packaged installation of 'GSEABenchmarkeR' as GSEABenchmarkeR_1.8.0.zip
* DONE (GSEABenchmarkeR)