| Back to Multiple platform build/check report for BioC 3.11 | 
 | 
This page was generated on 2020-01-16 13:55:15 -0500 (Thu, 16 Jan 2020).
| Package 382/1818 | Hostname | OS / Arch | INSTALL | BUILD | CHECK | BUILD BIN | ||||||
| CrossICC 1.1.0 Yu Sun 
 | malbec2 | Linux (Ubuntu 18.04.3 LTS) / x86_64 | OK | OK | OK |  | ||||||
| tokay2 | Windows Server 2012 R2 Standard / x64 | OK | OK | OK | OK |  | ||||||
| celaya2 | OS X 10.11.6 El Capitan / x86_64 | OK | [ OK ] | OK | OK |  | 
| Package: CrossICC | 
| Version: 1.1.0 | 
| Command: /Library/Frameworks/R.framework/Versions/Current/Resources/bin/R CMD build --keep-empty-dirs --no-resave-data CrossICC | 
| StartedAt: 2020-01-16 00:54:46 -0500 (Thu, 16 Jan 2020) | 
| EndedAt: 2020-01-16 00:55:56 -0500 (Thu, 16 Jan 2020) | 
| EllapsedTime: 69.0 seconds | 
| RetCode: 0 | 
| Status: OK | 
| PackageFile: CrossICC_1.1.0.tar.gz | 
| PackageFileSize: 2.49 MiB | 
############################################################################## ############################################################################## ### ### Running command: ### ### /Library/Frameworks/R.framework/Versions/Current/Resources/bin/R CMD build --keep-empty-dirs --no-resave-data CrossICC ### ############################################################################## ############################################################################## * checking for file ‘CrossICC/DESCRIPTION’ ... OK * preparing ‘CrossICC’: * checking DESCRIPTION meta-information ... OK * installing the package to build vignettes * creating vignettes ... OK * checking for LF line-endings in source and make files and shell scripts * checking for empty or unneeded directories * looking to see if a ‘data/datalist’ file should be added * building ‘CrossICC_1.1.0.tar.gz’