| Back to Multiple platform build/check report for BioC 3.11 | 
 | 
This page was generated on 2020-10-17 11:56:23 -0400 (Sat, 17 Oct 2020).
| TO THE DEVELOPERS/MAINTAINERS OF THE CrossICC PACKAGE: Please make sure to use the following settings in order to reproduce any error or warning you see on this page. | 
| Package 395/1905 | Hostname | OS / Arch | INSTALL | BUILD | CHECK | BUILD BIN | ||||||
| CrossICC 1.2.0 Yu Sun 
 | malbec2 | Linux (Ubuntu 18.04.4 LTS) / x86_64 | OK | OK | OK |  | ||||||
| tokay2 | Windows Server 2012 R2 Standard / x64 | OK | OK | OK | [ OK ] |  | ||||||
| machv2 | macOS 10.14.6 Mojave / x86_64 | OK | OK | OK | OK |  | 
| Package: CrossICC | 
| Version: 1.2.0 | 
| Command: rm -rf CrossICC.buildbin-libdir && mkdir CrossICC.buildbin-libdir && C:\Users\biocbuild\bbs-3.11-bioc\R\bin\R.exe CMD INSTALL --merge-multiarch --build --library=CrossICC.buildbin-libdir CrossICC_1.2.0.tar.gz | 
| StartedAt: 2020-10-17 10:13:54 -0400 (Sat, 17 Oct 2020) | 
| EndedAt: 2020-10-17 10:14:49 -0400 (Sat, 17 Oct 2020) | 
| EllapsedTime: 54.8 seconds | 
| RetCode: 0 | 
| Status: OK | 
| PackageFile: CrossICC_1.2.0.zip | 
| PackageFileSize: 2.599 MiB | 
##############################################################################
##############################################################################
###
### Running command:
###
###   rm -rf CrossICC.buildbin-libdir && mkdir CrossICC.buildbin-libdir && C:\Users\biocbuild\bbs-3.11-bioc\R\bin\R.exe CMD INSTALL --merge-multiarch --build --library=CrossICC.buildbin-libdir CrossICC_1.2.0.tar.gz
###
##############################################################################
##############################################################################
install for i386
* installing *source* package 'CrossICC' ...
** using staged installation
** R
** data
** inst
** byte-compile and prepare package for lazy loading
** help
*** installing help indices
  converting help for package 'CrossICC'
    finding HTML links ... done
    Cal.ARI                                 html  
    CrossICC                                html  
    CrossICCInput                           html  
    centroidOfcentroid                      html  
    demo.platforms                          html  
    get_jarrad_index_df_fromDF              html  
    get_jarrad_index_df_fromlist            html  
    get_overlap_test_by_fisher              html  
    predictor                               html  
    rand.index                              html  
    ssGSEA                                  html  
    summaryCrossICC                         html  
** building package indices
** installing vignettes
** testing if installed package can be loaded from temporary location
** testing if installed package can be loaded from final location
** testing if installed package keeps a record of temporary installation path
install for x64
* installing *source* package 'CrossICC' ...
** testing if installed package can be loaded
* MD5 sums
packaged installation of 'CrossICC' as CrossICC_1.2.0.zip
* DONE (CrossICC)