| Back to Multiple platform build/check report for BioC 3.11 |
|
This page was generated on 2020-10-17 11:56:17 -0400 (Sat, 17 Oct 2020).
| TO THE DEVELOPERS/MAINTAINERS OF THE CiteFuse PACKAGE: Please make sure to use the following settings in order to reproduce any error or warning you see on this page. |
| Package 303/1905 | Hostname | OS / Arch | INSTALL | BUILD | CHECK | BUILD BIN | ||||||
| CiteFuse 1.0.0 Yingxin Lin
| malbec2 | Linux (Ubuntu 18.04.4 LTS) / x86_64 | OK | OK | OK | |||||||
| tokay2 | Windows Server 2012 R2 Standard / x64 | OK | OK | OK | [ OK ] | |||||||
| machv2 | macOS 10.14.6 Mojave / x86_64 | OK | OK | OK | OK |
| Package: CiteFuse |
| Version: 1.0.0 |
| Command: rm -rf CiteFuse.buildbin-libdir && mkdir CiteFuse.buildbin-libdir && C:\Users\biocbuild\bbs-3.11-bioc\R\bin\R.exe CMD INSTALL --merge-multiarch --build --library=CiteFuse.buildbin-libdir CiteFuse_1.0.0.tar.gz |
| StartedAt: 2020-10-17 10:07:06 -0400 (Sat, 17 Oct 2020) |
| EndedAt: 2020-10-17 10:08:21 -0400 (Sat, 17 Oct 2020) |
| EllapsedTime: 75.5 seconds |
| RetCode: 0 |
| Status: OK |
| PackageFile: CiteFuse_1.0.0.zip |
| PackageFileSize: 2.597 MiB |
##############################################################################
##############################################################################
###
### Running command:
###
### rm -rf CiteFuse.buildbin-libdir && mkdir CiteFuse.buildbin-libdir && C:\Users\biocbuild\bbs-3.11-bioc\R\bin\R.exe CMD INSTALL --merge-multiarch --build --library=CiteFuse.buildbin-libdir CiteFuse_1.0.0.tar.gz
###
##############################################################################
##############################################################################
install for i386
* installing *source* package 'CiteFuse' ...
** using staged installation
** R
** data
** inst
** byte-compile and prepare package for lazy loading
** help
*** installing help indices
converting help for package 'CiteFuse'
finding HTML links ... done
CITEseq_example html
CiteFuse html
DEbubblePlot html
DEcomparisonPlot html
DEgenes html
DEgenesCross html
crossSampleDoublets html
geneADTnetwork html
igraphClustering html
importanceADT html
ligandReceptorTest html
lr_pair_subset html
normaliseExprs html
plotHTO html
plotHTOSingle html
preprocessing html
readFrom10X html
reducedDimSNF html
sce_control_subset html
sce_ctcl_subset html
selectDEgenes html
spectralClustering html
visImportance html
visLigandReceptor html
visualiseDim html
visualiseExprs html
visualiseExprsList html
visualiseKNN html
withinSampleDoublets html
** building package indices
** installing vignettes
** testing if installed package can be loaded from temporary location
** testing if installed package can be loaded from final location
** testing if installed package keeps a record of temporary installation path
install for x64
* installing *source* package 'CiteFuse' ...
** testing if installed package can be loaded
* MD5 sums
packaged installation of 'CiteFuse' as CiteFuse_1.0.0.zip
* DONE (CiteFuse)