| Back to Multiple platform build/check report for BioC 3.11 |
|
This page was generated on 2020-10-17 11:56:15 -0400 (Sat, 17 Oct 2020).
| TO THE DEVELOPERS/MAINTAINERS OF THE ChIPpeakAnno PACKAGE: Please make sure to use the following settings in order to reproduce any error or warning you see on this page. |
| Package 282/1905 | Hostname | OS / Arch | INSTALL | BUILD | CHECK | BUILD BIN | ||||||
| ChIPpeakAnno 3.22.4 Lihua Julie Zhu
| malbec2 | Linux (Ubuntu 18.04.4 LTS) / x86_64 | OK | OK | OK | |||||||
| tokay2 | Windows Server 2012 R2 Standard / x64 | OK | OK | OK | [ OK ] | |||||||
| machv2 | macOS 10.14.6 Mojave / x86_64 | OK | OK | OK | OK |
| Package: ChIPpeakAnno |
| Version: 3.22.4 |
| Command: rm -rf ChIPpeakAnno.buildbin-libdir && mkdir ChIPpeakAnno.buildbin-libdir && C:\Users\biocbuild\bbs-3.11-bioc\R\bin\R.exe CMD INSTALL --merge-multiarch --build --library=ChIPpeakAnno.buildbin-libdir ChIPpeakAnno_3.22.4.tar.gz |
| StartedAt: 2020-10-17 10:05:17 -0400 (Sat, 17 Oct 2020) |
| EndedAt: 2020-10-17 10:07:01 -0400 (Sat, 17 Oct 2020) |
| EllapsedTime: 104.0 seconds |
| RetCode: 0 |
| Status: OK |
| PackageFile: ChIPpeakAnno_3.22.4.zip |
| PackageFileSize: 17.84 MiB |
##############################################################################
##############################################################################
###
### Running command:
###
### rm -rf ChIPpeakAnno.buildbin-libdir && mkdir ChIPpeakAnno.buildbin-libdir && C:\Users\biocbuild\bbs-3.11-bioc\R\bin\R.exe CMD INSTALL --merge-multiarch --build --library=ChIPpeakAnno.buildbin-libdir ChIPpeakAnno_3.22.4.tar.gz
###
##############################################################################
##############################################################################
install for i386
* installing *source* package 'ChIPpeakAnno' ...
** using staged installation
** R
** data
** inst
** byte-compile and prepare package for lazy loading
** help
*** installing help indices
converting help for package 'ChIPpeakAnno'
finding HTML links ... done
ChIPpeakAnno-deprecated html
ChIPpeakAnno-package html
ExonPlusUtr.human.GRCh37 html
HOT.spots html
IDRfilter html
Peaks.Ste12.Replicate1 html
Peaks.Ste12.Replicate2 html
Peaks.Ste12.Replicate3 html
TSS.human.GRCh37 html
TSS.human.GRCh38 html
TSS.human.NCBI36 html
TSS.mouse.GRCm38 html
TSS.mouse.NCBIM37 html
TSS.rat.RGSC3.4 html
TSS.rat.Rnor_5.0 html
TSS.zebrafish.Zv8 html
TSS.zebrafish.Zv9 html
addAncestors html
addGeneIDs html
addMetadata html
annoGR html
annoPeaks html
annotatePeakInBatch html
annotatedPeak html
assignChromosomeRegion html
bdp html
binOverFeature html
binOverGene html
binOverRegions html
bindist html
condenseMatrixByColnames html
convert2EntrezID html
countPatternInSeqs html
cumulativePercentage html
egOrgMap html
enrichedGO html
estFragmentLength html
estLibSize html
featureAlignedDistribution html
featureAlignedExtentSignal html
featureAlignedHeatmap html
featureAlignedSignal html
findEnhancers html
findMotifsInPromoterSeqs html
findOverlappingPeaks html
findOverlapsOfPeaks html
getAllPeakSequence html
getAnnotation html
getEnrichedGO html
getEnrichedPATH html
getGO html
getGeneSeq html
getUniqueGOidCount html
getVennCounts html
hyperGtest html
makeVennDiagram html
mergePlusMinusPeaks html
myPeakList html
oligoFrequency html
oligoSummary html
peakPermTest html
peaksNearBDP html
permPool html
pie1 html
plotBinOverRegions html
preparePool html
reCenterPeaks html
summarizeOverlapsByBins html
summarizePatternInPeaks html
tileCount html
tileGRanges html
toGRanges html
translatePattern html
wgEncodeTfbsV3 html
write2FASTA html
xget html
** building package indices
** installing vignettes
** testing if installed package can be loaded from temporary location
** testing if installed package can be loaded from final location
** testing if installed package keeps a record of temporary installation path
install for x64
* installing *source* package 'ChIPpeakAnno' ...
** testing if installed package can be loaded
* MD5 sums
packaged installation of 'ChIPpeakAnno' as ChIPpeakAnno_3.22.4.zip
* DONE (ChIPpeakAnno)