| Back to Multiple platform build/check report for BioC 3.11 | 
  | 
This page was generated on 2020-01-16 13:56:17 -0500 (Thu, 16 Jan 2020).
| Package 252/1818 | Hostname | OS / Arch | INSTALL | BUILD | CHECK | BUILD BIN | ||||||
| CeTF 0.99.12 Carlos Alberto Oliveira de Biagi Junior 
  | malbec2 | Linux (Ubuntu 18.04.3 LTS) / x86_64 | OK | OK | OK | |||||||
| tokay2 | Windows Server 2012 R2 Standard / x64 | OK | OK | OK | OK | |||||||
| celaya2 | OS X 10.11.6 El Capitan / x86_64 | OK | [ OK ] | OK | OK | 
| Package: CeTF | 
| Version: 0.99.12 | 
| Command: /Library/Frameworks/R.framework/Versions/Current/Resources/bin/R CMD build --keep-empty-dirs --no-resave-data CeTF | 
| StartedAt: 2020-01-16 01:15:11 -0500 (Thu, 16 Jan 2020) | 
| EndedAt: 2020-01-16 01:21:29 -0500 (Thu, 16 Jan 2020) | 
| EllapsedTime: 378.2 seconds | 
| RetCode: 0 | 
| Status: OK | 
| PackageFile: CeTF_0.99.12.tar.gz | 
| PackageFileSize: 2.338 MiB | 
############################################################################## ############################################################################## ### ### Running command: ### ### /Library/Frameworks/R.framework/Versions/Current/Resources/bin/R CMD build --keep-empty-dirs --no-resave-data CeTF ### ############################################################################## ############################################################################## * checking for file ‘CeTF/DESCRIPTION’ ... OK * preparing ‘CeTF’: * checking DESCRIPTION meta-information ... OK * installing the package to build vignettes * creating vignettes ... OK * checking for LF line-endings in source and make files and shell scripts * checking for empty or unneeded directories * building ‘CeTF_0.99.12.tar.gz’