| Back to Multiple platform build/check report for BioC 3.11 |
|
This page was generated on 2020-10-17 11:56:13 -0400 (Sat, 17 Oct 2020).
| TO THE DEVELOPERS/MAINTAINERS OF THE CeTF PACKAGE: Please make sure to use the following settings in order to reproduce any error or warning you see on this page. |
| Package 260/1905 | Hostname | OS / Arch | INSTALL | BUILD | CHECK | BUILD BIN | ||||||
| CeTF 1.0.7 Carlos Alberto Oliveira de Biagi Junior
| malbec2 | Linux (Ubuntu 18.04.4 LTS) / x86_64 | OK | OK | OK | |||||||
| tokay2 | Windows Server 2012 R2 Standard / x64 | [ OK ] | OK | OK | OK | |||||||
| machv2 | macOS 10.14.6 Mojave / x86_64 | OK | OK | OK | OK |
| Package: CeTF |
| Version: 1.0.7 |
| Command: C:\cygwin\bin\curl.exe -O https://malbec2.bioconductor.org/BBS/3.11/bioc/src/contrib/CeTF_1.0.7.tar.gz && rm -rf CeTF.buildbin-libdir && mkdir CeTF.buildbin-libdir && C:\Users\biocbuild\bbs-3.11-bioc\R\bin\R.exe CMD INSTALL --merge-multiarch --build --library=CeTF.buildbin-libdir CeTF_1.0.7.tar.gz && C:\Users\biocbuild\bbs-3.11-bioc\R\bin\R.exe CMD INSTALL CeTF_1.0.7.zip && rm CeTF_1.0.7.tar.gz CeTF_1.0.7.zip |
| StartedAt: 2020-10-16 18:56:28 -0400 (Fri, 16 Oct 2020) |
| EndedAt: 2020-10-16 19:00:08 -0400 (Fri, 16 Oct 2020) |
| EllapsedTime: 219.3 seconds |
| RetCode: 0 |
| Status: OK |
##############################################################################
##############################################################################
###
### Running command:
###
### C:\cygwin\bin\curl.exe -O https://malbec2.bioconductor.org/BBS/3.11/bioc/src/contrib/CeTF_1.0.7.tar.gz && rm -rf CeTF.buildbin-libdir && mkdir CeTF.buildbin-libdir && C:\Users\biocbuild\bbs-3.11-bioc\R\bin\R.exe CMD INSTALL --merge-multiarch --build --library=CeTF.buildbin-libdir CeTF_1.0.7.tar.gz && C:\Users\biocbuild\bbs-3.11-bioc\R\bin\R.exe CMD INSTALL CeTF_1.0.7.zip && rm CeTF_1.0.7.tar.gz CeTF_1.0.7.zip
###
##############################################################################
##############################################################################
% Total % Received % Xferd Average Speed Time Time Time Current
Dload Upload Total Spent Left Speed
0 0 0 0 0 0 0 0 --:--:-- --:--:-- --:--:-- 0
100 1267k 100 1267k 0 0 16.7M 0 --:--:-- --:--:-- --:--:-- 17.9M
install for i386
* installing *source* package 'CeTF' ...
** using staged installation
** libs
"C:/rtools40/mingw32/bin/"g++ -std=gnu++11 -I"C:/Users/BIOCBU~1/BBS-3~1.11-/R/include" -DNDEBUG -I'C:/Users/biocbuild/bbs-3.11-bioc/R/library/Rcpp/include' -I'C:/Users/biocbuild/bbs-3.11-bioc/R/library/RcppArmadillo/include' -I"C:/extsoft/include" -O2 -Wall -mfpmath=sse -msse2 -mstackrealign -c PCIT.cpp -o PCIT.o
"C:/rtools40/mingw32/bin/"g++ -std=gnu++11 -I"C:/Users/BIOCBU~1/BBS-3~1.11-/R/include" -DNDEBUG -I'C:/Users/biocbuild/bbs-3.11-bioc/R/library/Rcpp/include' -I'C:/Users/biocbuild/bbs-3.11-bioc/R/library/RcppArmadillo/include' -I"C:/extsoft/include" -O2 -Wall -mfpmath=sse -msse2 -mstackrealign -c RcppExports.cpp -o RcppExports.o
C:/rtools40/mingw32/bin/g++ -std=gnu++11 -shared -s -static-libgcc -o CeTF.dll tmp.def PCIT.o RcppExports.o -LC:/extsoft/lib/i386 -LC:/extsoft/lib -LC:/Users/BIOCBU~1/BBS-3~1.11-/R/bin/i386 -lR
installing to C:/Users/biocbuild/bbs-3.11-bioc/meat/CeTF.buildbin-libdir/00LOCK-CeTF/00new/CeTF/libs/i386
** R
** data
*** moving datasets to lazyload DB
** inst
** byte-compile and prepare package for lazy loading
** help
*** installing help indices
converting help for package 'CeTF'
finding HTML links ... done
CeTF-class html
CeTFdemo html
CircosTargets html
InputData-methods html
NetworkData-methods html
OutputData-methods html
PCIT html
RIF html
RIFPlot html
RIF_input html
SmearPlot html
TFs html
bivar.awk html
clustCoef html
clustCoefPercentage html
densityPlot html
diffusion html
enrichPlot html
enrichdemo html
expDiff html
getDE-methods html
getData-methods html
getEnrich html
getGroupGO html
heatPlot html
histPlot html
netConditionsPlot html
netGOTFPlot html
normExp html
pcitC html
refGenes html
runAnalysis html
simCounts html
simNorm html
tolerance html
** building package indices
** installing vignettes
** testing if installed package can be loaded from temporary location
** testing if installed package can be loaded from final location
** testing if installed package keeps a record of temporary installation path
install for x64
* installing *source* package 'CeTF' ...
** libs
"C:/rtools40/mingw64/bin/"g++ -std=gnu++11 -I"C:/Users/BIOCBU~1/BBS-3~1.11-/R/include" -DNDEBUG -I'C:/Users/biocbuild/bbs-3.11-bioc/R/library/Rcpp/include' -I'C:/Users/biocbuild/bbs-3.11-bioc/R/library/RcppArmadillo/include' -I"C:/extsoft/include" -O2 -Wall -mfpmath=sse -msse2 -mstackrealign -c PCIT.cpp -o PCIT.o
"C:/rtools40/mingw64/bin/"g++ -std=gnu++11 -I"C:/Users/BIOCBU~1/BBS-3~1.11-/R/include" -DNDEBUG -I'C:/Users/biocbuild/bbs-3.11-bioc/R/library/Rcpp/include' -I'C:/Users/biocbuild/bbs-3.11-bioc/R/library/RcppArmadillo/include' -I"C:/extsoft/include" -O2 -Wall -mfpmath=sse -msse2 -mstackrealign -c RcppExports.cpp -o RcppExports.o
C:/rtools40/mingw64/bin/g++ -std=gnu++11 -shared -s -static-libgcc -o CeTF.dll tmp.def PCIT.o RcppExports.o -LC:/extsoft/lib/x64 -LC:/extsoft/lib -LC:/Users/BIOCBU~1/BBS-3~1.11-/R/bin/x64 -lR
installing to C:/Users/biocbuild/bbs-3.11-bioc/meat/CeTF.buildbin-libdir/CeTF/libs/x64
** testing if installed package can be loaded
* MD5 sums
packaged installation of 'CeTF' as CeTF_1.0.7.zip
* DONE (CeTF)
* installing to library 'C:/Users/biocbuild/bbs-3.11-bioc/R/library'
package 'CeTF' successfully unpacked and MD5 sums checked