| Back to Multiple platform build/check report for BioC 3.11 |
|
This page was generated on 2019-10-30 13:40:44 -0400 (Wed, 30 Oct 2019).
| Package 119/1803 | Hostname | OS / Arch | INSTALL | BUILD | CHECK | BUILD BIN | ||||||
| BayesPeak 1.39.0 Jonathan Cairns
| malbec2 | Linux (Ubuntu 18.04.3 LTS) / x86_64 | OK | OK | [ OK ] |
| Package: BayesPeak |
| Version: 1.39.0 |
| Command: /home/biocbuild/bbs-3.11-bioc/R/bin/R CMD check --install=check:BayesPeak.install-out.txt --library=/home/biocbuild/bbs-3.11-bioc/R/library --no-vignettes --timings BayesPeak_1.39.0.tar.gz |
| StartedAt: 2019-10-30 00:03:16 -0400 (Wed, 30 Oct 2019) |
| EndedAt: 2019-10-30 00:08:13 -0400 (Wed, 30 Oct 2019) |
| EllapsedTime: 296.4 seconds |
| RetCode: 0 |
| Status: OK |
| CheckDir: BayesPeak.Rcheck |
| Warnings: 0 |
##############################################################################
##############################################################################
###
### Running command:
###
### /home/biocbuild/bbs-3.11-bioc/R/bin/R CMD check --install=check:BayesPeak.install-out.txt --library=/home/biocbuild/bbs-3.11-bioc/R/library --no-vignettes --timings BayesPeak_1.39.0.tar.gz
###
##############################################################################
##############################################################################
* using log directory ‘/home/biocbuild/bbs-3.11-bioc/meat/BayesPeak.Rcheck’
* using R Under development (unstable) (2019-10-24 r77329)
* using platform: x86_64-pc-linux-gnu (64-bit)
* using session charset: UTF-8
* using option ‘--no-vignettes’
* checking for file ‘BayesPeak/DESCRIPTION’ ... OK
* this is package ‘BayesPeak’ version ‘1.39.0’
* checking package namespace information ... OK
* checking package dependencies ... OK
* checking if this is a source package ... OK
* checking if there is a namespace ... OK
* checking for hidden files and directories ... OK
* checking for portable file names ... OK
* checking for sufficient/correct file permissions ... OK
* checking whether package ‘BayesPeak’ can be installed ... OK
* checking installed package size ... NOTE
installed size is 6.3Mb
sub-directories of 1Mb or more:
data 1.0Mb
extdata 5.0Mb
* checking package directory ... OK
* checking ‘build’ directory ... OK
* checking DESCRIPTION meta-information ... NOTE
Package listed in more than one of Depends, Imports, Suggests, Enhances:
‘IRanges’
A package should be listed in only one of these fields.
* checking top-level files ... OK
* checking for left-over files ... OK
* checking index information ... OK
* checking package subdirectories ... OK
* checking R files for non-ASCII characters ... OK
* checking R files for syntax errors ... OK
* checking whether the package can be loaded ... OK
* checking whether the package can be loaded with stated dependencies ... OK
* checking whether the package can be unloaded cleanly ... OK
* checking whether the namespace can be loaded with stated dependencies ... OK
* checking whether the namespace can be unloaded cleanly ... OK
* checking dependencies in R code ... NOTE
'library' or 'require' call to ‘parallel’ in package code.
Please use :: or requireNamespace() instead.
See section 'Suggested packages' in the 'Writing R Extensions' manual.
* checking S3 generic/method consistency ... NOTE
Found the following apparent S3 methods exported but not registered:
identify.overfitdiag plot.PP plot.bed plot.job plot.overfitdiag
See section ‘Registering S3 methods’ in the ‘Writing R Extensions’
manual.
* checking replacement functions ... OK
* checking foreign function calls ... OK
* checking R code for possible problems ... NOTE
identify.overfitdiag: no visible global function definition for
‘identify’
plot.job: no visible global function definition for ‘plot’
plot.overfitdiag: no visible global function definition for ‘plot’
region.overfitdiag: no visible global function definition for ‘locator’
region.overfitdiag: no visible global function definition for ‘polygon’
Undefined global functions or variables:
identify locator plot polygon
Consider adding
importFrom("graphics", "identify", "locator", "plot", "polygon")
to your NAMESPACE file.
* checking Rd files ... OK
* checking Rd metadata ... OK
* checking Rd cross-references ... OK
* checking for missing documentation entries ... OK
* checking for code/documentation mismatches ... OK
* checking Rd \usage sections ... NOTE
S3 methods shown with full name in documentation object 'overfittingDiagnostics':
‘plot.overfitdiag’ ‘identify.overfitdiag’
S3 methods shown with full name in documentation object 'plot.PP':
‘plot.PP’
S3 methods shown with full name in documentation object 'plot.bed':
‘plot.bed’
S3 methods shown with full name in documentation object 'plot.job':
‘plot.job’
The \usage entries for S3 methods should use the \method markup and not
their full name.
See chapter ‘Writing R documentation files’ in the ‘Writing R
Extensions’ manual.
* checking Rd contents ... OK
* checking for unstated dependencies in examples ... OK
* checking contents of ‘data’ directory ... OK
* checking data for non-ASCII characters ... OK
* checking data for ASCII and uncompressed saves ... OK
* checking line endings in C/C++/Fortran sources/headers ... OK
* checking compiled code ... NOTE
Note: information on .o files is not available
File ‘/home/biocbuild/bbs-3.11-bioc/R/library/BayesPeak/libs/BayesPeak.so’:
Found ‘stdout’, possibly from ‘stdout’ (C)
Compiled code should not call entry points which might terminate R nor
write to stdout/stderr instead of to the console, nor use Fortran I/O
nor system RNGs. The detected symbols are linked into the code but
might come from libraries and not actually be called.
See ‘Writing portable packages’ in the ‘Writing R Extensions’ manual.
* checking files in ‘vignettes’ ... OK
* checking examples ... OK
Examples with CPU (user + system) or elapsed time > 5s
user system elapsed
bayespeak 115.181 0.007 115.206
summarise.peaks 112.271 0.012 112.321
* checking for unstated dependencies in vignettes ... OK
* checking package vignettes in ‘inst/doc’ ... OK
* checking running R code from vignettes ... SKIPPED
* checking re-building of vignette outputs ... SKIPPED
* checking PDF version of manual ... OK
* DONE
Status: 7 NOTEs
See
‘/home/biocbuild/bbs-3.11-bioc/meat/BayesPeak.Rcheck/00check.log’
for details.
BayesPeak.Rcheck/00install.out
##############################################################################
##############################################################################
###
### Running command:
###
### /home/biocbuild/bbs-3.11-bioc/R/bin/R CMD INSTALL BayesPeak
###
##############################################################################
##############################################################################
* installing to library ‘/home/biocbuild/bbs-3.11-bioc/R/library’
* installing *source* package ‘BayesPeak’ ...
** using staged installation
** libs
gcc -I"/home/biocbuild/bbs-3.11-bioc/R/include" -DNDEBUG -I/usr/local/include -fpic -g -O2 -Wall -c bayespeak.c -o bayespeak.o
bayespeak.c: In function ‘bayespeak’:
bayespeak.c:176:27: warning: variable ‘M’ set but not used [-Wunused-but-set-variable]
double M1, M2, M3, M4, M, a, b;
^
gcc -shared -L/home/biocbuild/bbs-3.11-bioc/R/lib -L/usr/local/lib -o BayesPeak.so bayespeak.o -L/home/biocbuild/bbs-3.11-bioc/R/lib -lR
installing to /home/biocbuild/bbs-3.11-bioc/R/library/00LOCK-BayesPeak/00new/BayesPeak/libs
** R
** data
** inst
** byte-compile and prepare package for lazy loading
** help
*** installing help indices
** building package indices
** installing vignettes
** testing if installed package can be loaded from temporary location
** checking absolute paths in shared objects and dynamic libraries
** testing if installed package can be loaded from final location
** testing if installed package keeps a record of temporary installation path
* DONE (BayesPeak)
BayesPeak.Rcheck/BayesPeak-Ex.timings
| name | user | system | elapsed | |
| bayespeak | 115.181 | 0.007 | 115.206 | |
| overfitting | 0.181 | 0.004 | 0.186 | |
| plot.PP | 0.145 | 0.000 | 0.145 | |
| plot.bed | 1.062 | 0.012 | 1.073 | |
| plot.job | 4.408 | 0.028 | 4.436 | |
| read.bed | 0.955 | 0.000 | 0.956 | |
| summarise.peaks | 112.271 | 0.012 | 112.321 | |