| Back to Multiple platform build/check report for BioC 3.11 |
|
This page was generated on 2020-10-17 11:54:24 -0400 (Sat, 17 Oct 2020).
| TO THE DEVELOPERS/MAINTAINERS OF THE BayesPeak PACKAGE: Please make sure to use the following settings in order to reproduce any error or warning you see on this page. |
| Package 122/1905 | Hostname | OS / Arch | INSTALL | BUILD | CHECK | BUILD BIN | ||||||
Jonathan Cairns
| malbec2 | Linux (Ubuntu 18.04.4 LTS) / x86_64 | [ OK ] | ERROR | skipped | |||||||
| tokay2 | Windows Server 2012 R2 Standard / x64 | OK | ERROR | skipped | skipped | |||||||
| machv2 | macOS 10.14.6 Mojave / x86_64 | OK | ERROR | skipped | skipped |
| Package: BayesPeak |
| Version: 1.40.0 |
| Command: /home/biocbuild/bbs-3.11-bioc/R/bin/R CMD INSTALL BayesPeak |
| StartedAt: 2020-10-16 16:08:02 -0400 (Fri, 16 Oct 2020) |
| EndedAt: 2020-10-16 16:08:11 -0400 (Fri, 16 Oct 2020) |
| EllapsedTime: 8.8 seconds |
| RetCode: 0 |
| Status: OK |
##############################################################################
##############################################################################
###
### Running command:
###
### /home/biocbuild/bbs-3.11-bioc/R/bin/R CMD INSTALL BayesPeak
###
##############################################################################
##############################################################################
* installing to library ‘/home/biocbuild/bbs-3.11-bioc/R/library’
* installing *source* package ‘BayesPeak’ ...
** using staged installation
** libs
gcc -I"/home/biocbuild/bbs-3.11-bioc/R/include" -DNDEBUG -I/usr/local/include -fpic -g -O2 -Wall -c bayespeak.c -o bayespeak.o
bayespeak.c: In function ‘bayespeak’:
bayespeak.c:176:27: warning: variable ‘M’ set but not used [-Wunused-but-set-variable]
double M1, M2, M3, M4, M, a, b;
^
gcc -shared -L/home/biocbuild/bbs-3.11-bioc/R/lib -L/usr/local/lib -o BayesPeak.so bayespeak.o -L/home/biocbuild/bbs-3.11-bioc/R/lib -lR
installing to /home/biocbuild/bbs-3.11-bioc/R/library/00LOCK-BayesPeak/00new/BayesPeak/libs
** R
** data
** inst
** byte-compile and prepare package for lazy loading
** help
*** installing help indices
** building package indices
** installing vignettes
** testing if installed package can be loaded from temporary location
Warning: Package 'BayesPeak' is deprecated and will be removed from Bioconductor
version 3.12
** checking absolute paths in shared objects and dynamic libraries
** testing if installed package can be loaded from final location
Warning: Package 'BayesPeak' is deprecated and will be removed from Bioconductor
version 3.12
** testing if installed package keeps a record of temporary installation path
* DONE (BayesPeak)