| Back to Multiple platform build/check report for BioC 3.10 |
|
This page was generated on 2020-04-15 12:42:50 -0400 (Wed, 15 Apr 2020).
| Package 1745/1823 | Hostname | OS / Arch | INSTALL | BUILD | CHECK | BUILD BIN | ||||||
| transcriptR 1.14.0 Armen R. Karapetyan
| malbec1 | Linux (Ubuntu 18.04.4 LTS) / x86_64 | OK | OK | OK | |||||||
| tokay1 | Windows Server 2012 R2 Standard / x64 | OK | OK | WARNINGS | OK | |||||||
| merida1 | OS X 10.11.6 El Capitan / x86_64 | OK | OK | [ OK ] | OK |
| Package: transcriptR |
| Version: 1.14.0 |
| Command: /Library/Frameworks/R.framework/Versions/Current/Resources/bin/R CMD check --install=check:transcriptR.install-out.txt --library=/Library/Frameworks/R.framework/Versions/Current/Resources/library --no-vignettes --timings transcriptR_1.14.0.tar.gz |
| StartedAt: 2020-04-15 06:14:01 -0400 (Wed, 15 Apr 2020) |
| EndedAt: 2020-04-15 06:21:53 -0400 (Wed, 15 Apr 2020) |
| EllapsedTime: 472.2 seconds |
| RetCode: 0 |
| Status: OK |
| CheckDir: transcriptR.Rcheck |
| Warnings: 0 |
##############################################################################
##############################################################################
###
### Running command:
###
### /Library/Frameworks/R.framework/Versions/Current/Resources/bin/R CMD check --install=check:transcriptR.install-out.txt --library=/Library/Frameworks/R.framework/Versions/Current/Resources/library --no-vignettes --timings transcriptR_1.14.0.tar.gz
###
##############################################################################
##############################################################################
* using log directory ‘/Users/biocbuild/bbs-3.10-bioc/meat/transcriptR.Rcheck’
* using R version 3.6.3 (2020-02-29)
* using platform: x86_64-apple-darwin15.6.0 (64-bit)
* using session charset: UTF-8
* using option ‘--no-vignettes’
* checking for file ‘transcriptR/DESCRIPTION’ ... OK
* checking extension type ... Package
* this is package ‘transcriptR’ version ‘1.14.0’
* checking package namespace information ... OK
* checking package dependencies ... OK
* checking if this is a source package ... OK
* checking if there is a namespace ... OK
* checking for hidden files and directories ... OK
* checking for portable file names ... OK
* checking for sufficient/correct file permissions ... OK
* checking whether package ‘transcriptR’ can be installed ... OK
* checking installed package size ... OK
* checking package directory ... OK
* checking ‘build’ directory ... OK
* checking DESCRIPTION meta-information ... OK
* checking top-level files ... OK
* checking for left-over files ... OK
* checking index information ... OK
* checking package subdirectories ... OK
* checking R files for non-ASCII characters ... OK
* checking R files for syntax errors ... OK
* checking whether the package can be loaded ... OK
* checking whether the package can be loaded with stated dependencies ... OK
* checking whether the package can be unloaded cleanly ... OK
* checking whether the namespace can be loaded with stated dependencies ... OK
* checking whether the namespace can be unloaded cleanly ... OK
* checking dependencies in R code ... OK
* checking S3 generic/method consistency ... OK
* checking replacement functions ... OK
* checking foreign function calls ... OK
* checking R code for possible problems ... OK
* checking Rd files ... OK
* checking Rd metadata ... OK
* checking Rd cross-references ... OK
* checking for missing documentation entries ... OK
* checking for code/documentation mismatches ... OK
* checking Rd \usage sections ... OK
* checking Rd contents ... OK
* checking for unstated dependencies in examples ... OK
* checking contents of ‘data’ directory ... OK
* checking data for non-ASCII characters ... OK
* checking data for ASCII and uncompressed saves ... OK
* checking sizes of PDF files under ‘inst/doc’ ... OK
* checking files in ‘vignettes’ ... OK
* checking examples ... OK
Examples with CPU or elapsed time > 5s
user system elapsed
breakTranscriptsByPeaks-methods 9.503 0.306 10.001
peaksToBed-methods 5.973 0.216 6.236
predictStrand-methods 5.801 0.221 6.064
* checking for unstated dependencies in ‘tests’ ... OK
* checking tests ...
Running ‘testthat.R’
OK
* checking for unstated dependencies in vignettes ... OK
* checking package vignettes in ‘inst/doc’ ... OK
* checking running R code from vignettes ... SKIPPED
* checking re-building of vignette outputs ... SKIPPED
* checking PDF version of manual ... OK
* DONE
Status: OK
transcriptR.Rcheck/00install.out
############################################################################## ############################################################################## ### ### Running command: ### ### /Library/Frameworks/R.framework/Versions/Current/Resources/bin/R CMD INSTALL transcriptR ### ############################################################################## ############################################################################## * installing to library ‘/Library/Frameworks/R.framework/Versions/3.6/Resources/library’ * installing *source* package ‘transcriptR’ ... ** using staged installation ** R ** data ** inst ** byte-compile and prepare package for lazy loading ** help *** installing help indices ** building package indices ** installing vignettes ** testing if installed package can be loaded from temporary location ** testing if installed package can be loaded from final location ** testing if installed package keeps a record of temporary installation path * DONE (transcriptR)
transcriptR.Rcheck/tests/testthat.Rout
R version 3.6.3 (2020-02-29) -- "Holding the Windsock"
Copyright (C) 2020 The R Foundation for Statistical Computing
Platform: x86_64-apple-darwin15.6.0 (64-bit)
R is free software and comes with ABSOLUTELY NO WARRANTY.
You are welcome to redistribute it under certain conditions.
Type 'license()' or 'licence()' for distribution details.
R is a collaborative project with many contributors.
Type 'contributors()' for more information and
'citation()' on how to cite R or R packages in publications.
Type 'demo()' for some demos, 'help()' for on-line help, or
'help.start()' for an HTML browser interface to help.
Type 'q()' to quit R.
> library(testthat)
> library(transcriptR)
>
> test_check("transcriptR")
══ testthat results ═══════════════════════════════════════════════════════════
[ OK: 87 | SKIPPED: 0 | WARNINGS: 0 | FAILED: 0 ]
>
> proc.time()
user system elapsed
75.524 3.051 86.969
transcriptR.Rcheck/transcriptR-Ex.timings
| name | user | system | elapsed | |
| addFeature-methods | 0.176 | 0.016 | 0.195 | |
| annotateTranscripts-methods | 2.608 | 0.098 | 2.722 | |
| breakTranscriptsByPeaks-methods | 9.503 | 0.306 | 10.001 | |
| constructCDS | 0.005 | 0.002 | 0.008 | |
| constructTDS | 0.365 | 0.034 | 0.663 | |
| detectTranscripts-methods | 1.770 | 0.099 | 2.613 | |
| estimateBackground-methods | 0.416 | 0.045 | 0.462 | |
| estimateGapDistance-methods | 1.395 | 0.056 | 1.458 | |
| exportCoverage-methods | 0.297 | 0.022 | 0.321 | |
| getConfusionMatrix-methods | 0.004 | 0.016 | 0.021 | |
| getGenomicAnnot-methods | 0.006 | 0.017 | 0.024 | |
| getPeaks-methods | 0.034 | 0.010 | 0.046 | |
| getPredictorSignificance-methods | 0.002 | 0.009 | 0.011 | |
| getProbTreshold-methods | 0.004 | 0.012 | 0.015 | |
| getQuadProb-methods | 0.292 | 0.032 | 0.324 | |
| getTestedGapDistances-methods | 0.262 | 0.014 | 0.274 | |
| getTranscripts-methods | 0.295 | 0.013 | 0.309 | |
| peaksToBed-methods | 5.973 | 0.216 | 6.236 | |
| plotErrorRate-methods | 1.279 | 0.069 | 1.381 | |
| plotFeatures-methods | 3.056 | 0.017 | 3.241 | |
| plotGenomicAnnot-methods | 0.682 | 0.007 | 0.696 | |
| plotROC-methods | 2.129 | 0.038 | 2.179 | |
| predictStrand-methods | 5.801 | 0.221 | 6.064 | |
| predictTssOverlap-methods | 2.000 | 0.019 | 2.028 | |
| show | 0.279 | 0.018 | 0.299 | |
| transcriptsToBed-methods | 1.420 | 0.067 | 1.504 | |