| Back to Multiple platform build/check report for BioC 3.10 |
|
This page was generated on 2020-04-15 12:10:47 -0400 (Wed, 15 Apr 2020).
| Package 1745/1823 | Hostname | OS / Arch | INSTALL | BUILD | CHECK | BUILD BIN | ||||||
| transcriptR 1.14.0 Armen R. Karapetyan
| malbec1 | Linux (Ubuntu 18.04.4 LTS) / x86_64 | OK | OK | [ OK ] | |||||||
| tokay1 | Windows Server 2012 R2 Standard / x64 | OK | OK | WARNINGS | OK | |||||||
| merida1 | OS X 10.11.6 El Capitan / x86_64 | OK | OK | OK | OK |
| Package: transcriptR |
| Version: 1.14.0 |
| Command: /home/biocbuild/bbs-3.10-bioc/R/bin/R CMD check --install=check:transcriptR.install-out.txt --library=/home/biocbuild/bbs-3.10-bioc/R/library --no-vignettes --timings transcriptR_1.14.0.tar.gz |
| StartedAt: 2020-04-15 03:29:02 -0400 (Wed, 15 Apr 2020) |
| EndedAt: 2020-04-15 03:36:00 -0400 (Wed, 15 Apr 2020) |
| EllapsedTime: 418.0 seconds |
| RetCode: 0 |
| Status: OK |
| CheckDir: transcriptR.Rcheck |
| Warnings: 0 |
##############################################################################
##############################################################################
###
### Running command:
###
### /home/biocbuild/bbs-3.10-bioc/R/bin/R CMD check --install=check:transcriptR.install-out.txt --library=/home/biocbuild/bbs-3.10-bioc/R/library --no-vignettes --timings transcriptR_1.14.0.tar.gz
###
##############################################################################
##############################################################################
* using log directory ‘/home/biocbuild/bbs-3.10-bioc/meat/transcriptR.Rcheck’
* using R version 3.6.3 (2020-02-29)
* using platform: x86_64-pc-linux-gnu (64-bit)
* using session charset: UTF-8
* using option ‘--no-vignettes’
* checking for file ‘transcriptR/DESCRIPTION’ ... OK
* checking extension type ... Package
* this is package ‘transcriptR’ version ‘1.14.0’
* checking package namespace information ... OK
* checking package dependencies ... OK
* checking if this is a source package ... OK
* checking if there is a namespace ... OK
* checking for hidden files and directories ... OK
* checking for portable file names ... OK
* checking for sufficient/correct file permissions ... OK
* checking whether package ‘transcriptR’ can be installed ... OK
* checking installed package size ... OK
* checking package directory ... OK
* checking ‘build’ directory ... OK
* checking DESCRIPTION meta-information ... OK
* checking top-level files ... OK
* checking for left-over files ... OK
* checking index information ... OK
* checking package subdirectories ... OK
* checking R files for non-ASCII characters ... OK
* checking R files for syntax errors ... OK
* checking whether the package can be loaded ... OK
* checking whether the package can be loaded with stated dependencies ... OK
* checking whether the package can be unloaded cleanly ... OK
* checking whether the namespace can be loaded with stated dependencies ... OK
* checking whether the namespace can be unloaded cleanly ... OK
* checking dependencies in R code ... OK
* checking S3 generic/method consistency ... OK
* checking replacement functions ... OK
* checking foreign function calls ... OK
* checking R code for possible problems ... OK
* checking Rd files ... OK
* checking Rd metadata ... OK
* checking Rd cross-references ... OK
* checking for missing documentation entries ... OK
* checking for code/documentation mismatches ... OK
* checking Rd \usage sections ... OK
* checking Rd contents ... OK
* checking for unstated dependencies in examples ... OK
* checking contents of ‘data’ directory ... OK
* checking data for non-ASCII characters ... OK
* checking data for ASCII and uncompressed saves ... OK
* checking files in ‘vignettes’ ... OK
* checking examples ... OK
Examples with CPU or elapsed time > 5s
user system elapsed
breakTranscriptsByPeaks-methods 10.428 0.116 10.583
predictStrand-methods 6.660 0.020 6.725
peaksToBed-methods 5.212 0.016 5.236
* checking for unstated dependencies in ‘tests’ ... OK
* checking tests ...
Running ‘testthat.R’
OK
* checking for unstated dependencies in vignettes ... OK
* checking package vignettes in ‘inst/doc’ ... OK
* checking running R code from vignettes ... SKIPPED
* checking re-building of vignette outputs ... SKIPPED
* checking PDF version of manual ... OK
* DONE
Status: OK
transcriptR.Rcheck/00install.out
############################################################################## ############################################################################## ### ### Running command: ### ### /home/biocbuild/bbs-3.10-bioc/R/bin/R CMD INSTALL transcriptR ### ############################################################################## ############################################################################## * installing to library ‘/home/biocbuild/bbs-3.10-bioc/R/library’ * installing *source* package ‘transcriptR’ ... ** using staged installation ** R ** data ** inst ** byte-compile and prepare package for lazy loading ** help *** installing help indices ** building package indices ** installing vignettes ** testing if installed package can be loaded from temporary location ** testing if installed package can be loaded from final location ** testing if installed package keeps a record of temporary installation path * DONE (transcriptR)
transcriptR.Rcheck/tests/testthat.Rout
R version 3.6.3 (2020-02-29) -- "Holding the Windsock"
Copyright (C) 2020 The R Foundation for Statistical Computing
Platform: x86_64-pc-linux-gnu (64-bit)
R is free software and comes with ABSOLUTELY NO WARRANTY.
You are welcome to redistribute it under certain conditions.
Type 'license()' or 'licence()' for distribution details.
R is a collaborative project with many contributors.
Type 'contributors()' for more information and
'citation()' on how to cite R or R packages in publications.
Type 'demo()' for some demos, 'help()' for on-line help, or
'help.start()' for an HTML browser interface to help.
Type 'q()' to quit R.
> library(testthat)
> library(transcriptR)
>
> test_check("transcriptR")
══ testthat results ═══════════════════════════════════════════════════════════
[ OK: 87 | SKIPPED: 0 | WARNINGS: 0 | FAILED: 0 ]
>
> proc.time()
user system elapsed
73.844 0.880 75.034
transcriptR.Rcheck/transcriptR-Ex.timings
| name | user | system | elapsed | |
| addFeature-methods | 0.176 | 0.008 | 0.187 | |
| annotateTranscripts-methods | 3.036 | 0.040 | 3.097 | |
| breakTranscriptsByPeaks-methods | 10.428 | 0.116 | 10.583 | |
| constructCDS | 0.004 | 0.000 | 0.005 | |
| constructTDS | 0.372 | 0.004 | 0.375 | |
| detectTranscripts-methods | 1.484 | 0.004 | 1.491 | |
| estimateBackground-methods | 0.500 | 0.016 | 0.515 | |
| estimateGapDistance-methods | 1.372 | 0.008 | 1.384 | |
| exportCoverage-methods | 0.232 | 0.004 | 0.235 | |
| getConfusionMatrix-methods | 0.004 | 0.000 | 0.003 | |
| getGenomicAnnot-methods | 0.000 | 0.004 | 0.004 | |
| getPeaks-methods | 0.028 | 0.000 | 0.026 | |
| getPredictorSignificance-methods | 0.004 | 0.000 | 0.003 | |
| getProbTreshold-methods | 0.000 | 0.000 | 0.003 | |
| getQuadProb-methods | 0.228 | 0.008 | 0.235 | |
| getTestedGapDistances-methods | 0.236 | 0.004 | 0.242 | |
| getTranscripts-methods | 0.224 | 0.008 | 0.232 | |
| peaksToBed-methods | 5.212 | 0.016 | 5.236 | |
| plotErrorRate-methods | 1.380 | 0.020 | 1.414 | |
| plotFeatures-methods | 2.852 | 0.000 | 2.864 | |
| plotGenomicAnnot-methods | 0.620 | 0.004 | 0.622 | |
| plotROC-methods | 1.892 | 0.000 | 1.893 | |
| predictStrand-methods | 6.660 | 0.020 | 6.725 | |
| predictTssOverlap-methods | 2.420 | 0.008 | 2.430 | |
| show | 0.352 | 0.000 | 0.351 | |
| transcriptsToBed-methods | 1.880 | 0.020 | 1.916 | |