| Back to Multiple platform build/check report for BioC 3.10 |
|
This page was generated on 2020-04-15 12:41:22 -0400 (Wed, 15 Apr 2020).
| Package 1558/1823 | Hostname | OS / Arch | INSTALL | BUILD | CHECK | BUILD BIN | ||||||
| seq2pathway 1.18.0 Xinan Yang
| malbec1 | Linux (Ubuntu 18.04.4 LTS) / x86_64 | OK | OK | OK | |||||||
| tokay1 | Windows Server 2012 R2 Standard / x64 | OK | OK | OK | OK | |||||||
| merida1 | OS X 10.11.6 El Capitan / x86_64 | OK | [ OK ] | OK | OK |
| Package: seq2pathway |
| Version: 1.18.0 |
| Command: /Library/Frameworks/R.framework/Versions/Current/Resources/bin/R CMD build --keep-empty-dirs --no-resave-data seq2pathway |
| StartedAt: 2020-04-14 21:24:38 -0400 (Tue, 14 Apr 2020) |
| EndedAt: 2020-04-14 21:26:19 -0400 (Tue, 14 Apr 2020) |
| EllapsedTime: 101.1 seconds |
| RetCode: 0 |
| Status: OK |
| PackageFile: seq2pathway_1.18.0.tar.gz |
| PackageFileSize: 6.077 MiB |
##############################################################################
##############################################################################
###
### Running command:
###
### /Library/Frameworks/R.framework/Versions/Current/Resources/bin/R CMD build --keep-empty-dirs --no-resave-data seq2pathway
###
##############################################################################
##############################################################################
* checking for file ‘seq2pathway/DESCRIPTION’ ... OK
* preparing ‘seq2pathway’:
* checking DESCRIPTION meta-information ... OK
* installing the package to build vignettes
* creating vignettes ... OK
Warning: ‘inst/doc’ files
‘seq2pathwaypackage.Rnw’, ‘seq2pathwaypackage.pdf’, ‘seq2pathwaypackage.R’
ignored as vignettes have been rebuilt.
Run R CMD build with --no-build-vignettes to prevent rebuilding.
* excluding invalid files
Subdirectory 'R' contains invalid file names:
‘seq2pathway’ ‘seq2pathway.rdb’ ‘seq2pathway.rdx’
* checking for LF line-endings in source and make files and shell scripts
* checking for empty or unneeded directories
WARNING: Removing directory ‘seq2pathway/Meta’ which should only occur
in an installed package
WARNING: Removing directory ‘seq2pathway/help’ which should only occur
in an installed package
WARNING: Removing directory ‘seq2pathway/html’ which should only occur
in an installed package
* looking to see if a ‘data/datalist’ file should be added
* building ‘seq2pathway_1.18.0.tar.gz’