| Back to Multiple platform build/check report for BioC 3.10 |
|
This page was generated on 2020-04-15 12:41:22 -0400 (Wed, 15 Apr 2020).
| Package 1558/1823 | Hostname | OS / Arch | INSTALL | BUILD | CHECK | BUILD BIN | ||||||
| seq2pathway 1.18.0 Xinan Yang
| malbec1 | Linux (Ubuntu 18.04.4 LTS) / x86_64 | OK | OK | OK | |||||||
| tokay1 | Windows Server 2012 R2 Standard / x64 | OK | OK | OK | OK | |||||||
| merida1 | OS X 10.11.6 El Capitan / x86_64 | OK | OK | OK | [ OK ] |
| Package: seq2pathway |
| Version: 1.18.0 |
| Command: rm -rf seq2pathway.buildbin-libdir && mkdir seq2pathway.buildbin-libdir && /Users/biocbuild/BBS/utils/build-universal.sh seq2pathway_1.18.0.tar.gz /Library/Frameworks/R.framework/Versions/Current/Resources/bin/R seq2pathway.buildbin-libdir |
| StartedAt: 2020-04-15 08:43:07 -0400 (Wed, 15 Apr 2020) |
| EndedAt: 2020-04-15 08:43:51 -0400 (Wed, 15 Apr 2020) |
| EllapsedTime: 44.1 seconds |
| RetCode: 0 |
| Status: OK |
| PackageFile: seq2pathway_1.18.0.tgz |
| PackageFileSize: 1.731 MiB |
############################################################################## ############################################################################## ### ### Running command: ### ### rm -rf seq2pathway.buildbin-libdir && mkdir seq2pathway.buildbin-libdir && /Users/biocbuild/BBS/utils/build-universal.sh seq2pathway_1.18.0.tar.gz /Library/Frameworks/R.framework/Versions/Current/Resources/bin/R seq2pathway.buildbin-libdir ### ############################################################################## ############################################################################## >>>>>>> >>>>>>> INSTALLATION WITH 'R CMD INSTALL --preclean --no-multiarch --library=seq2pathway.buildbin-libdir seq2pathway_1.18.0.tar.gz' >>>>>>> * installing *source* package ‘seq2pathway’ ... ** using staged installation ** R ** data ** inst ** byte-compile and prepare package for lazy loading ** help *** installing help indices ** building package indices ** installing vignettes ** testing if installed package can be loaded from temporary location ** testing if installed package can be loaded from final location ** testing if installed package keeps a record of temporary installation path * DONE (seq2pathway)