| Back to Multiple platform build/check report for BioC 3.10 |
|
This page was generated on 2020-04-15 12:33:30 -0400 (Wed, 15 Apr 2020).
| Package 1527/1823 | Hostname | OS / Arch | INSTALL | BUILD | CHECK | BUILD BIN | ||||||
| scDblFinder 1.1.8 Pierre-Luc Germain
| malbec1 | Linux (Ubuntu 18.04.4 LTS) / x86_64 | OK | OK | OK | |||||||
| tokay1 | Windows Server 2012 R2 Standard / x64 | [ OK ] | OK | OK | OK | |||||||
| merida1 | OS X 10.11.6 El Capitan / x86_64 | OK | OK | OK | OK |
| Package: scDblFinder |
| Version: 1.1.8 |
| Command: C:\cygwin\bin\curl.exe -O https://malbec1.bioconductor.org/BBS/3.10/bioc/src/contrib/scDblFinder_1.1.8.tar.gz && rm -rf scDblFinder.buildbin-libdir && mkdir scDblFinder.buildbin-libdir && C:\Users\biocbuild\bbs-3.10-bioc\R\bin\R.exe CMD INSTALL --merge-multiarch --build --library=scDblFinder.buildbin-libdir scDblFinder_1.1.8.tar.gz && C:\Users\biocbuild\bbs-3.10-bioc\R\bin\R.exe CMD INSTALL scDblFinder_1.1.8.zip && rm scDblFinder_1.1.8.tar.gz scDblFinder_1.1.8.zip |
| StartedAt: 2020-04-14 20:38:19 -0400 (Tue, 14 Apr 2020) |
| EndedAt: 2020-04-14 20:39:09 -0400 (Tue, 14 Apr 2020) |
| EllapsedTime: 50.6 seconds |
| RetCode: 0 |
| Status: OK |
##############################################################################
##############################################################################
###
### Running command:
###
### C:\cygwin\bin\curl.exe -O https://malbec1.bioconductor.org/BBS/3.10/bioc/src/contrib/scDblFinder_1.1.8.tar.gz && rm -rf scDblFinder.buildbin-libdir && mkdir scDblFinder.buildbin-libdir && C:\Users\biocbuild\bbs-3.10-bioc\R\bin\R.exe CMD INSTALL --merge-multiarch --build --library=scDblFinder.buildbin-libdir scDblFinder_1.1.8.tar.gz && C:\Users\biocbuild\bbs-3.10-bioc\R\bin\R.exe CMD INSTALL scDblFinder_1.1.8.zip && rm scDblFinder_1.1.8.tar.gz scDblFinder_1.1.8.zip
###
##############################################################################
##############################################################################
% Total % Received % Xferd Average Speed Time Time Time Current
Dload Upload Total Spent Left Speed
0 0 0 0 0 0 0 0 --:--:-- --:--:-- --:--:-- 0
100 488k 100 488k 0 0 11.2M 0 --:--:-- --:--:-- --:--:-- 12.2M
install for i386
* installing *source* package 'scDblFinder' ...
** using staged installation
** R
** data
** inst
** byte-compile and prepare package for lazy loading
** help
*** installing help indices
converting help for package 'scDblFinder'
finding HTML links ... done
data html
doubletThresholding html
fastClust html
getArtificialDoublets html
overcluster html
plotROCs html
rankTrans html
resplitClusters html
scDblFinder html
** building package indices
** installing vignettes
** testing if installed package can be loaded from temporary location
** testing if installed package can be loaded from final location
** testing if installed package keeps a record of temporary installation path
install for x64
* installing *source* package 'scDblFinder' ...
** testing if installed package can be loaded
* MD5 sums
packaged installation of 'scDblFinder' as scDblFinder_1.1.8.zip
* DONE (scDblFinder)
* installing to library 'C:/Users/biocbuild/bbs-3.10-bioc/R/library'
package 'scDblFinder' successfully unpacked and MD5 sums checked