| Back to Multiple platform build/check report for BioC 3.10 |
|
This page was generated on 2020-04-15 12:50:24 -0400 (Wed, 15 Apr 2020).
| Package 1527/1823 | Hostname | OS / Arch | INSTALL | BUILD | CHECK | BUILD BIN | ||||||
| scDblFinder 1.1.8 Pierre-Luc Germain
| malbec1 | Linux (Ubuntu 18.04.4 LTS) / x86_64 | OK | OK | OK | |||||||
| tokay1 | Windows Server 2012 R2 Standard / x64 | OK | OK | OK | OK | |||||||
| merida1 | OS X 10.11.6 El Capitan / x86_64 | OK | OK | OK | [ OK ] |
| Package: scDblFinder |
| Version: 1.1.8 |
| Command: rm -rf scDblFinder.buildbin-libdir && mkdir scDblFinder.buildbin-libdir && /Users/biocbuild/BBS/utils/build-universal.sh scDblFinder_1.1.8.tar.gz /Library/Frameworks/R.framework/Versions/Current/Resources/bin/R scDblFinder.buildbin-libdir |
| StartedAt: 2020-04-15 08:40:41 -0400 (Wed, 15 Apr 2020) |
| EndedAt: 2020-04-15 08:41:53 -0400 (Wed, 15 Apr 2020) |
| EllapsedTime: 72.6 seconds |
| RetCode: 0 |
| Status: OK |
| PackageFile: scDblFinder_1.1.8.tgz |
| PackageFileSize: 795.5 KiB |
############################################################################## ############################################################################## ### ### Running command: ### ### rm -rf scDblFinder.buildbin-libdir && mkdir scDblFinder.buildbin-libdir && /Users/biocbuild/BBS/utils/build-universal.sh scDblFinder_1.1.8.tar.gz /Library/Frameworks/R.framework/Versions/Current/Resources/bin/R scDblFinder.buildbin-libdir ### ############################################################################## ############################################################################## >>>>>>> >>>>>>> INSTALLATION WITH 'R CMD INSTALL --preclean --no-multiarch --library=scDblFinder.buildbin-libdir scDblFinder_1.1.8.tar.gz' >>>>>>> * installing *source* package ‘scDblFinder’ ... ** using staged installation ** R ** data ** inst ** byte-compile and prepare package for lazy loading ** help *** installing help indices ** building package indices ** installing vignettes ** testing if installed package can be loaded from temporary location ** testing if installed package can be loaded from final location ** testing if installed package keeps a record of temporary installation path * DONE (scDblFinder)