| Back to Multiple platform build/check report for BioC 3.10 |
|
This page was generated on 2020-04-15 12:27:15 -0400 (Wed, 15 Apr 2020).
| Package 1398/1823 | Hostname | OS / Arch | INSTALL | BUILD | CHECK | BUILD BIN | ||||||
| readat 1.12.0 Richard Cotton
| malbec1 | Linux (Ubuntu 18.04.4 LTS) / x86_64 | ERROR | ERROR | skipped | |||||||
| tokay1 | Windows Server 2012 R2 Standard / x64 | ERROR | [ ERROR ] | skipped | skipped | |||||||
| merida1 | OS X 10.11.6 El Capitan / x86_64 | ERROR | ERROR | skipped | skipped |
| Package: readat |
| Version: 1.12.0 |
| Command: chmod a+r readat -R && C:\Users\biocbuild\bbs-3.10-bioc\R\bin\R.exe CMD build --keep-empty-dirs --no-resave-data readat |
| StartedAt: 2020-04-14 23:27:05 -0400 (Tue, 14 Apr 2020) |
| EndedAt: 2020-04-14 23:27:07 -0400 (Tue, 14 Apr 2020) |
| EllapsedTime: 2.0 seconds |
| RetCode: 1 |
| Status: ERROR |
| PackageFile: readat_1.12.0.tar.gz |
| PackageFileSize: 1.227 MiB |
##############################################################################
##############################################################################
###
### Running command:
###
### chmod a+r readat -R && C:\Users\biocbuild\bbs-3.10-bioc\R\bin\R.exe CMD build --keep-empty-dirs --no-resave-data readat
###
##############################################################################
##############################################################################
* checking for file 'readat/DESCRIPTION' ... OK
* preparing 'readat':
* checking DESCRIPTION meta-information ... OK
* installing the package to build vignettes
-----------------------------------
ERROR: dependency 'pathological' is not available for package 'readat'
* removing 'C:/Users/biocbuild/bbs-3.10-bioc/tmpdir/RtmpqwaqEk/Rinst17c48cf58d5/readat'
-----------------------------------
ERROR: package installation failed