| Back to Multiple platform build/check report for BioC 3.10 |
|
This page was generated on 2020-04-15 12:44:14 -0400 (Wed, 15 Apr 2020).
| Package 1398/1823 | Hostname | OS / Arch | INSTALL | BUILD | CHECK | BUILD BIN | ||||||
| readat 1.12.0 Richard Cotton
| malbec1 | Linux (Ubuntu 18.04.4 LTS) / x86_64 | ERROR | ERROR | skipped | |||||||
| tokay1 | Windows Server 2012 R2 Standard / x64 | ERROR | ERROR | skipped | skipped | |||||||
| merida1 | OS X 10.11.6 El Capitan / x86_64 | ERROR | [ ERROR ] | skipped | skipped |
| Package: readat |
| Version: 1.12.0 |
| Command: /Library/Frameworks/R.framework/Versions/Current/Resources/bin/R CMD build --keep-empty-dirs --no-resave-data readat |
| StartedAt: 2020-04-14 22:15:35 -0400 (Tue, 14 Apr 2020) |
| EndedAt: 2020-04-14 22:15:37 -0400 (Tue, 14 Apr 2020) |
| EllapsedTime: 1.6 seconds |
| RetCode: 1 |
| Status: ERROR |
| PackageFile: None |
| PackageFileSize: NA |
##############################################################################
##############################################################################
###
### Running command:
###
### /Library/Frameworks/R.framework/Versions/Current/Resources/bin/R CMD build --keep-empty-dirs --no-resave-data readat
###
##############################################################################
##############################################################################
* checking for file ‘readat/DESCRIPTION’ ... OK
* preparing ‘readat’:
* checking DESCRIPTION meta-information ... OK
* installing the package to build vignettes
-----------------------------------
ERROR: dependency ‘pathological’ is not available for package ‘readat’
* removing ‘/private/tmp/RtmpzKnWRE/Rinst182cc52cd02ea/readat’
-----------------------------------
ERROR: package installation failed