| Back to Multiple platform build/check report for BioC 3.10 |
|
This page was generated on 2020-04-15 12:04:09 -0400 (Wed, 15 Apr 2020).
| Package 1356/1823 | Hostname | OS / Arch | INSTALL | BUILD | CHECK | BUILD BIN | ||||||
| qvalue 2.18.0 John D. Storey
| malbec1 | Linux (Ubuntu 18.04.4 LTS) / x86_64 | OK | OK | [ OK ] | |||||||
| tokay1 | Windows Server 2012 R2 Standard / x64 | OK | OK | OK | OK | |||||||
| merida1 | OS X 10.11.6 El Capitan / x86_64 | OK | OK | OK | OK |
| Package: qvalue |
| Version: 2.18.0 |
| Command: /home/biocbuild/bbs-3.10-bioc/R/bin/R CMD check --install=check:qvalue.install-out.txt --library=/home/biocbuild/bbs-3.10-bioc/R/library --no-vignettes --timings qvalue_2.18.0.tar.gz |
| StartedAt: 2020-04-15 00:11:00 -0400 (Wed, 15 Apr 2020) |
| EndedAt: 2020-04-15 00:11:38 -0400 (Wed, 15 Apr 2020) |
| EllapsedTime: 37.2 seconds |
| RetCode: 0 |
| Status: OK |
| CheckDir: qvalue.Rcheck |
| Warnings: 0 |
##############################################################################
##############################################################################
###
### Running command:
###
### /home/biocbuild/bbs-3.10-bioc/R/bin/R CMD check --install=check:qvalue.install-out.txt --library=/home/biocbuild/bbs-3.10-bioc/R/library --no-vignettes --timings qvalue_2.18.0.tar.gz
###
##############################################################################
##############################################################################
* using log directory ‘/home/biocbuild/bbs-3.10-bioc/meat/qvalue.Rcheck’
* using R version 3.6.3 (2020-02-29)
* using platform: x86_64-pc-linux-gnu (64-bit)
* using session charset: UTF-8
* using option ‘--no-vignettes’
* checking for file ‘qvalue/DESCRIPTION’ ... OK
* checking extension type ... Package
* this is package ‘qvalue’ version ‘2.18.0’
* checking package namespace information ... OK
* checking package dependencies ... OK
* checking if this is a source package ... OK
* checking if there is a namespace ... OK
* checking for hidden files and directories ... OK
* checking for portable file names ... OK
* checking for sufficient/correct file permissions ... OK
* checking whether package ‘qvalue’ can be installed ... OK
* checking installed package size ... OK
* checking package directory ... OK
* checking ‘build’ directory ... OK
* checking DESCRIPTION meta-information ... OK
* checking top-level files ... OK
* checking for left-over files ... OK
* checking index information ... OK
* checking package subdirectories ... OK
* checking R files for non-ASCII characters ... OK
* checking R files for syntax errors ... OK
* checking whether the package can be loaded ... OK
* checking whether the package can be loaded with stated dependencies ... OK
* checking whether the package can be unloaded cleanly ... OK
* checking whether the namespace can be loaded with stated dependencies ... OK
* checking whether the namespace can be unloaded cleanly ... OK
* checking dependencies in R code ... OK
* checking S3 generic/method consistency ... OK
* checking replacement functions ... OK
* checking foreign function calls ... OK
* checking R code for possible problems ... NOTE
lfdr: no visible global function definition for ‘qnorm’
lfdr: no visible global function definition for ‘density’
lfdr: no visible global function definition for ‘smooth.spline’
lfdr: no visible global function definition for ‘predict’
lfdr: no visible global function definition for ‘dnorm’
pi0est: no visible global function definition for ‘smooth.spline’
pi0est: no visible global function definition for ‘predict’
pi0est: no visible global function definition for ‘quantile’
plot.qvalue: no visible global function definition for ‘quantile’
write.qvalue: no visible global function definition for ‘write.table’
Undefined global functions or variables:
density dnorm predict qnorm quantile smooth.spline write.table
Consider adding
importFrom("stats", "density", "dnorm", "predict", "qnorm", "quantile",
"smooth.spline")
importFrom("utils", "write.table")
to your NAMESPACE file.
* checking Rd files ... OK
* checking Rd metadata ... OK
* checking Rd cross-references ... OK
* checking for missing documentation entries ... OK
* checking for code/documentation mismatches ... OK
* checking Rd \usage sections ... OK
* checking Rd contents ... OK
* checking for unstated dependencies in examples ... OK
* checking contents of ‘data’ directory ... OK
* checking data for non-ASCII characters ... OK
* checking data for ASCII and uncompressed saves ... OK
* checking installed files from ‘inst/doc’ ... OK
* checking files in ‘vignettes’ ... OK
* checking examples ... OK
* checking for unstated dependencies in vignettes ... OK
* checking package vignettes in ‘inst/doc’ ... OK
* checking running R code from vignettes ... SKIPPED
* checking re-building of vignette outputs ... SKIPPED
* checking PDF version of manual ... OK
* DONE
Status: 1 NOTE
See
‘/home/biocbuild/bbs-3.10-bioc/meat/qvalue.Rcheck/00check.log’
for details.
qvalue.Rcheck/00install.out
############################################################################## ############################################################################## ### ### Running command: ### ### /home/biocbuild/bbs-3.10-bioc/R/bin/R CMD INSTALL qvalue ### ############################################################################## ############################################################################## * installing to library ‘/home/biocbuild/bbs-3.10-bioc/R/library’ * installing *source* package ‘qvalue’ ... ** using staged installation ** R ** data ** inst ** byte-compile and prepare package for lazy loading ** help *** installing help indices ** building package indices ** installing vignettes ** testing if installed package can be loaded from temporary location ** testing if installed package can be loaded from final location ** testing if installed package keeps a record of temporary installation path * DONE (qvalue)
qvalue.Rcheck/qvalue-Ex.timings
| name | user | system | elapsed | |
| empPvals | 0.068 | 0.008 | 0.077 | |
| hedenfalk | 1.328 | 0.032 | 1.368 | |
| hist.qvalue | 0.624 | 0.004 | 0.630 | |
| lfdr | 0.576 | 0.008 | 0.581 | |
| pi0est | 1.212 | 0.000 | 1.217 | |
| plot.qvalue | 0.988 | 0.008 | 1.005 | |
| qvalue | 1.452 | 0.008 | 1.468 | |
| summary.qvalue | 0.04 | 0.00 | 0.04 | |
| write.qvalue | 0.076 | 0.000 | 0.077 | |