| Back to Multiple platform build/check report for BioC 3.10 |
|
This page was generated on 2020-04-15 12:04:09 -0400 (Wed, 15 Apr 2020).
| Package 1356/1823 | Hostname | OS / Arch | INSTALL | BUILD | CHECK | BUILD BIN | ||||||
| qvalue 2.18.0 John D. Storey
| malbec1 | Linux (Ubuntu 18.04.4 LTS) / x86_64 | OK | [ OK ] | OK | |||||||
| tokay1 | Windows Server 2012 R2 Standard / x64 | OK | OK | OK | OK | |||||||
| merida1 | OS X 10.11.6 El Capitan / x86_64 | OK | OK | OK | OK |
| Package: qvalue |
| Version: 2.18.0 |
| Command: /home/biocbuild/bbs-3.10-bioc/R/bin/R CMD build --keep-empty-dirs --no-resave-data qvalue |
| StartedAt: 2020-04-14 19:22:54 -0400 (Tue, 14 Apr 2020) |
| EndedAt: 2020-04-14 19:23:04 -0400 (Tue, 14 Apr 2020) |
| EllapsedTime: 10.1 seconds |
| RetCode: 0 |
| Status: OK |
| PackageFile: qvalue_2.18.0.tar.gz |
| PackageFileSize: 2.631 MiB |
##############################################################################
##############################################################################
###
### Running command:
###
### /home/biocbuild/bbs-3.10-bioc/R/bin/R CMD build --keep-empty-dirs --no-resave-data qvalue
###
##############################################################################
##############################################################################
* checking for file ‘qvalue/DESCRIPTION’ ... OK
* preparing ‘qvalue’:
* checking DESCRIPTION meta-information ... OK
* installing the package to build vignettes
* creating vignettes ... OK
Warning: ‘inst/doc’ files
‘qvalue.Rnw’, ‘qvalue.pdf’, ‘qvalue.R’
ignored as vignettes have been rebuilt.
Run R CMD build with --no-build-vignettes to prevent rebuilding.
* checking for LF line-endings in source and make files and shell scripts
* checking for empty or unneeded directories
* looking to see if a ‘data/datalist’ file should be added
* building ‘qvalue_2.18.0.tar.gz’