| Back to Multiple platform build/check report for BioC 3.10 | 
  | 
This page was generated on 2020-04-15 12:50:07 -0400 (Wed, 15 Apr 2020).
| Package 1243/1823 | Hostname | OS / Arch | INSTALL | BUILD | CHECK | BUILD BIN | ||||||
| peakPantheR 1.0.0 Arnaud Wolfer 
  | malbec1 | Linux (Ubuntu 18.04.4 LTS) / x86_64 | OK | OK | OK | |||||||
| tokay1 | Windows Server 2012 R2 Standard / x64 | OK | OK | OK | OK | |||||||
| merida1 | OS X 10.11.6 El Capitan / x86_64 | OK | OK | OK | [ OK ] | 
| Package: peakPantheR | 
| Version: 1.0.0 | 
| Command: rm -rf peakPantheR.buildbin-libdir && mkdir peakPantheR.buildbin-libdir && /Users/biocbuild/BBS/utils/build-universal.sh peakPantheR_1.0.0.tar.gz /Library/Frameworks/R.framework/Versions/Current/Resources/bin/R peakPantheR.buildbin-libdir | 
| StartedAt: 2020-04-15 08:19:02 -0400 (Wed, 15 Apr 2020) | 
| EndedAt: 2020-04-15 08:20:01 -0400 (Wed, 15 Apr 2020) | 
| EllapsedTime: 59.5 seconds | 
| RetCode: 0 | 
| Status: OK | 
| PackageFile: peakPantheR_1.0.0.tgz | 
| PackageFileSize: 1.698 MiB | 
############################################################################## ############################################################################## ### ### Running command: ### ### rm -rf peakPantheR.buildbin-libdir && mkdir peakPantheR.buildbin-libdir && /Users/biocbuild/BBS/utils/build-universal.sh peakPantheR_1.0.0.tar.gz /Library/Frameworks/R.framework/Versions/Current/Resources/bin/R peakPantheR.buildbin-libdir ### ############################################################################## ############################################################################## >>>>>>> >>>>>>> INSTALLATION WITH 'R CMD INSTALL --preclean --no-multiarch --library=peakPantheR.buildbin-libdir peakPantheR_1.0.0.tar.gz' >>>>>>> * installing *source* package ‘peakPantheR’ ... ** using staged installation ** R ** inst ** byte-compile and prepare package for lazy loading ** help *** installing help indices *** copying figures ** building package indices ** installing vignettes ** testing if installed package can be loaded from temporary location ** testing if installed package can be loaded from final location ** testing if installed package keeps a record of temporary installation path * DONE (peakPantheR)