| Back to Multiple platform build/check report for BioC 3.10 |
|
This page was generated on 2020-04-15 12:24:13 -0400 (Wed, 15 Apr 2020).
| Package 977/1823 | Hostname | OS / Arch | INSTALL | BUILD | CHECK | BUILD BIN | ||||||
| mdgsa 1.18.0 David Montaner
| malbec1 | Linux (Ubuntu 18.04.4 LTS) / x86_64 | OK | OK | OK | |||||||
| tokay1 | Windows Server 2012 R2 Standard / x64 | [ OK ] | OK | OK | OK | |||||||
| merida1 | OS X 10.11.6 El Capitan / x86_64 | OK | OK | OK | OK |
| Package: mdgsa |
| Version: 1.18.0 |
| Command: C:\cygwin\bin\curl.exe -O https://malbec1.bioconductor.org/BBS/3.10/bioc/src/contrib/mdgsa_1.18.0.tar.gz && rm -rf mdgsa.buildbin-libdir && mkdir mdgsa.buildbin-libdir && C:\Users\biocbuild\bbs-3.10-bioc\R\bin\R.exe CMD INSTALL --merge-multiarch --build --library=mdgsa.buildbin-libdir mdgsa_1.18.0.tar.gz && C:\Users\biocbuild\bbs-3.10-bioc\R\bin\R.exe CMD INSTALL mdgsa_1.18.0.zip && rm mdgsa_1.18.0.tar.gz mdgsa_1.18.0.zip |
| StartedAt: 2020-04-14 18:55:26 -0400 (Tue, 14 Apr 2020) |
| EndedAt: 2020-04-14 18:56:23 -0400 (Tue, 14 Apr 2020) |
| EllapsedTime: 57.1 seconds |
| RetCode: 0 |
| Status: OK |
##############################################################################
##############################################################################
###
### Running command:
###
### C:\cygwin\bin\curl.exe -O https://malbec1.bioconductor.org/BBS/3.10/bioc/src/contrib/mdgsa_1.18.0.tar.gz && rm -rf mdgsa.buildbin-libdir && mkdir mdgsa.buildbin-libdir && C:\Users\biocbuild\bbs-3.10-bioc\R\bin\R.exe CMD INSTALL --merge-multiarch --build --library=mdgsa.buildbin-libdir mdgsa_1.18.0.tar.gz && C:\Users\biocbuild\bbs-3.10-bioc\R\bin\R.exe CMD INSTALL mdgsa_1.18.0.zip && rm mdgsa_1.18.0.tar.gz mdgsa_1.18.0.zip
###
##############################################################################
##############################################################################
% Total % Received % Xferd Average Speed Time Time Time Current
Dload Upload Total Spent Left Speed
0 0 0 0 0 0 0 0 --:--:-- --:--:-- --:--:-- 0
100 32416 100 32416 0 0 513k 0 --:--:-- --:--:-- --:--:-- 545k
install for i386
* installing *source* package 'mdgsa' ...
** using staged installation
** R
** inst
** byte-compile and prepare package for lazy loading
** help
*** installing help indices
converting help for package 'mdgsa'
finding HTML links ... done
annotFilter html
annotList2mat html
annotMat2list html
getGOnames html
getKEGGnames html
getOntology html
goLeaves html
indexTransform html
mdGsa html
mdPat html
plotMdGsa html
propagateGO html
pval2index html
revList html
splitOntologies html
transferIndex html
uvGsa html
uvPat html
uvSignif html
** building package indices
** installing vignettes
** testing if installed package can be loaded from temporary location
** testing if installed package can be loaded from final location
** testing if installed package keeps a record of temporary installation path
install for x64
* installing *source* package 'mdgsa' ...
** testing if installed package can be loaded
* MD5 sums
packaged installation of 'mdgsa' as mdgsa_1.18.0.zip
* DONE (mdgsa)
* installing to library 'C:/Users/biocbuild/bbs-3.10-bioc/R/library'
package 'mdgsa' successfully unpacked and MD5 sums checked