| Back to Multiple platform build/check report for BioC 3.10 |
|
This page was generated on 2020-04-15 12:09:34 -0400 (Wed, 15 Apr 2020).
| Package 977/1823 | Hostname | OS / Arch | INSTALL | BUILD | CHECK | BUILD BIN | ||||||
| mdgsa 1.18.0 David Montaner
| malbec1 | Linux (Ubuntu 18.04.4 LTS) / x86_64 | OK | OK | [ OK ] | |||||||
| tokay1 | Windows Server 2012 R2 Standard / x64 | OK | OK | OK | OK | |||||||
| merida1 | OS X 10.11.6 El Capitan / x86_64 | OK | OK | OK | OK |
| Package: mdgsa |
| Version: 1.18.0 |
| Command: /home/biocbuild/bbs-3.10-bioc/R/bin/R CMD check --install=check:mdgsa.install-out.txt --library=/home/biocbuild/bbs-3.10-bioc/R/library --no-vignettes --timings mdgsa_1.18.0.tar.gz |
| StartedAt: 2020-04-15 02:42:00 -0400 (Wed, 15 Apr 2020) |
| EndedAt: 2020-04-15 02:44:11 -0400 (Wed, 15 Apr 2020) |
| EllapsedTime: 130.3 seconds |
| RetCode: 0 |
| Status: OK |
| CheckDir: mdgsa.Rcheck |
| Warnings: 0 |
##############################################################################
##############################################################################
###
### Running command:
###
### /home/biocbuild/bbs-3.10-bioc/R/bin/R CMD check --install=check:mdgsa.install-out.txt --library=/home/biocbuild/bbs-3.10-bioc/R/library --no-vignettes --timings mdgsa_1.18.0.tar.gz
###
##############################################################################
##############################################################################
* using log directory ‘/home/biocbuild/bbs-3.10-bioc/meat/mdgsa.Rcheck’
* using R version 3.6.3 (2020-02-29)
* using platform: x86_64-pc-linux-gnu (64-bit)
* using session charset: UTF-8
* using option ‘--no-vignettes’
* checking for file ‘mdgsa/DESCRIPTION’ ... OK
* checking extension type ... Package
* this is package ‘mdgsa’ version ‘1.18.0’
* checking package namespace information ... OK
* checking package dependencies ... OK
* checking if this is a source package ... OK
* checking if there is a namespace ... OK
* checking for hidden files and directories ... OK
* checking for portable file names ... OK
* checking for sufficient/correct file permissions ... OK
* checking whether package ‘mdgsa’ can be installed ... OK
* checking installed package size ... OK
* checking package directory ... OK
* checking ‘build’ directory ... OK
* checking DESCRIPTION meta-information ... NOTE
Malformed Title field: should not end in a period.
* checking top-level files ... OK
* checking for left-over files ... OK
* checking index information ... OK
* checking package subdirectories ... OK
* checking R files for non-ASCII characters ... OK
* checking R files for syntax errors ... OK
* checking whether the package can be loaded ... OK
* checking whether the package can be loaded with stated dependencies ... OK
* checking whether the package can be unloaded cleanly ... OK
* checking whether the namespace can be loaded with stated dependencies ... OK
* checking whether the namespace can be unloaded cleanly ... OK
* checking dependencies in R code ... OK
* checking S3 generic/method consistency ... OK
* checking replacement functions ... OK
* checking foreign function calls ... OK
* checking R code for possible problems ... NOTE
getGOnames: no visible global function definition for
‘packageDescription’
getKEGGnames: no visible global function definition for
‘packageDescription’
getOntology: no visible global function definition for
‘packageDescription’
goLeaves: no visible global function definition for
‘packageDescription’
index.normalize: no visible global function definition for ‘qqnorm’
index.standardize: no visible global function definition for ‘sd’
mdGsa: no visible global function definition for ‘quasibinomial’
mdGsa: no visible global function definition for ‘glm.fit’
mdGsa: no visible global function definition for ‘summary.glm’
mdGsa: no visible global function definition for ‘p.adjust’
mdPat: no visible global function definition for ‘read.table’
plotMdGsa: no visible global function definition for ‘plot’
plotMdGsa: no visible global function definition for ‘points’
plotMdGsa: no visible global function definition for ‘cov’
plotMdGsa: no visible global function definition for ‘qchisq’
plotMdGsa: no visible global function definition for ‘lines’
plotMdGsa: no visible global function definition for ‘abline’
propagateGO.matrix: no visible global function definition for
‘packageDescription’
splitOntologies: no visible global function definition for
‘packageDescription’
uvGsa: no visible global function definition for ‘quasibinomial’
uvGsa: no visible global function definition for ‘glm.fit’
uvGsa: no visible global function definition for ‘summary.glm’
uvGsa: no visible global function definition for ‘p.adjust’
Undefined global functions or variables:
abline cov glm.fit lines p.adjust packageDescription plot points
qchisq qqnorm quasibinomial read.table sd summary.glm
Consider adding
importFrom("graphics", "abline", "lines", "plot", "points")
importFrom("stats", "cov", "glm.fit", "p.adjust", "qchisq", "qqnorm",
"quasibinomial", "sd", "summary.glm")
importFrom("utils", "packageDescription", "read.table")
to your NAMESPACE file.
* checking Rd files ... OK
* checking Rd metadata ... OK
* checking Rd cross-references ... OK
* checking for missing documentation entries ... OK
* checking for code/documentation mismatches ... OK
* checking Rd \usage sections ... OK
* checking Rd contents ... OK
* checking for unstated dependencies in examples ... OK
* checking files in ‘vignettes’ ... OK
* checking examples ... OK
* checking for unstated dependencies in ‘tests’ ... OK
* checking tests ...
Running ‘runTests.R’
OK
* checking for unstated dependencies in vignettes ... OK
* checking package vignettes in ‘inst/doc’ ... OK
* checking running R code from vignettes ... SKIPPED
* checking re-building of vignette outputs ... SKIPPED
* checking PDF version of manual ... OK
* DONE
Status: 2 NOTEs
See
‘/home/biocbuild/bbs-3.10-bioc/meat/mdgsa.Rcheck/00check.log’
for details.
mdgsa.Rcheck/00install.out
############################################################################## ############################################################################## ### ### Running command: ### ### /home/biocbuild/bbs-3.10-bioc/R/bin/R CMD INSTALL mdgsa ### ############################################################################## ############################################################################## * installing to library ‘/home/biocbuild/bbs-3.10-bioc/R/library’ * installing *source* package ‘mdgsa’ ... ** using staged installation ** R ** inst ** byte-compile and prepare package for lazy loading ** help *** installing help indices ** building package indices ** installing vignettes ** testing if installed package can be loaded from temporary location ** testing if installed package can be loaded from final location ** testing if installed package keeps a record of temporary installation path * DONE (mdgsa)
mdgsa.Rcheck/tests/runTests.Rout
R version 3.6.3 (2020-02-29) -- "Holding the Windsock"
Copyright (C) 2020 The R Foundation for Statistical Computing
Platform: x86_64-pc-linux-gnu (64-bit)
R is free software and comes with ABSOLUTELY NO WARRANTY.
You are welcome to redistribute it under certain conditions.
Type 'license()' or 'licence()' for distribution details.
R is a collaborative project with many contributors.
Type 'contributors()' for more information and
'citation()' on how to cite R or R packages in publications.
Type 'demo()' for some demos, 'help()' for on-line help, or
'help.start()' for an HTML browser interface to help.
Type 'q()' to quit R.
> BiocGenerics:::testPackage ("mdgsa")
KEGG.db contains mappings based on older data because the original
resource was removed from the the public domain before the most
recent update was produced. This package should now be considered
deprecated and future versions of Bioconductor may not have it
available. Users who want more current data are encouraged to look
at the KEGGREST or reactome.db packages
Warning: The annotation list has no names.
List position will be used instead.
Warning: Some blocks in the annot list have duplicated genes.
Duplicated will be removed.
Warning: Some blocks in the annot gene IDs are missing or "".
Those will be removed.
Filtering annotation by size:
1 small blocks removed.
0 big blocks removed.
3 blocks remain in the annotation.
Warning: The annotation list has no names.
List position will be used instead.
Warning: Some blocks in the annot list have duplicated genes.
Duplicated will be removed.
Warning: Some blocks in the annot gene IDs are missing or "".
Those will be removed.
Warning: There are genes in the annotation list which are not
part of the gene universe defined by the ranking index;
they will be eliminated form the annotation.
60% of the genes in the index are annotated in the list.
Filtering annotation by size:
1 small blocks removed.
0 big blocks removed.
3 blocks remain in the annotation.
Loading required package: GO.db
Loading required package: AnnotationDbi
Loading required package: stats4
Loading required package: BiocGenerics
Loading required package: parallel
Attaching package: 'BiocGenerics'
The following objects are masked from 'package:parallel':
clusterApply, clusterApplyLB, clusterCall, clusterEvalQ,
clusterExport, clusterMap, parApply, parCapply, parLapply,
parLapplyLB, parRapply, parSapply, parSapplyLB
The following objects are masked from 'package:stats':
IQR, mad, sd, var, xtabs
The following objects are masked from 'package:base':
Filter, Find, Map, Position, Reduce, anyDuplicated, append,
as.data.frame, basename, cbind, colnames, dirname, do.call,
duplicated, eval, evalq, get, grep, grepl, intersect, is.unsorted,
lapply, mapply, match, mget, order, paste, pmax, pmax.int, pmin,
pmin.int, rank, rbind, rownames, sapply, setdiff, sort, table,
tapply, union, unique, unsplit, which, which.max, which.min
Loading required package: Biobase
Welcome to Bioconductor
Vignettes contain introductory material; view with
'browseVignettes()'. To cite Bioconductor, see
'citation("Biobase")', and for packages 'citation("pkgname")'.
Loading required package: IRanges
Loading required package: S4Vectors
Attaching package: 'S4Vectors'
The following object is masked from 'package:base':
expand.grid
Using GO.db version: 3.10.0
Using GO.db version: 3.10.0
Loading required package: KEGG.db
Using KEGG.db version: 3.2.3
Using GO.db version: 3.10.0
Analyzed blocks:
time in seconds:
user system elapsed
0.024 0.000 0.024
Using GO.db version: 3.10.0
3miRNAs with annotated targets
2miRNAs without targets
0miRNAs with targets but not in the ranking index
Analyzed blocks:
time in seconds:
user system elapsed
0.060 0.000 0.059
Analyzed blocks:
time in seconds:
user system elapsed
0.016 0.000 0.013
RUNIT TEST PROTOCOL -- Wed Apr 15 02:44:06 2020
***********************************************
Number of test functions: 18
Number of errors: 0
Number of failures: 0
1 Test Suite :
mdgsa RUnit Tests - 18 test functions, 0 errors, 0 failures
Number of test functions: 18
Number of errors: 0
Number of failures: 0
>
> proc.time()
user system elapsed
12.612 0.212 12.921
mdgsa.Rcheck/mdgsa-Ex.timings
| name | user | system | elapsed | |
| annotFilter | 0.004 | 0.000 | 0.006 | |
| annotList2mat | 0.000 | 0.000 | 0.001 | |
| annotMat2list | 0.004 | 0.000 | 0.002 | |
| getGOnames | 0.220 | 0.028 | 0.249 | |
| getKEGGnames | 0.028 | 0.000 | 0.034 | |
| getOntology | 0.292 | 0.004 | 0.308 | |
| goLeaves | 2.856 | 0.060 | 3.146 | |
| indexTransform | 0.008 | 0.000 | 0.008 | |
| mdGsa | 0.032 | 0.004 | 0.035 | |
| mdPat | 0.012 | 0.004 | 0.025 | |
| plotMdGsa | 0 | 0 | 0 | |
| propagateGO | 4.780 | 0.016 | 4.802 | |
| pval2index | 0.004 | 0.000 | 0.005 | |
| revList | 0.004 | 0.000 | 0.001 | |
| splitOntologies | 0.412 | 0.000 | 0.412 | |
| transferIndex | 0.060 | 0.000 | 0.058 | |
| uvGsa | 0.016 | 0.000 | 0.016 | |
| uvPat | 0.004 | 0.000 | 0.004 | |
| uvSignif | 0.004 | 0.000 | 0.003 | |