| Back to Multiple platform build/check report for BioC 3.10 |
|
This page was generated on 2020-04-15 12:33:04 -0400 (Wed, 15 Apr 2020).
| Package 432/1823 | Hostname | OS / Arch | INSTALL | BUILD | CHECK | BUILD BIN | ||||||
| deltaCaptureC 1.0.0 Michael Shapiro
| malbec1 | Linux (Ubuntu 18.04.4 LTS) / x86_64 | OK | OK | OK | |||||||
| tokay1 | Windows Server 2012 R2 Standard / x64 | [ OK ] | OK | OK | OK | |||||||
| merida1 | OS X 10.11.6 El Capitan / x86_64 | OK | OK | OK | OK |
| Package: deltaCaptureC |
| Version: 1.0.0 |
| Command: C:\cygwin\bin\curl.exe -O https://malbec1.bioconductor.org/BBS/3.10/bioc/src/contrib/deltaCaptureC_1.0.0.tar.gz && rm -rf deltaCaptureC.buildbin-libdir && mkdir deltaCaptureC.buildbin-libdir && C:\Users\biocbuild\bbs-3.10-bioc\R\bin\R.exe CMD INSTALL --merge-multiarch --build --library=deltaCaptureC.buildbin-libdir deltaCaptureC_1.0.0.tar.gz && C:\Users\biocbuild\bbs-3.10-bioc\R\bin\R.exe CMD INSTALL deltaCaptureC_1.0.0.zip && rm deltaCaptureC_1.0.0.tar.gz deltaCaptureC_1.0.0.zip |
| StartedAt: 2020-04-14 19:40:32 -0400 (Tue, 14 Apr 2020) |
| EndedAt: 2020-04-14 19:41:30 -0400 (Tue, 14 Apr 2020) |
| EllapsedTime: 58.0 seconds |
| RetCode: 0 |
| Status: OK |
##############################################################################
##############################################################################
###
### Running command:
###
### C:\cygwin\bin\curl.exe -O https://malbec1.bioconductor.org/BBS/3.10/bioc/src/contrib/deltaCaptureC_1.0.0.tar.gz && rm -rf deltaCaptureC.buildbin-libdir && mkdir deltaCaptureC.buildbin-libdir && C:\Users\biocbuild\bbs-3.10-bioc\R\bin\R.exe CMD INSTALL --merge-multiarch --build --library=deltaCaptureC.buildbin-libdir deltaCaptureC_1.0.0.tar.gz && C:\Users\biocbuild\bbs-3.10-bioc\R\bin\R.exe CMD INSTALL deltaCaptureC_1.0.0.zip && rm deltaCaptureC_1.0.0.tar.gz deltaCaptureC_1.0.0.zip
###
##############################################################################
##############################################################################
% Total % Received % Xferd Average Speed Time Time Time Current
Dload Upload Total Spent Left Speed
0 0 0 0 0 0 0 0 --:--:-- --:--:-- --:--:-- 0
100 371k 100 371k 0 0 9259k 0 --:--:-- --:--:-- --:--:-- 10.0M
install for i386
* installing *source* package 'deltaCaptureC' ...
** using staged installation
** R
** data
*** moving datasets to lazyload DB
** byte-compile and prepare package for lazy loading
** help
*** installing help indices
converting help for package 'deltaCaptureC'
finding HTML links ... done
bigBinSize html
binSummarizedExperiment html
binnedDeltaPlot html
binnedDeltaSE html
binnedSummarizedExperiment html
deltaSE html
dot-getRunsAndTotals html
downshiftDFtoMatrix html
generatePermutation html
getDeltaSE html
getLopsidedness html
getMeanNormalizedCountsSE html
getNormalizedCountsSE html
getOverlapWeights html
getPValueCutoff html
getRunAndLopsidednessStatistics html
getRunStatistics html
getRunStatisticsDist html
getRunTotals html
getSignificantRegions html
getSizeFactorsDF html
getSizeFactorsSE html
miniDeltaSE html
miniSE html
miniSEDF html
numPermutations html
pValue html
plotSignificantRegions html
plotTitle html
rebinToMultiple html
regionOfInterest html
significanceType html
significantRegions html
significantRegionsPlot html
smallBinSize html
smallBins html
smallSetOfSmallBins html
smallerDeltaSE html
viewpointRegion html
weightsExampleBins html
weightsExampleGr html
** building package indices
** installing vignettes
** testing if installed package can be loaded from temporary location
** testing if installed package can be loaded from final location
** testing if installed package keeps a record of temporary installation path
install for x64
* installing *source* package 'deltaCaptureC' ...
** testing if installed package can be loaded
* MD5 sums
packaged installation of 'deltaCaptureC' as deltaCaptureC_1.0.0.zip
* DONE (deltaCaptureC)
* installing to library 'C:/Users/biocbuild/bbs-3.10-bioc/R/library'
package 'deltaCaptureC' successfully unpacked and MD5 sums checked