| Back to Multiple platform build/check report for BioC 3.10 |
|
This page was generated on 2020-04-15 12:48:27 -0400 (Wed, 15 Apr 2020).
| Package 419/1823 | Hostname | OS / Arch | INSTALL | BUILD | CHECK | BUILD BIN | ||||||
| decompTumor2Sig 2.2.0 Rosario M. Piro
| malbec1 | Linux (Ubuntu 18.04.4 LTS) / x86_64 | OK | OK | OK | |||||||
| tokay1 | Windows Server 2012 R2 Standard / x64 | OK | OK | OK | OK | |||||||
| merida1 | OS X 10.11.6 El Capitan / x86_64 | OK | OK | [ OK ] | OK |
| Package: decompTumor2Sig |
| Version: 2.2.0 |
| Command: /Library/Frameworks/R.framework/Versions/Current/Resources/bin/R CMD check --install=check:decompTumor2Sig.install-out.txt --library=/Library/Frameworks/R.framework/Versions/Current/Resources/library --no-vignettes --timings decompTumor2Sig_2.2.0.tar.gz |
| StartedAt: 2020-04-15 01:40:26 -0400 (Wed, 15 Apr 2020) |
| EndedAt: 2020-04-15 01:47:54 -0400 (Wed, 15 Apr 2020) |
| EllapsedTime: 448.2 seconds |
| RetCode: 0 |
| Status: OK |
| CheckDir: decompTumor2Sig.Rcheck |
| Warnings: 0 |
##############################################################################
##############################################################################
###
### Running command:
###
### /Library/Frameworks/R.framework/Versions/Current/Resources/bin/R CMD check --install=check:decompTumor2Sig.install-out.txt --library=/Library/Frameworks/R.framework/Versions/Current/Resources/library --no-vignettes --timings decompTumor2Sig_2.2.0.tar.gz
###
##############################################################################
##############################################################################
* using log directory ‘/Users/biocbuild/bbs-3.10-bioc/meat/decompTumor2Sig.Rcheck’
* using R version 3.6.3 (2020-02-29)
* using platform: x86_64-apple-darwin15.6.0 (64-bit)
* using session charset: UTF-8
* using option ‘--no-vignettes’
* checking for file ‘decompTumor2Sig/DESCRIPTION’ ... OK
* checking extension type ... Package
* this is package ‘decompTumor2Sig’ version ‘2.2.0’
* package encoding: UTF-8
* checking package namespace information ... OK
* checking package dependencies ... OK
* checking if this is a source package ... OK
* checking if there is a namespace ... OK
* checking for hidden files and directories ... OK
* checking for portable file names ... OK
* checking for sufficient/correct file permissions ... OK
* checking whether package ‘decompTumor2Sig’ can be installed ... OK
* checking installed package size ... OK
* checking package directory ... OK
* checking ‘build’ directory ... OK
* checking DESCRIPTION meta-information ... OK
* checking top-level files ... NOTE
File
inst/LICENSE
will install at top-level and is not mentioned in the DESCRIPTION file.
* checking for left-over files ... OK
* checking index information ... OK
* checking package subdirectories ... OK
* checking R files for non-ASCII characters ... OK
* checking R files for syntax errors ... OK
* checking whether the package can be loaded ... OK
* checking whether the package can be loaded with stated dependencies ... OK
* checking whether the package can be unloaded cleanly ... OK
* checking whether the namespace can be loaded with stated dependencies ... OK
* checking whether the namespace can be unloaded cleanly ... OK
* checking dependencies in R code ... OK
* checking S3 generic/method consistency ... OK
* checking replacement functions ... OK
* checking foreign function calls ... OK
* checking R code for possible problems ... OK
* checking Rd files ... OK
* checking Rd metadata ... OK
* checking Rd cross-references ... OK
* checking for missing documentation entries ... OK
* checking for code/documentation mismatches ... OK
* checking Rd \usage sections ... OK
* checking Rd contents ... OK
* checking for unstated dependencies in examples ... OK
* checking files in ‘vignettes’ ... OK
* checking examples ... OK
Examples with CPU or elapsed time > 5s
user system elapsed
plotExplainedVariance 108.895 0.377 109.879
convertGenomesFromVRanges 9.898 0.722 10.660
decomposeTumorGenomes 5.268 0.397 6.382
readGenomesFromMPF 4.622 0.355 7.681
isExposureSet 3.949 0.354 5.007
* checking for unstated dependencies in vignettes ... OK
* checking package vignettes in ‘inst/doc’ ... OK
* checking running R code from vignettes ... SKIPPED
* checking re-building of vignette outputs ... SKIPPED
* checking PDF version of manual ... OK
* DONE
Status: 1 NOTE
See
‘/Users/biocbuild/bbs-3.10-bioc/meat/decompTumor2Sig.Rcheck/00check.log’
for details.
decompTumor2Sig.Rcheck/00install.out
############################################################################## ############################################################################## ### ### Running command: ### ### /Library/Frameworks/R.framework/Versions/Current/Resources/bin/R CMD INSTALL decompTumor2Sig ### ############################################################################## ############################################################################## * installing to library ‘/Library/Frameworks/R.framework/Versions/3.6/Resources/library’ * installing *source* package ‘decompTumor2Sig’ ... ** using staged installation ** R ** inst ** byte-compile and prepare package for lazy loading ** help *** installing help indices ** building package indices ** installing vignettes ** testing if installed package can be loaded from temporary location ** testing if installed package can be loaded from final location ** testing if installed package keeps a record of temporary installation path * DONE (decompTumor2Sig)
decompTumor2Sig.Rcheck/decompTumor2Sig-Ex.timings
| name | user | system | elapsed | |
| composeGenomesFromExposures | 0.366 | 0.017 | 1.169 | |
| computeExplainedVariance | 0.268 | 0.012 | 1.067 | |
| convertAlexandrov2Shiraishi | 0.164 | 0.005 | 1.073 | |
| convertGenomesFromVRanges | 9.898 | 0.722 | 10.660 | |
| decomposeTumorGenomes | 5.268 | 0.397 | 6.382 | |
| determineSignatureDistances | 0.094 | 0.003 | 0.777 | |
| downgradeShiraishiSignatures | 0.013 | 0.003 | 0.016 | |
| evaluateDecompositionQuality | 0.279 | 0.008 | 0.973 | |
| getGenomesFromMutFeatData | 0.741 | 0.041 | 0.787 | |
| getSignaturesFromEstParam | 0.246 | 0.004 | 0.251 | |
| isAlexandrovSet | 0.028 | 0.002 | 0.709 | |
| isExposureSet | 3.949 | 0.354 | 5.007 | |
| isShiraishiSet | 0.079 | 0.002 | 0.761 | |
| isSignatureSet | 0.035 | 0.002 | 0.721 | |
| mapSignatureSets | 0.172 | 0.003 | 0.867 | |
| plotDecomposedContribution | 0.425 | 0.008 | 1.135 | |
| plotExplainedVariance | 108.895 | 0.377 | 109.879 | |
| plotMutationDistribution | 2.753 | 0.011 | 3.777 | |
| readAlexandrovSignatures | 0.053 | 0.002 | 0.854 | |
| readGenomesFromMPF | 4.622 | 0.355 | 7.681 | |
| readGenomesFromVCF | 4.144 | 0.361 | 4.548 | |
| readShiraishiSignatures | 0.008 | 0.001 | 0.008 | |
| sameSignatureFormat | 0.097 | 0.003 | 0.896 | |