| Back to Multiple platform build/check report for BioC 3.10 |
|
This page was generated on 2020-04-15 12:15:01 -0400 (Wed, 15 Apr 2020).
| Package 419/1823 | Hostname | OS / Arch | INSTALL | BUILD | CHECK | BUILD BIN | ||||||
| decompTumor2Sig 2.2.0 Rosario M. Piro
| malbec1 | Linux (Ubuntu 18.04.4 LTS) / x86_64 | OK | OK | [ OK ] | |||||||
| tokay1 | Windows Server 2012 R2 Standard / x64 | OK | OK | OK | OK | |||||||
| merida1 | OS X 10.11.6 El Capitan / x86_64 | OK | OK | OK | OK |
| Package: decompTumor2Sig |
| Version: 2.2.0 |
| Command: /home/biocbuild/bbs-3.10-bioc/R/bin/R CMD check --install=check:decompTumor2Sig.install-out.txt --library=/home/biocbuild/bbs-3.10-bioc/R/library --no-vignettes --timings decompTumor2Sig_2.2.0.tar.gz |
| StartedAt: 2020-04-15 06:11:51 -0400 (Wed, 15 Apr 2020) |
| EndedAt: 2020-04-15 06:19:00 -0400 (Wed, 15 Apr 2020) |
| EllapsedTime: 429.9 seconds |
| RetCode: 0 |
| Status: OK |
| CheckDir: decompTumor2Sig.Rcheck |
| Warnings: 0 |
##############################################################################
##############################################################################
###
### Running command:
###
### /home/biocbuild/bbs-3.10-bioc/R/bin/R CMD check --install=check:decompTumor2Sig.install-out.txt --library=/home/biocbuild/bbs-3.10-bioc/R/library --no-vignettes --timings decompTumor2Sig_2.2.0.tar.gz
###
##############################################################################
##############################################################################
* using log directory ‘/home/biocbuild/bbs-3.10-bioc/meat/decompTumor2Sig.Rcheck’
* using R version 3.6.3 (2020-02-29)
* using platform: x86_64-pc-linux-gnu (64-bit)
* using session charset: UTF-8
* using option ‘--no-vignettes’
* checking for file ‘decompTumor2Sig/DESCRIPTION’ ... OK
* checking extension type ... Package
* this is package ‘decompTumor2Sig’ version ‘2.2.0’
* package encoding: UTF-8
* checking package namespace information ... OK
* checking package dependencies ... OK
* checking if this is a source package ... OK
* checking if there is a namespace ... OK
* checking for hidden files and directories ... OK
* checking for portable file names ... OK
* checking for sufficient/correct file permissions ... OK
* checking whether package ‘decompTumor2Sig’ can be installed ... OK
* checking installed package size ... OK
* checking package directory ... OK
* checking ‘build’ directory ... OK
* checking DESCRIPTION meta-information ... OK
* checking top-level files ... OK
* checking for left-over files ... OK
* checking index information ... OK
* checking package subdirectories ... OK
* checking R files for non-ASCII characters ... OK
* checking R files for syntax errors ... OK
* checking whether the package can be loaded ... OK
* checking whether the package can be loaded with stated dependencies ... OK
* checking whether the package can be unloaded cleanly ... OK
* checking whether the namespace can be loaded with stated dependencies ... OK
* checking whether the namespace can be unloaded cleanly ... OK
* checking dependencies in R code ... OK
* checking S3 generic/method consistency ... OK
* checking replacement functions ... OK
* checking foreign function calls ... OK
* checking R code for possible problems ... OK
* checking Rd files ... OK
* checking Rd metadata ... OK
* checking Rd cross-references ... OK
* checking for missing documentation entries ... OK
* checking for code/documentation mismatches ... OK
* checking Rd \usage sections ... OK
* checking Rd contents ... OK
* checking for unstated dependencies in examples ... OK
* checking files in ‘vignettes’ ... OK
* checking examples ... OK
Examples with CPU or elapsed time > 5s
user system elapsed
plotExplainedVariance 98.372 0.016 98.810
convertGenomesFromVRanges 11.256 0.348 12.932
readGenomesFromVCF 4.984 0.120 5.109
* checking for unstated dependencies in vignettes ... OK
* checking package vignettes in ‘inst/doc’ ... OK
* checking running R code from vignettes ... SKIPPED
* checking re-building of vignette outputs ... SKIPPED
* checking PDF version of manual ... OK
* DONE
Status: OK
decompTumor2Sig.Rcheck/00install.out
############################################################################## ############################################################################## ### ### Running command: ### ### /home/biocbuild/bbs-3.10-bioc/R/bin/R CMD INSTALL decompTumor2Sig ### ############################################################################## ############################################################################## * installing to library ‘/home/biocbuild/bbs-3.10-bioc/R/library’ * installing *source* package ‘decompTumor2Sig’ ... ** using staged installation ** R ** inst ** byte-compile and prepare package for lazy loading ** help *** installing help indices ** building package indices ** installing vignettes ** testing if installed package can be loaded from temporary location ** testing if installed package can be loaded from final location ** testing if installed package keeps a record of temporary installation path * DONE (decompTumor2Sig)
decompTumor2Sig.Rcheck/decompTumor2Sig-Ex.timings
| name | user | system | elapsed | |
| composeGenomesFromExposures | 0.372 | 0.016 | 1.133 | |
| computeExplainedVariance | 0.296 | 0.004 | 0.887 | |
| convertAlexandrov2Shiraishi | 0.144 | 0.016 | 0.749 | |
| convertGenomesFromVRanges | 11.256 | 0.348 | 12.932 | |
| decomposeTumorGenomes | 3.456 | 0.092 | 4.221 | |
| determineSignatureDistances | 0.136 | 0.008 | 0.807 | |
| downgradeShiraishiSignatures | 0.004 | 0.004 | 0.028 | |
| evaluateDecompositionQuality | 0.364 | 0.004 | 1.022 | |
| getGenomesFromMutFeatData | 0.696 | 0.000 | 0.855 | |
| getSignaturesFromEstParam | 0.228 | 0.004 | 0.240 | |
| isAlexandrovSet | 0.112 | 0.004 | 0.801 | |
| isExposureSet | 3.268 | 0.080 | 4.017 | |
| isShiraishiSet | 0.112 | 0.012 | 0.795 | |
| isSignatureSet | 0.104 | 0.004 | 0.886 | |
| mapSignatureSets | 0.236 | 0.000 | 0.896 | |
| plotDecomposedContribution | 0.488 | 0.000 | 1.154 | |
| plotExplainedVariance | 98.372 | 0.016 | 98.810 | |
| plotMutationDistribution | 3.120 | 0.008 | 3.869 | |
| readAlexandrovSignatures | 0.128 | 0.004 | 0.785 | |
| readGenomesFromMPF | 3.688 | 0.132 | 3.853 | |
| readGenomesFromVCF | 4.984 | 0.120 | 5.109 | |
| readShiraishiSignatures | 0.008 | 0.000 | 0.006 | |
| sameSignatureFormat | 0.180 | 0.000 | 0.968 | |