| Back to Multiple platform build/check report for BioC 3.10 | 
 | 
This page was generated on 2020-04-15 12:16:57 -0400 (Wed, 15 Apr 2020).
| Package 358/1823 | Hostname | OS / Arch | INSTALL | BUILD | CHECK | BUILD BIN | ||||||
| convert 1.62.0 Yee Hwa (Jean) Yang 
 | malbec1 | Linux (Ubuntu 18.04.4 LTS) / x86_64 | OK | OK | OK |  | ||||||
| tokay1 | Windows Server 2012 R2 Standard / x64 | [ OK ] | OK | OK | OK |  | ||||||
| merida1 | OS X 10.11.6 El Capitan / x86_64 | OK | OK | OK | OK |  | 
| Package: convert | 
| Version: 1.62.0 | 
| Command: C:\cygwin\bin\curl.exe -O https://malbec1.bioconductor.org/BBS/3.10/bioc/src/contrib/convert_1.62.0.tar.gz && rm -rf convert.buildbin-libdir && mkdir convert.buildbin-libdir && C:\Users\biocbuild\bbs-3.10-bioc\R\bin\R.exe CMD INSTALL --merge-multiarch --build --library=convert.buildbin-libdir convert_1.62.0.tar.gz && C:\Users\biocbuild\bbs-3.10-bioc\R\bin\R.exe CMD INSTALL convert_1.62.0.zip && rm convert_1.62.0.tar.gz convert_1.62.0.zip | 
| StartedAt: 2020-04-14 18:39:36 -0400 (Tue, 14 Apr 2020) | 
| EndedAt: 2020-04-14 18:39:56 -0400 (Tue, 14 Apr 2020) | 
| EllapsedTime: 19.7 seconds | 
| RetCode: 0 | 
| Status: OK | 
##############################################################################
##############################################################################
###
### Running command:
###
###   C:\cygwin\bin\curl.exe -O https://malbec1.bioconductor.org/BBS/3.10/bioc/src/contrib/convert_1.62.0.tar.gz && rm -rf convert.buildbin-libdir && mkdir convert.buildbin-libdir && C:\Users\biocbuild\bbs-3.10-bioc\R\bin\R.exe CMD INSTALL --merge-multiarch --build --library=convert.buildbin-libdir convert_1.62.0.tar.gz && C:\Users\biocbuild\bbs-3.10-bioc\R\bin\R.exe CMD INSTALL convert_1.62.0.zip && rm convert_1.62.0.tar.gz convert_1.62.0.zip
###
##############################################################################
##############################################################################
  % Total    % Received % Xferd  Average Speed   Time    Time     Time  Current
                                 Dload  Upload   Total   Spent    Left  Speed
  0     0    0     0    0     0      0      0 --:--:-- --:--:-- --:--:--     0
100  5103  100  5103    0     0   119k      0 --:--:-- --:--:-- --:--:--  131k
install for i386
* installing *source* package 'convert' ...
** using staged installation
** R
** byte-compile and prepare package for lazy loading
** help
*** installing help indices
  converting help for package 'convert'
    finding HTML links ... done
    coerce                                  html  
** building package indices
** installing vignettes
** testing if installed package can be loaded from temporary location
** testing if installed package can be loaded from final location
** testing if installed package keeps a record of temporary installation path
install for x64
* installing *source* package 'convert' ...
** testing if installed package can be loaded
* MD5 sums
packaged installation of 'convert' as convert_1.62.0.zip
* DONE (convert)
* installing to library 'C:/Users/biocbuild/bbs-3.10-bioc/R/library'
package 'convert' successfully unpacked and MD5 sums checked