| Back to Multiple platform build/check report for BioC 3.10 |
|
This page was generated on 2020-04-15 12:16:57 -0400 (Wed, 15 Apr 2020).
| Package 358/1823 | Hostname | OS / Arch | INSTALL | BUILD | CHECK | BUILD BIN | ||||||
| convert 1.62.0 Yee Hwa (Jean) Yang
| malbec1 | Linux (Ubuntu 18.04.4 LTS) / x86_64 | OK | OK | OK | |||||||
| tokay1 | Windows Server 2012 R2 Standard / x64 | OK | OK | [ OK ] | OK | |||||||
| merida1 | OS X 10.11.6 El Capitan / x86_64 | OK | OK | OK | OK |
| Package: convert |
| Version: 1.62.0 |
| Command: C:\Users\biocbuild\bbs-3.10-bioc\R\bin\R.exe CMD check --force-multiarch --install=check:convert.install-out.txt --library=C:\Users\biocbuild\bbs-3.10-bioc\R\library --no-vignettes --timings convert_1.62.0.tar.gz |
| StartedAt: 2020-04-15 02:18:52 -0400 (Wed, 15 Apr 2020) |
| EndedAt: 2020-04-15 02:19:42 -0400 (Wed, 15 Apr 2020) |
| EllapsedTime: 50.4 seconds |
| RetCode: 0 |
| Status: OK |
| CheckDir: convert.Rcheck |
| Warnings: 0 |
##############################################################################
##############################################################################
###
### Running command:
###
### C:\Users\biocbuild\bbs-3.10-bioc\R\bin\R.exe CMD check --force-multiarch --install=check:convert.install-out.txt --library=C:\Users\biocbuild\bbs-3.10-bioc\R\library --no-vignettes --timings convert_1.62.0.tar.gz
###
##############################################################################
##############################################################################
* using log directory 'C:/Users/biocbuild/bbs-3.10-bioc/meat/convert.Rcheck'
* using R version 3.6.3 (2020-02-29)
* using platform: x86_64-w64-mingw32 (64-bit)
* using session charset: ISO8859-1
* using option '--no-vignettes'
* checking for file 'convert/DESCRIPTION' ... OK
* this is package 'convert' version '1.62.0'
* checking package namespace information ... OK
* checking package dependencies ... OK
* checking if this is a source package ... OK
* checking if there is a namespace ... OK
* checking for hidden files and directories ... OK
* checking for portable file names ... OK
* checking whether package 'convert' can be installed ... OK
* checking installed package size ... OK
* checking package directory ... OK
* checking 'build' directory ... OK
* checking DESCRIPTION meta-information ... OK
* checking top-level files ... OK
* checking for left-over files ... OK
* checking index information ... OK
* checking package subdirectories ... OK
* checking R files for non-ASCII characters ... OK
* checking R files for syntax errors ... OK
* loading checks for arch 'i386'
** checking whether the package can be loaded ... OK
** checking whether the package can be loaded with stated dependencies ... OK
** checking whether the package can be unloaded cleanly ... OK
** checking whether the namespace can be loaded with stated dependencies ... OK
** checking whether the namespace can be unloaded cleanly ... OK
* loading checks for arch 'x64'
** checking whether the package can be loaded ... OK
** checking whether the package can be loaded with stated dependencies ... OK
** checking whether the package can be unloaded cleanly ... OK
** checking whether the namespace can be loaded with stated dependencies ... OK
** checking whether the namespace can be unloaded cleanly ... OK
* checking dependencies in R code ... NOTE
Packages in Depends field not imported from:
'Biobase' 'limma' 'marray' 'methods'
These packages need to be imported from (in the NAMESPACE file)
for when this namespace is loaded but not attached.
* checking S3 generic/method consistency ... OK
* checking replacement functions ... OK
* checking foreign function calls ... OK
* checking R code for possible problems ... NOTE
coerce,MAList-ExpressionSet: no visible global function definition for
'new'
coerce,MAList-ExpressionSet: no visible global function definition for
'notes<-'
coerce,MAList-marrayNorm: no visible global function definition for
'new'
coerce,RGList-NChannelSet: no visible global function definition for
'new'
coerce,RGList-NChannelSet: no visible binding for global variable 'df'
coerce,RGList-marrayRaw: no visible global function definition for
'new'
coerce,marrayNorm-ExpressionSet: no visible global function definition
for 'new'
coerce,marrayNorm-ExpressionSet: no visible global function definition
for 'notes<-'
coerce,marrayNorm-ExpressionSet: no visible global function definition
for 'maM'
coerce,marrayNorm-ExpressionSet: no visible global function definition
for 'maLabels'
coerce,marrayNorm-ExpressionSet: no visible global function definition
for 'maGnames'
coerce,marrayNorm-ExpressionSet: no visible global function definition
for 'maInfo'
coerce,marrayNorm-ExpressionSet: no visible global function definition
for 'maTargets'
coerce,marrayNorm-MAList: no visible global function definition for
'new'
coerce,marrayNorm-MAList: no visible global function definition for
'getClass'
coerce,marrayRaw-NChannelSet: no visible global function definition for
'maRf'
coerce,marrayRaw-NChannelSet: no visible global function definition for
'maGf'
coerce,marrayRaw-NChannelSet: no visible global function definition for
'maRb'
coerce,marrayRaw-NChannelSet: no visible global function definition for
'maGb'
coerce,marrayRaw-NChannelSet: no visible binding for global variable
'assayDataNew'
coerce,marrayRaw-NChannelSet: no visible global function definition for
'maInfo'
coerce,marrayRaw-NChannelSet: no visible global function definition for
'maTargets'
coerce,marrayRaw-NChannelSet: no visible global function definition for
'new'
coerce,marrayRaw-NChannelSet: no visible global function definition for
'maGnames'
coerce,marrayRaw-NChannelSet: no visible global function definition for
'phenoData<-'
coerce,marrayRaw-NChannelSet: no visible global function definition for
'sampleNames'
coerce,marrayRaw-NChannelSet: no visible global function definition for
'sampleNames<-'
coerce,marrayRaw-NChannelSet: no visible global function definition for
'maLabels'
coerce,marrayRaw-NChannelSet: no visible global function definition for
'featureData<-'
coerce,marrayRaw-NChannelSet: no visible global function definition for
'featureNames<-'
coerce,marrayRaw-RGList: no visible global function definition for
'new'
Undefined global functions or variables:
assayDataNew df featureData<- featureNames<- getClass maGb maGf
maGnames maInfo maLabels maM maRb maRf maTargets new notes<-
phenoData<- sampleNames sampleNames<-
Consider adding
importFrom("methods", "getClass", "new")
importFrom("stats", "df")
to your NAMESPACE file (and ensure that your DESCRIPTION Imports field
contains 'methods').
* checking Rd files ... OK
* checking Rd metadata ... OK
* checking Rd cross-references ... OK
* checking for missing documentation entries ... OK
* checking for code/documentation mismatches ... OK
* checking Rd \usage sections ... OK
* checking Rd contents ... OK
* checking for unstated dependencies in examples ... OK
* checking files in 'vignettes' ... OK
* checking examples ...
** running examples for arch 'i386' ... OK
** running examples for arch 'x64' ... OK
* checking for unstated dependencies in vignettes ... OK
* checking package vignettes in 'inst/doc' ... OK
* checking running R code from vignettes ... SKIPPED
* checking re-building of vignette outputs ... SKIPPED
* checking PDF version of manual ... OK
* DONE
Status: 2 NOTEs
See
'C:/Users/biocbuild/bbs-3.10-bioc/meat/convert.Rcheck/00check.log'
for details.
convert.Rcheck/00install.out
##############################################################################
##############################################################################
###
### Running command:
###
### C:\cygwin\bin\curl.exe -O https://malbec1.bioconductor.org/BBS/3.10/bioc/src/contrib/convert_1.62.0.tar.gz && rm -rf convert.buildbin-libdir && mkdir convert.buildbin-libdir && C:\Users\biocbuild\bbs-3.10-bioc\R\bin\R.exe CMD INSTALL --merge-multiarch --build --library=convert.buildbin-libdir convert_1.62.0.tar.gz && C:\Users\biocbuild\bbs-3.10-bioc\R\bin\R.exe CMD INSTALL convert_1.62.0.zip && rm convert_1.62.0.tar.gz convert_1.62.0.zip
###
##############################################################################
##############################################################################
% Total % Received % Xferd Average Speed Time Time Time Current
Dload Upload Total Spent Left Speed
0 0 0 0 0 0 0 0 --:--:-- --:--:-- --:--:-- 0
100 5103 100 5103 0 0 119k 0 --:--:-- --:--:-- --:--:-- 131k
install for i386
* installing *source* package 'convert' ...
** using staged installation
** R
** byte-compile and prepare package for lazy loading
** help
*** installing help indices
converting help for package 'convert'
finding HTML links ... done
coerce html
** building package indices
** installing vignettes
** testing if installed package can be loaded from temporary location
** testing if installed package can be loaded from final location
** testing if installed package keeps a record of temporary installation path
install for x64
* installing *source* package 'convert' ...
** testing if installed package can be loaded
* MD5 sums
packaged installation of 'convert' as convert_1.62.0.zip
* DONE (convert)
* installing to library 'C:/Users/biocbuild/bbs-3.10-bioc/R/library'
package 'convert' successfully unpacked and MD5 sums checked
|
convert.Rcheck/examples_i386/convert-Ex.timings
|
convert.Rcheck/examples_x64/convert-Ex.timings
|