| Back to Multiple platform build/check report for BioC 3.10 |
|
This page was generated on 2020-04-15 12:50:32 -0400 (Wed, 15 Apr 2020).
| Package 300/1823 | Hostname | OS / Arch | INSTALL | BUILD | CHECK | BUILD BIN | ||||||
| cliqueMS 1.0.2 Oriol Senan Campos
| malbec1 | Linux (Ubuntu 18.04.4 LTS) / x86_64 | OK | OK | OK | |||||||
| tokay1 | Windows Server 2012 R2 Standard / x64 | OK | OK | OK | OK | |||||||
| merida1 | OS X 10.11.6 El Capitan / x86_64 | [ OK ] | OK | OK | OK |
| Package: cliqueMS |
| Version: 1.0.2 |
| Command: /Library/Frameworks/R.framework/Versions/Current/Resources/bin/R CMD INSTALL cliqueMS |
| StartedAt: 2020-04-14 19:21:51 -0400 (Tue, 14 Apr 2020) |
| EndedAt: 2020-04-14 19:23:07 -0400 (Tue, 14 Apr 2020) |
| EllapsedTime: 75.2 seconds |
| RetCode: 0 |
| Status: OK |
##############################################################################
##############################################################################
###
### Running command:
###
### /Library/Frameworks/R.framework/Versions/Current/Resources/bin/R CMD INSTALL cliqueMS
###
##############################################################################
##############################################################################
* installing to library ‘/Library/Frameworks/R.framework/Versions/3.6/Resources/library’
* installing *source* package ‘cliqueMS’ ...
** using staged installation
** libs
clang++ -std=gnu++11 -I"/Library/Frameworks/R.framework/Resources/include" -DNDEBUG -I"/Library/Frameworks/R.framework/Versions/3.6/Resources/library/Rcpp/include" -I"/Library/Frameworks/R.framework/Versions/3.6/Resources/library/BH/include" -I"/Library/Frameworks/R.framework/Versions/3.6/Resources/library/RcppArmadillo/include" -isysroot /Library/Developer/CommandLineTools/SDKs/MacOSX.sdk -I/usr/local/include -fopenmp -fPIC -Wall -g -O2 -c RcppExports.cpp -o RcppExports.o
clang++ -std=gnu++11 -I"/Library/Frameworks/R.framework/Resources/include" -DNDEBUG -I"/Library/Frameworks/R.framework/Versions/3.6/Resources/library/Rcpp/include" -I"/Library/Frameworks/R.framework/Versions/3.6/Resources/library/BH/include" -I"/Library/Frameworks/R.framework/Versions/3.6/Resources/library/RcppArmadillo/include" -isysroot /Library/Developer/CommandLineTools/SDKs/MacOSX.sdk -I/usr/local/include -fopenmp -fPIC -Wall -g -O2 -c findAnnotationR.cpp -o findAnnotationR.o
In file included from findAnnotationR.cpp:1:
./annotationCliqueMSR.h:739:5: warning: variable 'completeroundscore' is uninitialized when used here [-Wuninitialized]
completeroundscore += *ritv;
^~~~~~~~~~~~~~~~~~
./annotationCliqueMSR.h:733:28: note: initialize the variable 'completeroundscore' to silence this warning
double completeroundscore,remainderroundscore = 0;
^
= 0.0
1 warning generated.
clang++ -std=gnu++11 -I"/Library/Frameworks/R.framework/Resources/include" -DNDEBUG -I"/Library/Frameworks/R.framework/Versions/3.6/Resources/library/Rcpp/include" -I"/Library/Frameworks/R.framework/Versions/3.6/Resources/library/BH/include" -I"/Library/Frameworks/R.framework/Versions/3.6/Resources/library/RcppArmadillo/include" -isysroot /Library/Developer/CommandLineTools/SDKs/MacOSX.sdk -I/usr/local/include -fopenmp -fPIC -Wall -g -O2 -c findCliquesR.cpp -o findCliquesR.o
clang++ -std=gnu++11 -I"/Library/Frameworks/R.framework/Resources/include" -DNDEBUG -I"/Library/Frameworks/R.framework/Versions/3.6/Resources/library/Rcpp/include" -I"/Library/Frameworks/R.framework/Versions/3.6/Resources/library/BH/include" -I"/Library/Frameworks/R.framework/Versions/3.6/Resources/library/RcppArmadillo/include" -isysroot /Library/Developer/CommandLineTools/SDKs/MacOSX.sdk -I/usr/local/include -fopenmp -fPIC -Wall -g -O2 -c findIsotopesR.cpp -o findIsotopesR.o
clang++ -std=gnu++11 -dynamiclib -Wl,-headerpad_max_install_names -undefined dynamic_lookup -single_module -multiply_defined suppress -L/Library/Frameworks/R.framework/Resources/lib -L/usr/local/lib -o cliqueMS.so RcppExports.o findAnnotationR.o findCliquesR.o findIsotopesR.o -fopenmp -L/Library/Frameworks/R.framework/Resources/lib -lRlapack -L/Library/Frameworks/R.framework/Resources/lib -lRblas -L/usr/local/gfortran/lib/gcc/x86_64-apple-darwin15/6.1.0 -L/usr/local/gfortran/lib -lgfortran -lquadmath -lm -F/Library/Frameworks/R.framework/.. -framework R -Wl,-framework -Wl,CoreFoundation
installing to /Library/Frameworks/R.framework/Versions/3.6/Resources/library/00LOCK-cliqueMS/00new/cliqueMS/libs
** R
** data
** inst
** byte-compile and prepare package for lazy loading
** help
*** installing help indices
** building package indices
** installing vignettes
** testing if installed package can be loaded from temporary location
** checking absolute paths in shared objects and dynamic libraries
** testing if installed package can be loaded from final location
** testing if installed package keeps a record of temporary installation path
* DONE (cliqueMS)